Workbook

Sheet Roster
A2: ="Choose Players from Team by dropdown for a game of "&Game1!C4&" players" -> Choose Players from Team by dropdown for a game of 12 players | E2: Add or Remove Available Players
A3: Player | B3: Name | E3: Team
A4: 1 | B4: Patrick | E4: David
A5: =IF(A4<Game1!$C$4,A4+1,"") -> 2 | B5: John | E5: John
A6: =IF(A5<Game1!$C$4,A5+1,"") -> 3 | B6: Jonathan | E6: Jonathan
A7: =IF(A6<Game1!$C$4,A6+1,"") -> 4 | B7: Mark | E7: Patrick
A8: =IF(A7<Game1!$C$4,A7+1,"") -> 5 | B8: Marvin | E8: Marvin
A9: =IF(A8<Game1!$C$4,A8+1,"") -> 6 | B9: Thomas | E9: Thomas
A10: =IF(A9<Game1!$C$4,A9+1,"") -> 7 | B10: Scott | E10: Scott
A11: =IF(A10<Game1!$C$4,A10+1,"") -> 8 | B11: Jason | E11: Jason
A12: =IF(A11<Game1!$C$4,A11+1,"") -> 9 | B12: Albert | E12: Albert
A13: =IF(A12<Game1!$C$4,A12+1,"") -> 10 | B13: Brandon | E13: Brandon
A14: =IF(A13<Game1!$C$4,A13+1,"") -> 11 | B14: Chris | E14: Chris
A15: =IF(A14<Game1!$C$4,A14+1,"") -> 12 | B15: Michael | E15: Michael
A16: =IF(A15<Game1!$C$4,A15+1,"") | E16: Samer
A17: =IF(A16<Game1!$C$4,A16+1,"") | E17: Sean
A18: =IF(A17<Game1!$C$4,A17+1,"") | E18: William
A19: =IF(A18<Game1!$C$4,A18+1,"") | E19: Brian
A20: =IF(A19<Game1!$C$4,A19+1,"") | E20: Mark
A21: =IF(A20<Game1!$C$4,A20+1,"") | E21: Richard
A22: =IF(A19<=Game1!$C$4,A19+1,"")
A23: =IF(A22<=Game1!$C$4,A22+1,"")
A24: =IF(A23<=Game1!$C$4,A23+1,"")
A25: =IF(A24<=Game1!$C$4,A24+1,"")
A26: =IF(A25<=Game1!$C$4,A25+1,"")
A27: =IF(A26<=Game1!$C$4,A26+1,"")
A28: =IF(A27<=Game1!$C$4,A27+1,"")
A29: =IF(A28<=Game1!$C$4,A28+1,"")
A30: =IF(A29<=Game1!$C$4,A29+1,"")
A31: =IF(A30<=Game1!$C$4,A30+1,"")

Sheet Game1
B1: ="Game "&C7 -> Game 1 | D1: cell E5 formula | E1: =_xlfn.FORMULATEXT(E5) -> =XLOOKUP(LET(Player,TRANSPOSE(SEQUENCE($C$5,$C$6,$C$7)),IFS(Player<=$C$4,Player,Player<=$C$4*2,Player-$C$4,Player<=$C$4*3,Player-$C$4*2,Player<=$C$4*4,Player-$C$4*3,Player<=$C$4*5,Player-$C$4*4,Player>$C$4*5,Player-$C$4*4)),Roster[Player],Roster[Name],"NOT ON ROSTER")
O2: Highlight Player Dropdown
C3: User Inputs | E3: Periods | O3: Jonathan
B4: # of players | C4: 12 | E4: {=_xlfn.SEQUENCE(1,C5,1,1)} -> 1 | F4: 2 | G4: 3 | H4: 4 | I4: 5 | J4: 6 | K4: 7 | L4: 8 | M4: 9 | P4: Player | Q4: Periods Played
B5: periods per game | C5: 9 | E5: {=_xlfn.XLOOKUP(_xlfn.LET(_xlpm.Player,TRANSPOSE(_xlfn.SEQUENCE($C$5,$C$6,$C$7)),_xlfn.IFS(_xlpm.Player<=$C$4,_xlpm.Player,_xlpm.Player<=$C$4*2,_xlpm.Player-$C$4,_xlpm.Player<=$C$4*3,_xlpm.Player-$C$4*2,_xlpm.Player<=$C$4*4,_xlpm.Player-$C$4*3,_xlpm.Player<=$C$4*5,_xlpm.Player-$C$4*4,_xlpm.Player>$C$4*5,_xlpm.Player-$C$4*4)),Roster[Player],Roster[Name],"NOT ON ROSTER")} -> Patrick | F5: Thomas | G5: Chris | H5: Mark | I5: Albert | J5: John | K5: Scott | L5: Michael | M5: Marvin | P5: {=_xlfn.XLOOKUP(_xlfn.SEQUENCE(C4),Roster[Player],Roster[Name])} -> Patrick | Q5: =IF(COUNTIF(_xlfn.ANCHORARRAY($E$5),P5)=0,"",COUNTIF(_xlfn.ANCHORARRAY($E$5),P5)) -> 4
B6: players per period | C6: 5 | E6: John | F6: Scott | G6: Michael | H6: Marvin | I6: Brandon | J6: Jonathan | K6: Jason | L6: Patrick | M6: Thomas | P6: John | Q6: =IF(COUNTIF(_xlfn.ANCHORARRAY($E$5),P6)=0,"",COUNTIF(_xlfn.ANCHORARRAY($E$5),P6)) -> 4
B7: Start Player # | C7: 1 | E7: Jonathan | F7: Jason | G7: Patrick | H7: Thomas | I7: Chris | J7: Mark | K7: Albert | L7: John | M7: Scott | P7: Jonathan | Q7: =IF(COUNTIF(_xlfn.ANCHORARRAY($E$5),P7)=0,"",COUNTIF(_xlfn.ANCHORARRAY($E$5),P7)) -> 4
E8: Mark | F8: Albert | G8: John | H8: Scott | I8: Michael | J8: Marvin | K8: Brandon | L8: Jonathan | M8: Jason | P8: Mark | Q8: =IF(COUNTIF(_xlfn.ANCHORARRAY($E$5),P8)=0,"",COUNTIF(_xlfn.ANCHORARRAY($E$5),P8)) -> 4
E9: Marvin | F9: Brandon | G9: Jonathan | H9: Jason | I9: Patrick | J9: Thomas | K9: Chris | L9: Mark | M9: Albert | P9: Marvin | Q9: =IF(COUNTIF(_xlfn.ANCHORARRAY($E$5),P9)=0,"",COUNTIF(_xlfn.ANCHORARRAY($E$5),P9)) -> 4
P10: Thomas | Q10: =IF(COUNTIF(_xlfn.ANCHORARRAY($E$5),P10)=0,"",COUNTIF(_xlfn.ANCHORARRAY($E$5),P10)) -> 4
P11: Scott | Q11: =IF(COUNTIF(_xlfn.ANCHORARRAY($E$5),P11)=0,"",COUNTIF(_xlfn.ANCHORARRAY($E$5),P11)) -> 4
P12: Jason | Q12: =IF(COUNTIF(_xlfn.ANCHORARRAY($E$5),P12)=0,"",COUNTIF(_xlfn.ANCHORARRAY($E$5),P12)) -> 4
P13: Albert | Q13: =IF(COUNTIF(_xlfn.ANCHORARRAY($E$5),P13)=0,"",COUNTIF(_xlfn.ANCHORARRAY($E$5),P13)) -> 4
P14: Brandon | Q14: =IF(COUNTIF(_xlfn.ANCHORARRAY($E$5),P14)=0,"",COUNTIF(_xlfn.ANCHORARRAY($E$5),P14)) -> 3
P15: Chris | Q15: =IF(COUNTIF(_xlfn.ANCHORARRAY($E$5),P15)=0,"",COUNTIF(_xlfn.ANCHORARRAY($E$5),P15)) -> 3
P16: Michael | Q16: =IF(COUNTIF(_xlfn.ANCHORARRAY($E$5),P16)=0,"",COUNTIF(_xlfn.ANCHORARRAY($E$5),P16)) -> 3
Q17: =IF(COUNTIF(_xlfn.ANCHORARRAY($E$5),P17)=0,"",COUNTIF(_xlfn.ANCHORARRAY($E$5),P17))
Q18: =IF(COUNTIF(_xlfn.ANCHORARRAY($E$5),P18)=0,"",COUNTIF(_xlfn.ANCHORARRAY($E$5),P18))
Q19: =IF(COUNTIF(_xlfn.ANCHORARRAY($E$5),P19)=0,"",COUNTIF(_xlfn.ANCHORARRAY($E$5),P19))
Q20: =IF(COUNTIF(_xlfn.ANCHORARRAY($E$5),P20)=0,"",COUNTIF(_xlfn.ANCHORARRAY($E$5),P20))
Q21: =IF(COUNTIF(_xlfn.ANCHORARRAY($E$5),P21)=0,"",COUNTIF(_xlfn.ANCHORARRAY($E$5),P21))
Q22: =IF(COUNTIF(_xlfn.ANCHORARRAY($E$5),P22)=0,"",COUNTIF(_xlfn.ANCHORARRAY($E$5),P22))
Q23: =IF(COUNTIF(_xlfn.ANCHORARRAY($E$5),P23)=0,"",COUNTIF(_xlfn.ANCHORARRAY($E$5),P23))
Q24: =IF(COUNTIF(_xlfn.ANCHORARRAY($E$5),P24)=0,"",COUNTIF(_xlfn.ANCHORARRAY($E$5),P24))

Sheet Game2
B1: Game 2 | E1: =_xlfn.FORMULATEXT(E5) -> =XLOOKUP(LET(Player,TRANSPOSE(SEQUENCE($C$5,$C$6,$C$7)),IFS(Player<=$C$4,Player,Player<=$C$4*2,Player-$C$4,Player<=$C$4*3,Player-$C$4*2,Player<=$C$4*4,Player-$C$4*3,Player<=$C$4*5,Player-$C$4*4,Player>$C$4*5,Player-$C$4*4)),Roster[Player],Roster[Name],"NOT ON ROSTER")
O2: Highlight Player Dropdown
C3: =SUM(['Player Allocation Gm1':'Player Allocation Gm6']!B17) | E3: Periods | O3: Michael
B4: # of players | C4: 12 | E4: {=_xlfn.SEQUENCE(1,C5,1,1)} -> 1 | F4: 2 | G4: 3 | H4: 4 | I4: 5 | J4: 6 | K4: 7 | L4: 8 | M4: 9 | P4: Player | Q4: Periods Played
B5: periods per game | C5: 9 | E5: {=_xlfn.XLOOKUP(_xlfn.LET(_xlpm.Player,TRANSPOSE(_xlfn.SEQUENCE($C$5,$C$6,$C$7)),_xlfn.IFS(_xlpm.Player<=$C$4,_xlpm.Player,_xlpm.Player<=$C$4*2,_xlpm.Player-$C$4,_xlpm.Player<=$C$4*3,_xlpm.Player-$C$4*2,_xlpm.Player<=$C$4*4,_xlpm.Player-$C$4*3,_xlpm.Player<=$C$4*5,_xlpm.Player-$C$4*4,_xlpm.Player>$C$4*5,_xlpm.Player-$C$4*4)),Roster[Player],Roster[Name],"NOT ON ROSTER")} -> Jonathan | F5: Jason | G5: Patrick | H5: Thomas | I5: Chris | J5: Mark | K5: Albert | L5: John | M5: Scott | P5: {=_xlfn.XLOOKUP(_xlfn.SEQUENCE(C4),Roster[Player],Roster[Name])} -> Patrick | Q5: =COUNTIF(_xlfn.ANCHORARRAY($E$5),P5) -> 3
B6: players per period | C6: 5 | E6: Mark | F6: Albert | G6: John | H6: Scott | I6: Michael | J6: Marvin | K6: Brandon | L6: Jonathan | M6: Jason | P6: John | Q6: =COUNTIF(_xlfn.ANCHORARRAY($E$5),P6) -> 3
B7: Start Player # | C7: 3 | E7: Marvin | F7: Brandon | G7: Jonathan | H7: Jason | I7: Patrick | J7: Thomas | K7: Chris | L7: Mark | M7: Albert | P7: Jonathan | Q7: =COUNTIF(_xlfn.ANCHORARRAY($E$5),P7) -> 4
E8: Thomas | F8: Chris | G8: Mark | H8: Albert | I8: John | J8: Scott | K8: Michael | L8: Marvin | M8: Brandon | P8: Mark | Q8: =COUNTIF(_xlfn.ANCHORARRAY($E$5),P8) -> 4
E9: Scott | F9: Michael | G9: Marvin | H9: Brandon | I9: Jonathan | J9: Jason | K9: Patrick | L9: Thomas | M9: Chris | P9: Marvin | Q9: =COUNTIF(_xlfn.ANCHORARRAY($E$5),P9) -> 4
P10: Thomas | Q10: =COUNTIF(_xlfn.ANCHORARRAY($E$5),P10) -> 4
P11: Scott | Q11: =COUNTIF(_xlfn.ANCHORARRAY($E$5),P11) -> 4
P12: Jason | Q12: =COUNTIF(_xlfn.ANCHORARRAY($E$5),P12) -> 4
P13: Albert | Q13: =COUNTIF(_xlfn.ANCHORARRAY($E$5),P13) -> 4
P14: Brandon | Q14: =COUNTIF(_xlfn.ANCHORARRAY($E$5),P14) -> 4
P15: Chris | Q15: =COUNTIF(_xlfn.ANCHORARRAY($E$5),P15) -> 4
P16: Michael | Q16: =COUNTIF(_xlfn.ANCHORARRAY($E$5),P16) -> 3

Sheet Game3
B1: Game 3 | E1: =_xlfn.FORMULATEXT(E5) -> =XLOOKUP(LET(Player,TRANSPOSE(SEQUENCE($C$5,$C$6,$C$7)),IFS(Player<=$C$4,Player,Player<=$C$4*2,Player-$C$4,Player<=$C$4*3,Player-$C$4*2,Player<=$C$4*4,Player-$C$4*3,Player<=$C$4*5,Player-$C$4*4,Player>$C$4*5,Player-$C$4*4)),Roster[Player],Roster[Name],"NOT ON ROSTER")
O2: Highlight Player Dropdown
C3: =SUM(['Player Allocation Gm1':'Player Allocation Gm6']!B17) | E3: Periods | O3: John
B4: # of players | C4: 12 | E4: {=_xlfn.SEQUENCE(1,C5,1,1)} -> 1 | F4: 2 | G4: 3 | H4: 4 | I4: 5 | J4: 6 | K4: 7 | L4: 8 | M4: 9 | P4: Player | Q4: Periods Played
B5: periods per game | C5: 9 | E5: {=_xlfn.XLOOKUP(_xlfn.LET(_xlpm.Player,TRANSPOSE(_xlfn.SEQUENCE($C$5,$C$6,$C$7)),_xlfn.IFS(_xlpm.Player<=$C$4,_xlpm.Player,_xlpm.Player<=$C$4*2,_xlpm.Player-$C$4,_xlpm.Player<=$C$4*3,_xlpm.Player-$C$4*2,_xlpm.Player<=$C$4*4,_xlpm.Player-$C$4*3,_xlpm.Player<=$C$4*5,_xlpm.Player-$C$4*4,_xlpm.Player>$C$4*5,_xlpm.Player-$C$4*4)),Roster[Player],Roster[Name],"NOT ON ROSTER")} -> Marvin | F5: Brandon | G5: Jonathan | H5: Jason | I5: Patrick | J5: Thomas | K5: Chris | L5: Mark | M5: Albert | P5: {=_xlfn.XLOOKUP(_xlfn.SEQUENCE(C4),Roster[Player],Roster[Name])} -> Patrick | Q5: =COUNTIF(_xlfn.ANCHORARRAY($E$5),P5) -> 4
B6: players per period | C6: 5 | E6: Thomas | F6: Chris | G6: Mark | H6: Albert | I6: John | J6: Scott | K6: Michael | L6: Marvin | M6: Brandon | P6: John | Q6: =COUNTIF(_xlfn.ANCHORARRAY($E$5),P6) -> 3
B7: Start Player # | C7: 5 | E7: Scott | F7: Michael | G7: Marvin | H7: Brandon | I7: Jonathan | J7: Jason | K7: Patrick | L7: Thomas | M7: Chris | P7: Jonathan | Q7: =COUNTIF(_xlfn.ANCHORARRAY($E$5),P7) -> 3
E8: Jason | F8: Patrick | G8: Thomas | H8: Chris | I8: Mark | J8: Albert | K8: John | L8: Scott | M8: Michael | P8: Mark | Q8: =COUNTIF(_xlfn.ANCHORARRAY($E$5),P8) -> 3
E9: Albert | F9: John | G9: Scott | H9: Michael | I9: Marvin | J9: Brandon | K9: Jonathan | L9: Jason | M9: Patrick | P9: Marvin | Q9: =COUNTIF(_xlfn.ANCHORARRAY($E$5),P9) -> 4
P10: Thomas | Q10: =COUNTIF(_xlfn.ANCHORARRAY($E$5),P10) -> 4
P11: Scott | Q11: =COUNTIF(_xlfn.ANCHORARRAY($E$5),P11) -> 4
P12: Jason | Q12: =COUNTIF(_xlfn.ANCHORARRAY($E$5),P12) -> 4
P13: Albert | Q13: =COUNTIF(_xlfn.ANCHORARRAY($E$5),P13) -> 4
P14: Brandon | Q14: =COUNTIF(_xlfn.ANCHORARRAY($E$5),P14) -> 4
P15: Chris | Q15: =COUNTIF(_xlfn.ANCHORARRAY($E$5),P15) -> 4
P16: Michael | Q16: =COUNTIF(_xlfn.ANCHORARRAY($E$5),P16) -> 4

Sheet Game4
B1: Game 4 | E1: =_xlfn.FORMULATEXT(E5) -> =XLOOKUP(LET(Player,TRANSPOSE(SEQUENCE($C$5,$C$6,$C$7)),IFS(Player<=$C$4,Player,Player<=$C$4*2,Player-$C$4,Player<=$C$4*3,Player-$C$4*2,Player<=$C$4*4,Player-$C$4*3,Player<=$C$4*5,Player-$C$4*4,Player>$C$4*5,Player-$C$4*4)),Roster[Player],Roster[Name],"NOT ON ROSTER")
O2: Highlight Player Dropdown
C3: =SUM(['Player Allocation Gm1':'Player Allocation Gm6']!B17) | E3: Periods | O3: Jonathan
B4: # of players | C4: 12 | E4: {=_xlfn.SEQUENCE(1,C5,1,1)} -> 1 | F4: 2 | G4: 3 | H4: 4 | I4: 5 | J4: 6 | K4: 7 | L4: 8 | M4: 9 | P4: Player | Q4: Periods Played
B5: periods per game | C5: 9 | E5: {=_xlfn.XLOOKUP(_xlfn.LET(_xlpm.Player,TRANSPOSE(_xlfn.SEQUENCE($C$5,$C$6,$C$7)),_xlfn.IFS(_xlpm.Player<=$C$4,_xlpm.Player,_xlpm.Player<=$C$4*2,_xlpm.Player-$C$4,_xlpm.Player<=$C$4*3,_xlpm.Player-$C$4*2,_xlpm.Player<=$C$4*4,_xlpm.Player-$C$4*3,_xlpm.Player<=$C$4*5,_xlpm.Player-$C$4*4,_xlpm.Player>$C$4*5,_xlpm.Player-$C$4*4)),Roster[Player],Roster[Name],"NOT ON ROSTER")} -> Scott | F5: Michael | G5: Marvin | H5: Brandon | I5: Jonathan | J5: Jason | K5: Patrick | L5: Thomas | M5: Chris | P5: {=_xlfn.XLOOKUP(_xlfn.SEQUENCE(C4),Roster[Player],Roster[Name])} -> Patrick | Q5: =COUNTIF(_xlfn.ANCHORARRAY($E$5),P5) -> 4
B6: players per period | C6: 5 | E6: Jason | F6: Patrick | G6: Thomas | H6: Chris | I6: Mark | J6: Albert | K6: John | L6: Scott | M6: Michael | P6: John | Q6: =COUNTIF(_xlfn.ANCHORARRAY($E$5),P6) -> 4
B7: Start Player # | C7: 7 | E7: Albert | F7: John | G7: Scott | H7: Michael | I7: Marvin | J7: Brandon | K7: Jonathan | L7: Jason | M7: Patrick | P7: Jonathan | Q7: =COUNTIF(_xlfn.ANCHORARRAY($E$5),P7) -> 4
E8: Brandon | F8: Jonathan | G8: Jason | H8: Patrick | I8: Thomas | J8: Chris | K8: Mark | L8: Albert | M8: John | P8: Mark | Q8: =COUNTIF(_xlfn.ANCHORARRAY($E$5),P8) -> 3
E9: Chris | F9: Mark | G9: Albert | H9: John | I9: Scott | J9: Michael | K9: Marvin | L9: Brandon | M9: Jonathan | P9: Marvin | Q9: =COUNTIF(_xlfn.ANCHORARRAY($E$5),P9) -> 3
P10: Thomas | Q10: =COUNTIF(_xlfn.ANCHORARRAY($E$5),P10) -> 3
P11: Scott | Q11: =COUNTIF(_xlfn.ANCHORARRAY($E$5),P11) -> 4
P12: Jason | Q12: =COUNTIF(_xlfn.ANCHORARRAY($E$5),P12) -> 4
P13: Albert | Q13: =COUNTIF(_xlfn.ANCHORARRAY($E$5),P13) -> 4
P14: Brandon | Q14: =COUNTIF(_xlfn.ANCHORARRAY($E$5),P14) -> 4
P15: Chris | Q15: =COUNTIF(_xlfn.ANCHORARRAY($E$5),P15) -> 4
P16: Michael | Q16: =COUNTIF(_xlfn.ANCHORARRAY($E$5),P16) -> 4

Sheet Game5
B1: Game 5 | E1: =_xlfn.FORMULATEXT(E5) -> =XLOOKUP(LET(Player,TRANSPOSE(SEQUENCE($C$5,$C$6,$C$7)),IFS(Player<=$C$4,Player,Player<=$C$4*2,Player-$C$4,Player<=$C$4*3,Player-$C$4*2,Player<=$C$4*4,Player-$C$4*3,Player<=$C$4*5,Player-$C$4*4,Player>$C$4*5,Player-$C$4*4)),Roster[Player],Roster[Name],"NOT ON ROSTER")
O2: Highlight Player Dropdown
C3: =SUM(['Player Allocation Gm1':'Player Allocation Gm6']!B17) | E3: Periods | O3: Mark
B4: # of players | C4: 12 | E4: {=_xlfn.SEQUENCE(1,C5,1,1)} -> 1 | F4: 2 | G4: 3 | H4: 4 | I4: 5 | J4: 6 | K4: 7 | L4: 8 | M4: 9 | P4: Player | Q4: Periods Played
B5: periods per game | C5: 9 | E5: {=_xlfn.XLOOKUP(_xlfn.LET(_xlpm.Player,TRANSPOSE(_xlfn.SEQUENCE($C$5,$C$6,$C$7)),_xlfn.IFS(_xlpm.Player<=$C$4,_xlpm.Player,_xlpm.Player<=$C$4*2,_xlpm.Player-$C$4,_xlpm.Player<=$C$4*3,_xlpm.Player-$C$4*2,_xlpm.Player<=$C$4*4,_xlpm.Player-$C$4*3,_xlpm.Player<=$C$4*5,_xlpm.Player-$C$4*4,_xlpm.Player>$C$4*5,_xlpm.Player-$C$4*4)),Roster[Player],Roster[Name],"NOT ON ROSTER")} -> Albert | F5: John | G5: Scott | H5: Michael | I5: Marvin | J5: Brandon | K5: Jonathan | L5: Jason | M5: Patrick | P5: {=_xlfn.XLOOKUP(_xlfn.SEQUENCE(C4),Roster[Player],Roster[Name])} -> Patrick | Q5: =COUNTIF(_xlfn.ANCHORARRAY($E$5),P5) -> 4
B6: players per period | C6: 5 | E6: Brandon | F6: Jonathan | G6: Jason | H6: Patrick | I6: Thomas | J6: Chris | K6: Mark | L6: Albert | M6: John | P6: John | Q6: =COUNTIF(_xlfn.ANCHORARRAY($E$5),P6) -> 4
B7: Start Player # | C7: 9 | E7: Chris | F7: Mark | G7: Albert | H7: John | I7: Scott | J7: Michael | K7: Marvin | L7: Brandon | M7: Jonathan | P7: Jonathan | Q7: =COUNTIF(_xlfn.ANCHORARRAY($E$5),P7) -> 4
E8: Michael | F8: Marvin | G8: Brandon | H8: Jonathan | I8: Jason | J8: Patrick | K8: Thomas | L8: Chris | M8: Mark | P8: Mark | Q8: =COUNTIF(_xlfn.ANCHORARRAY($E$5),P8) -> 4
E9: Patrick | F9: Thomas | G9: Chris | H9: Mark | I9: Albert | J9: John | K9: Scott | L9: Michael | M9: Marvin | P9: Marvin | Q9: =COUNTIF(_xlfn.ANCHORARRAY($E$5),P9) -> 4
P10: Thomas | Q10: =COUNTIF(_xlfn.ANCHORARRAY($E$5),P10) -> 3
P11: Scott | Q11: =COUNTIF(_xlfn.ANCHORARRAY($E$5),P11) -> 3
P12: Jason | Q12: =COUNTIF(_xlfn.ANCHORARRAY($E$5),P12) -> 3
P13: Albert | Q13: =COUNTIF(_xlfn.ANCHORARRAY($E$5),P13) -> 4
P14: Brandon | Q14: =COUNTIF(_xlfn.ANCHORARRAY($E$5),P14) -> 4
P15: Chris | Q15: =COUNTIF(_xlfn.ANCHORARRAY($E$5),P15) -> 4
P16: Michael | Q16: =COUNTIF(_xlfn.ANCHORARRAY($E$5),P16) -> 4

Sheet Game6
B1: Game 6 | E1: =_xlfn.FORMULATEXT(E5) -> =XLOOKUP(LET(Player,TRANSPOSE(SEQUENCE($C$5,$C$6,$C$7)),IFS(Player<=$C$4,Player,Player<=$C$4*2,Player-$C$4,Player<=$C$4*3,Player-$C$4*2,Player<=$C$4*4,Player-$C$4*3,Player<=$C$4*5,Player-$C$4*4,Player>$C$4*5,Player-$C$4*4)),Roster[Player],Roster[Name],"NOT ON ROSTER")
O2: Highlight Player Dropdown
C3: =SUM(['Player Allocation Gm1':'Player Allocation Gm6']!B17) | E3: Periods | O3: Scott
B4: # of players | C4: 12 | E4: {=_xlfn.SEQUENCE(1,C5,1,1)} -> 1 | F4: 2 | G4: 3 | H4: 4 | I4: 5 | J4: 6 | K4: 7 | L4: 8 | M4: 9 | P4: Player | Q4: Periods Played
B5: periods per game | C5: 9 | E5: {=_xlfn.XLOOKUP(_xlfn.LET(_xlpm.Player,TRANSPOSE(_xlfn.SEQUENCE($C$5,$C$6,$C$7)),_xlfn.IFS(_xlpm.Player<=$C$4,_xlpm.Player,_xlpm.Player<=$C$4*2,_xlpm.Player-$C$4,_xlpm.Player<=$C$4*3,_xlpm.Player-$C$4*2,_xlpm.Player<=$C$4*4,_xlpm.Player-$C$4*3,_xlpm.Player<=$C$4*5,_xlpm.Player-$C$4*4,_xlpm.Player>$C$4*5,_xlpm.Player-$C$4*4)),Roster[Player],Roster[Name],"NOT ON ROSTER")} -> Chris | F5: Mark | G5: Albert | H5: John | I5: Scott | J5: Michael | K5: Marvin | L5: Brandon | M5: Jonathan | P5: {=_xlfn.XLOOKUP(_xlfn.SEQUENCE(C4),Roster[Player],Roster[Name])} -> Patrick | Q5: =COUNTIF(_xlfn.ANCHORARRAY($E$5),P5) -> 4
B6: players per period | C6: 5 | E6: Michael | F6: Marvin | G6: Brandon | H6: Jonathan | I6: Jason | J6: Patrick | K6: Thomas | L6: Chris | M6: Mark | P6: John | Q6: =COUNTIF(_xlfn.ANCHORARRAY($E$5),P6) -> 4
B7: Start Player # | C7: 11 | E7: Patrick | F7: Thomas | G7: Chris | H7: Mark | I7: Albert | J7: John | K7: Scott | L7: Michael | M7: Marvin | P7: Jonathan | Q7: =COUNTIF(_xlfn.ANCHORARRAY($E$5),P7) -> 4
E8: John | F8: Scott | G8: Michael | H8: Marvin | I8: Brandon | J8: Jonathan | K8: Jason | L8: Patrick | M8: Thomas | P8: Mark | Q8: =COUNTIF(_xlfn.ANCHORARRAY($E$5),P8) -> 4
E9: Jonathan | F9: Jason | G9: Patrick | H9: Thomas | I9: Chris | J9: Mark | K9: Albert | L9: John | M9: Scott | P9: Marvin | Q9: =COUNTIF(_xlfn.ANCHORARRAY($E$5),P9) -> 4
P10: Thomas | Q10: =COUNTIF(_xlfn.ANCHORARRAY($E$5),P10) -> 4
P11: Scott | Q11: =COUNTIF(_xlfn.ANCHORARRAY($E$5),P11) -> 4
P12: Jason | Q12: =COUNTIF(_xlfn.ANCHORARRAY($E$5),P12) -> 3
P13: Albert | Q13: =COUNTIF(_xlfn.ANCHORARRAY($E$5),P13) -> 3
P14: Brandon | Q14: =COUNTIF(_xlfn.ANCHORARRAY($E$5),P14) -> 3
P15: Chris | Q15: =COUNTIF(_xlfn.ANCHORARRAY($E$5),P15) -> 4
P16: Michael | Q16: =COUNTIF(_xlfn.ANCHORARRAY($E$5),P16) -> 4

Sheet Summary
B2: ="Sum Periods played "&SUM(C4:C35) -> Sum Periods played 270
B3: Player | C3: total periods played 6 games | F3: 1 | G3: 2 | H3: 3 | I3: 4 | J3: 5 | K3: 6
B4: {=Team[]} -> David | C4: {=IF(B4<>"",SUM(_xlfn.LET(_xlpm.gma,"Game",_xlpm.cel,"!E5#",COUNTIF(INDIRECT(_xlpm.gma&$F$3:$K$3&_xlpm.cel),B4))),"")} -> 0 | D4: cell C4---> | E4: =_xlfn.FORMULATEXT(C4) -> =IF(B4<>"",SUM(LET(gma,"Game",cel,"!E5#",COUNTIF(INDIRECT(gma&$F$3:$K$3&cel),B4))),"")
B5: John | C5: {=IF(B5<>"",SUM(_xlfn.LET(_xlpm.gma,"Game",_xlpm.cel,"!E5#",COUNTIF(INDIRECT(_xlpm.gma&$F$3:$K$3&_xlpm.cel),B5))),"")} -> 22
B6: Jonathan | C6: {=IF(B6<>"",SUM(_xlfn.LET(_xlpm.gma,"Game",_xlpm.cel,"!E5#",COUNTIF(INDIRECT(_xlpm.gma&$F$3:$K$3&_xlpm.cel),B6))),"")} -> 23
B7: Patrick | C7: {=IF(B7<>"",SUM(_xlfn.LET(_xlpm.gma,"Game",_xlpm.cel,"!E5#",COUNTIF(INDIRECT(_xlpm.gma&$F$3:$K$3&_xlpm.cel),B7))),"")} -> 23
B8: Marvin | C8: {=IF(B8<>"",SUM(_xlfn.LET(_xlpm.gma,"Game",_xlpm.cel,"!E5#",COUNTIF(INDIRECT(_xlpm.gma&$F$3:$K$3&_xlpm.cel),B8))),"")} -> 23
B9: Thomas | C9: {=IF(B9<>"",SUM(_xlfn.LET(_xlpm.gma,"Game",_xlpm.cel,"!E5#",COUNTIF(INDIRECT(_xlpm.gma&$F$3:$K$3&_xlpm.cel),B9))),"")} -> 22
B10: Scott | C10: {=IF(B10<>"",SUM(_xlfn.LET(_xlpm.gma,"Game",_xlpm.cel,"!E5#",COUNTIF(INDIRECT(_xlpm.gma&$F$3:$K$3&_xlpm.cel),B10))),"")} -> 23
B11: Jason | C11: {=IF(B11<>"",SUM(_xlfn.LET(_xlpm.gma,"Game",_xlpm.cel,"!E5#",COUNTIF(INDIRECT(_xlpm.gma&$F$3:$K$3&_xlpm.cel),B11))),"")} -> 22
B12: Albert | C12: {=IF(B12<>"",SUM(_xlfn.LET(_xlpm.gma,"Game",_xlpm.cel,"!E5#",COUNTIF(INDIRECT(_xlpm.gma&$F$3:$K$3&_xlpm.cel),B12))),"")} -> 23
B13: Brandon | C13: {=IF(B13<>"",SUM(_xlfn.LET(_xlpm.gma,"Game",_xlpm.cel,"!E5#",COUNTIF(INDIRECT(_xlpm.gma&$F$3:$K$3&_xlpm.cel),B13))),"")} -> 22
B14: Chris | C14: {=IF(B14<>"",SUM(_xlfn.LET(_xlpm.gma,"Game",_xlpm.cel,"!E5#",COUNTIF(INDIRECT(_xlpm.gma&$F$3:$K$3&_xlpm.cel),B14))),"")} -> 23
B15: Michael | C15: {=IF(B15<>"",SUM(_xlfn.LET(_xlpm.gma,"Game",_xlpm.cel,"!E5#",COUNTIF(INDIRECT(_xlpm.gma&$F$3:$K$3&_xlpm.cel),B15))),"")} -> 22
B16: Samer | C16: {=IF(B16<>"",SUM(_xlfn.LET(_xlpm.gma,"Game",_xlpm.cel,"!E5#",COUNTIF(INDIRECT(_xlpm.gma&$F$3:$K$3&_xlpm.cel),B16))),"")} -> 0
... B21: Richard | C21: {=IF(B21<>"",SUM(_xlfn.LET(_xlpm.gma,"Game",_xlpm.cel,"!E5#",COUNTIF(INDIRECT(_xlpm.gma&$F$3:$K$3&_xlpm.cel),B21))),"")} -> 0
C22: {=IF(B22<>"",SUM(_xlfn.LET(_xlpm.gma,"Game",_xlpm.cel,"!E5#",COUNTIF(INDIRECT(_xlpm.gma&$F$3:$K$3&_xlpm.cel),B22))),"")}
C23: {=IF(B23<>"",SUM(_xlfn.LET(_xlpm.gma,"Game",_xlpm.cel,"!E5#",COUNTIF(INDIRECT(_xlpm.gma&$F$3:$K$3&_xlpm.cel),B23))),"")}
C24: {=IF(B24<>"",SUM(_xlfn.LET(_xlpm.gma,"Game",_xlpm.cel,"!E5#",COUNTIF(INDIRECT(_xlpm.gma&$F$3:$K$3&_xlpm.cel),B24))),"")}
C25: {=IF(B25<>"",SUM(_xlfn.LET(_xlpm.gma,"Game",_xlpm.cel,"!E5#",COUNTIF(INDIRECT(_xlpm.gma&$F$3:$K$3&_xlpm.cel),B25))),"")}
C26: {=IF(B26<>"",SUM(_xlfn.LET(_xlpm.gma,"Game",_xlpm.cel,"!E5#",COUNTIF(INDIRECT(_xlpm.gma&$F$3:$K$3&_xlpm.cel),B26))),"")}
C27: {=IF(B27<>"",SUM(_xlfn.LET(_xlpm.gma,"Game",_xlpm.cel,"!E5#",COUNTIF(INDIRECT(_xlpm.gma&$F$3:$K$3&_xlpm.cel),B27))),"")}
C28: {=IF(B28<>"",SUM(_xlfn.LET(_xlpm.gma,"Game",_xlpm.cel,"!E5#",COUNTIF(INDIRECT(_xlpm.gma&$F$3:$K$3&_xlpm.cel),B28))),"")}
C29: {=IF(B29<>"",SUM(_xlfn.LET(_xlpm.gma,"Game",_xlpm.cel,"!E5#",COUNTIF(INDIRECT(_xlpm.gma&$F$3:$K$3&_xlpm.cel),B29))),"")}
C30: {=IF(B30<>"",SUM(_xlfn.LET(_xlpm.gma,"Game",_xlpm.cel,"!E5#",COUNTIF(INDIRECT(_xlpm.gma&$F$3:$K$3&_xlpm.cel),B30))),"")}
C31: {=IF(B31<>"",SUM(_xlfn.LET(_xlpm.gma,"Game",_xlpm.cel,"!E5#",COUNTIF(INDIRECT(_xlpm.gma&$F$3:$K$3&_xlpm.cel),B31))),"")}
C32: {=IF(B32<>"",SUM(_xlfn.LET(_xlpm.gma,"Game",_xlpm.cel,"!E5#",COUNTIF(INDIRECT(_xlpm.gma&$F$3:$K$3&_xlpm.cel),B32))),"")}
C33: {=IF(B33<>"",SUM(_xlfn.LET(_xlpm.gma,"Game",_xlpm.cel,"!E5#",COUNTIF(INDIRECT(_xlpm.gma&$F$3:$K$3&_xlpm.cel),B33))),"")}
... C35: {=IF(B35<>"",SUM(_xlfn.LET(_xlpm.gma,"Game",_xlpm.cel,"!E5#",COUNTIF(INDIRECT(_xlpm.gma&$F$3:$K$3&_xlpm.cel),B35))),"")}
B36: Max # Team Members
