Workbook
Name Slicer_Games1: #N/A
Name Slicer_Periods1: #N/A
Name Slicer_Player1: #N/A

Sheet Tables&Data
B2: EQUAL PLAYING TIME SCHEDULE
E3: INSERT DATA IN CELLS
B5: Players on the team: | F5: 12
B6: Games in the season (G): | F6: 6
B7: Periods per game (P): | F7: 9
B8: Players play in each period: | F8: 5
B9: Total periods | F9: =F6*F7 -> 54
B10: Total periods played by each player (average) | F10: =(F9*F8)/F5 -> 22.5 | CQ10: =IF(Schedule!CH4="","",IF(Schedule!CH4+1<=$F$9,Schedule!CH4+1,"")) | CR10: =IF(CQ10="","",IF(CQ10+1<=$F$9,CQ10+1,"")) | CS10: =IF(CR10="","",IF(CR10+1<=$F$9,CR10+1,"")) | CT10: =IF(CS10="","",IF(CS10+1<=$F$9,CS10+1,"")) | CU10: =IF(CT10="","",IF(CT10+1<=$F$9,CT10+1,"")) | CV10: =IF(CU10="","",IF(CU10+1<=$F$9,CU10+1,"")) | CW10: =IF(CV10="","",IF(CV10+1<=$F$9,CV10+1,"")) | CX10: =IF(CW10="","",IF(CW10+1<=$F$9,CW10+1,"")) | CY10: =IF(CX10="","",IF(CX10+1<=$F$9,CX10+1,""))
B11: Number of periods played each game (average) | F11: =F10/F6 -> 3.75
B14: Players | C14: Name | E14: Refresh Pivot Table if you change the data:
A15: 1 | B15: Player 01 | C15: Alan
A16: =IF(A15="","",IF(A15+1<='Tables&Data'!$F$5,A15+1,"")) -> 2 | B16: =IF(A16="","","Player 0"&A16) -> Player 02 | C16: Alex | E16: Games | F16: (Multiple Items)
A17: =IF(A16="","",IF(A16+1<='Tables&Data'!$F$5,A16+1,"")) -> 3 | B17: =IF(A17="","","Player 0"&A17) -> Player 03 | C17: Ian | E17: Periods | F17: (All)
A18: =IF(A17="","",IF(A17+1<='Tables&Data'!$F$5,A17+1,"")) -> 4 | B18: =IF(A18="","","Player 0"&A18) -> Player 04 | C18: John
A19: =IF(A18="","",IF(A18+1<='Tables&Data'!$F$5,A18+1,"")) -> 5 | B19: =IF(A19="","","Player 0"&A19) -> Player 05 | C19: Mathew | F19: Periods Played
A20: =IF(A19="","",IF(A19+1<='Tables&Data'!$F$5,A19+1,"")) -> 6 | B20: =IF(A20="","","Player 0"&A20) -> Player 06 | C20: Julian | E20: Player 01 | F20: 23
A21: =IF(A20="","",IF(A20+1<='Tables&Data'!$F$5,A20+1,"")) -> 7 | B21: =IF(A21="","","Player 0"&A21) -> Player 07 | C21: Kevin | E21: Player 02 | F21: 23
A22: =IF(A21="","",IF(A21+1<='Tables&Data'!$F$5,A21+1,"")) -> 8 | B22: =IF(A22="","","Player 0"&A22) -> Player 08 | C22: Peter | E22: Player 03 | F22: 23
A23: =IF(A22="","",IF(A22+1<='Tables&Data'!$F$5,A22+1,"")) -> 9 | B23: =IF(A23="","","Player 0"&A23) -> Player 09 | C23: Andrew | E23: Player 04 | F23: 23
A24: =IF(A23="","",IF(A23+1<='Tables&Data'!$F$5,A23+1,"")) -> 10 | B24: =IF(A24="","","Player "&A24) -> Player 10 | C24: Albert | E24: Player 05 | F24: 23
A25: =IF(A24="","",IF(A24+1<='Tables&Data'!$F$5,A24+1,"")) -> 11 | B25: =IF(A25="","","Player "&A25) -> Player 11 | C25: Fred | E25: Player 06 | F25: 23
A26: =IF(A25="","",IF(A25+1<='Tables&Data'!$F$5,A25+1,"")) -> 12 | B26: =IF(A26="","","Player "&A26) -> Player 12 | C26: Anthony | E26: Player 07 | F26: 22
A27: =IF(A26="","",IF(A26+1<='Tables&Data'!$F$5,A26+1,"")) | B27: =IF(A27="","","Player "&A27) | E27: Player 08 | F27: 22
A28: =IF(A27="","",IF(A27+1<='Tables&Data'!$F$5,A27+1,"")) | B28: =IF(A28="","","Player "&A28) | E28: Player 09 | F28: 22
A29: =IF(A28="","",IF(A28+1<='Tables&Data'!$F$5,A28+1,"")) | B29: =IF(A29="","","Player "&A29) | E29: Player 10 | F29: 22
A30: =IF(A29="","",IF(A29+1<='Tables&Data'!$F$5,A29+1,"")) | B30: =IF(A30="","","Player "&A30) | E30: Player 11 | F30: 22
A31: =IF(A30="","",IF(A30+1<='Tables&Data'!$F$5,A30+1,"")) | B31: =IF(A31="","","Player "&A31) | E31: Player 12 | F31: 22
A32: =IF(A31="","",IF(A31+1<='Tables&Data'!$F$5,A31+1,"")) | B32: =IF(A32="","","Player "&A32) | E32: Total | F32: 270
A33: =IF(A32="","",IF(A32+1<='Tables&Data'!$F$5,A32+1,"")) | B33: =IF(A33="","","Player "&A33)
A34: =IF(A33="","",IF(A33+1<='Tables&Data'!$F$5,A33+1,"")) | B34: =IF(A34="","","Player "&A34) | P34: © Eugènia Herrera

Sheet Schedule
B2: EQUAL PLAYING TIME SCHEDULE PER PLAYER
D4: Total periods | E4: 1 | F4: =IF(E4="","",IF(E4+1<='Tables&Data'!$F$9,E4+1,"")) -> 2 | G4: =IF(F4="","",IF(F4+1<='Tables&Data'!$F$9,F4+1,"")) -> 3 | H4: =IF(G4="","",IF(G4+1<='Tables&Data'!$F$9,G4+1,"")) -> 4 | I4: =IF(H4="","",IF(H4+1<='Tables&Data'!$F$9,H4+1,"")) -> 5 | J4: =IF(I4="","",IF(I4+1<='Tables&Data'!$F$9,I4+1,"")) -> 6 | K4: =IF(J4="","",IF(J4+1<='Tables&Data'!$F$9,J4+1,"")) -> 7 | L4: =IF(K4="","",IF(K4+1<='Tables&Data'!$F$9,K4+1,"")) -> 8 | M4: =IF(L4="","",IF(L4+1<='Tables&Data'!$F$9,L4+1,"")) -> 9 | ... CH4: =IF(CG4="","",IF(CG4+1<='Tables&Data'!$F$9,CG4+1,""))
D5: Game | E5: =IF(IFERROR(TRUNC((E4-1)/'Tables&Data'!$F$7,0)+1,0)=0,"","G"&TRUNC((E4-1)/'Tables&Data'!$F$7,0)+1) -> G1 | F5: =IF(IFERROR(TRUNC((F4-1)/'Tables&Data'!$F$7,0)+1,0)=0,"","G"&TRUNC((F4-1)/'Tables&Data'!$F$7,0)+1) -> G1 | G5: =IF(IFERROR(TRUNC((G4-1)/'Tables&Data'!$F$7,0)+1,0)=0,"","G"&TRUNC((G4-1)/'Tables&Data'!$F$7,0)+1) -> G1 | H5: =IF(IFERROR(TRUNC((H4-1)/'Tables&Data'!$F$7,0)+1,0)=0,"","G"&TRUNC((H4-1)/'Tables&Data'!$F$7,0)+1) -> G1 | I5: =IF(IFERROR(TRUNC((I4-1)/'Tables&Data'!$F$7,0)+1,0)=0,"","G"&TRUNC((I4-1)/'Tables&Data'!$F$7,0)+1) -> G1 | J5: =IF(IFERROR(TRUNC((J4-1)/'Tables&Data'!$F$7,0)+1,0)=0,"","G"&TRUNC((J4-1)/'Tables&Data'!$F$7,0)+1) -> G1 | K5: =IF(IFERROR(TRUNC((K4-1)/'Tables&Data'!$F$7,0)+1,0)=0,"","G"&TRUNC((K4-1)/'Tables&Data'!$F$7,0)+1) -> G1 | L5: =IF(IFERROR(TRUNC((L4-1)/'Tables&Data'!$F$7,0)+1,0)=0,"","G"&TRUNC((L4-1)/'Tables&Data'!$F$7,0)+1) -> G1 | ... CH5: =IF(IFERROR(TRUNC((CH4-1)/'Tables&Data'!$F$7,0)+1,0)=0,"","G"&TRUNC((CH4-1)/'Tables&Data'!$F$7,0)+1)
E6: 1 | F6: =IF(F5="","",IF(E6='Tables&Data'!$F$7,1,E6+1)) -> 2 | G6: =IF(G5="","",IF(F6='Tables&Data'!$F$7,1,F6+1)) -> 3 | H6: =IF(H5="","",IF(G6='Tables&Data'!$F$7,1,G6+1)) -> 4 | I6: =IF(I5="","",IF(H6='Tables&Data'!$F$7,1,H6+1)) -> 5 | J6: =IF(J5="","",IF(I6='Tables&Data'!$F$7,1,I6+1)) -> 6 | K6: =IF(K5="","",IF(J6='Tables&Data'!$F$7,1,J6+1)) -> 7 | L6: =IF(L5="","",IF(K6='Tables&Data'!$F$7,1,K6+1)) -> 8 | M6: =IF(M5="","",IF(L6='Tables&Data'!$F$7,1,L6+1)) -> 9 | ... CH6: =IF(CH5="","",IF(CG6='Tables&Data'!$F$7,1,CG6+1))
D7: Period | E7: =IF(E6="","","P"&E6) -> P1 | F7: =IF(F6="","","P"&F6) -> P2 | G7: =IF(G6="","","P"&G6) -> P3 | H7: =IF(H6="","","P"&H6) -> P4 | I7: =IF(I6="","","P"&I6) -> P5 | J7: =IF(J6="","","P"&J6) -> P6 | K7: =IF(K6="","","P"&K6) -> P7 | L7: =IF(L6="","","P"&L6) -> P8 | ... CH7: =IF(CH6="","","P"&CH6)
B8: Players | C8: Name | D8: Nº Periods | E8: =IF(E7="","",IF(SUM(E9:E28)='Tables&Data'!$F$8,"P","O")) -> P | F8: =IF(F7="","",IF(SUM(F9:F28)='Tables&Data'!$F$8,"P","O")) -> P | G8: =IF(G7="","",IF(SUM(G9:G28)='Tables&Data'!$F$8,"P","O")) -> P | H8: =IF(H7="","",IF(SUM(H9:H28)='Tables&Data'!$F$8,"P","O")) -> P | I8: =IF(I7="","",IF(SUM(I9:I28)='Tables&Data'!$F$8,"P","O")) -> P | J8: =IF(J7="","",IF(SUM(J9:J28)='Tables&Data'!$F$8,"P","O")) -> P | K8: =IF(K7="","",IF(SUM(K9:K28)='Tables&Data'!$F$8,"P","O")) -> P | L8: =IF(L7="","",IF(SUM(L9:L28)='Tables&Data'!$F$8,"P","O")) -> P | ... CH8: =IF(CH7="","",IF(SUM(CH9:CH28)='Tables&Data'!$F$8,"P","O"))
A9: 1 | B9: ='Tables&Data'!B15 -> Player 01 | C9: =IF(B9="","",IFERROR(INDEX(TabPlayer[Name],MATCH(B9,TabPlayer[Players],0)),"")) -> Alan | D9: =IF(SUM(E9:CH9)=0,"",SUM(E9:CH9)) -> 23 | E9: =IFERROR(IF((E$5&"-"&E$7&"-"&Schedule!$B9)=INDEX(Aux!$Q$4:$Q$5000,MATCH(E$5&"-"&E$7&"-"&Schedule!$B9,Aux!$Q$4:$Q$5000,0)),1,""),"") -> 1 | F9: =IFERROR(IF((F$5&"-"&F$7&"-"&Schedule!$B9)=INDEX(Aux!$Q$4:$Q$5000,MATCH(F$5&"-"&F$7&"-"&Schedule!$B9,Aux!$Q$4:$Q$5000,0)),1,""),"") | G9: =IFERROR(IF((G$5&"-"&G$7&"-"&Schedule!$B9)=INDEX(Aux!$Q$4:$Q$5000,MATCH(G$5&"-"&G$7&"-"&Schedule!$B9,Aux!$Q$4:$Q$5000,0)),1,""),"") -> 1 | H9: =IFERROR(IF((H$5&"-"&H$7&"-"&Schedule!$B9)=INDEX(Aux!$Q$4:$Q$5000,MATCH(H$5&"-"&H$7&"-"&Schedule!$B9,Aux!$Q$4:$Q$5000,0)),1,""),"") | I9: =IFERROR(IF((I$5&"-"&I$7&"-"&Schedule!$B9)=INDEX(Aux!$Q$4:$Q$5000,MATCH(I$5&"-"&I$7&"-"&Schedule!$B9,Aux!$Q$4:$Q$5000,0)),1,""),"") -> 1 | J9: =IFERROR(IF((J$5&"-"&J$7&"-"&Schedule!$B9)=INDEX(Aux!$Q$4:$Q$5000,MATCH(J$5&"-"&J$7&"-"&Schedule!$B9,Aux!$Q$4:$Q$5000,0)),1,""),"") | K9: =IFERROR(IF((K$5&"-"&K$7&"-"&Schedule!$B9)=INDEX(Aux!$Q$4:$Q$5000,MATCH(K$5&"-"&K$7&"-"&Schedule!$B9,Aux!$Q$4:$Q$5000,0)),1,""),"") | L9: =IFERROR(IF((L$5&"-"&L$7&"-"&Schedule!$B9)=INDEX(Aux!$Q$4:$Q$5000,MATCH(L$5&"-"&L$7&"-"&Schedule!$B9,Aux!$Q$4:$Q$5000,0)),1,""),"") -> 1 | ... CH9: =IFERROR(IF((CH$5&"-"&CH$7&"-"&Schedule!$B9)=INDEX(Aux!$Q$4:$Q$5000,MATCH(CH$5&"-"&CH$7&"-"&Schedule!$B9,Aux!$Q$4:$Q$5000,0)),1,""),"")
A10: =IF(A9="","",IF(A9+1<='Tables&Data'!$F$5,A9+1,"")) -> 2 | B10: ='Tables&Data'!B16 -> Player 02 | C10: =IF(B10="","",IFERROR(INDEX(TabPlayer[Name],MATCH(B10,TabPlayer[Players],0)),"")) -> Alex | D10: =IF(SUM(E10:CH10)=0,"",SUM(E10:CH10)) -> 23 | E10: =IFERROR(IF((E$5&"-"&E$7&"-"&Schedule!$B10)=INDEX(Aux!$Q$4:$Q$5000,MATCH(E$5&"-"&E$7&"-"&Schedule!$B10,Aux!$Q$4:$Q$5000,0)),1,""),"") -> 1 | F10: =IFERROR(IF((F$5&"-"&F$7&"-"&Schedule!$B10)=INDEX(Aux!$Q$4:$Q$5000,MATCH(F$5&"-"&F$7&"-"&Schedule!$B10,Aux!$Q$4:$Q$5000,0)),1,""),"") | G10: =IFERROR(IF((G$5&"-"&G$7&"-"&Schedule!$B10)=INDEX(Aux!$Q$4:$Q$5000,MATCH(G$5&"-"&G$7&"-"&Schedule!$B10,Aux!$Q$4:$Q$5000,0)),1,""),"") -> 1 | H10: =IFERROR(IF((H$5&"-"&H$7&"-"&Schedule!$B10)=INDEX(Aux!$Q$4:$Q$5000,MATCH(H$5&"-"&H$7&"-"&Schedule!$B10,Aux!$Q$4:$Q$5000,0)),1,""),"") | I10: =IFERROR(IF((I$5&"-"&I$7&"-"&Schedule!$B10)=INDEX(Aux!$Q$4:$Q$5000,MATCH(I$5&"-"&I$7&"-"&Schedule!$B10,Aux!$Q$4:$Q$5000,0)),1,""),"") | J10: =IFERROR(IF((J$5&"-"&J$7&"-"&Schedule!$B10)=INDEX(Aux!$Q$4:$Q$5000,MATCH(J$5&"-"&J$7&"-"&Schedule!$B10,Aux!$Q$4:$Q$5000,0)),1,""),"") -> 1 | K10: =IFERROR(IF((K$5&"-"&K$7&"-"&Schedule!$B10)=INDEX(Aux!$Q$4:$Q$5000,MATCH(K$5&"-"&K$7&"-"&Schedule!$B10,Aux!$Q$4:$Q$5000,0)),1,""),"") | L10: =IFERROR(IF((L$5&"-"&L$7&"-"&Schedule!$B10)=INDEX(Aux!$Q$4:$Q$5000,MATCH(L$5&"-"&L$7&"-"&Schedule!$B10,Aux!$Q$4:$Q$5000,0)),1,""),"") -> 1 | ... CH10: =IFERROR(IF((CH$5&"-"&CH$7&"-"&Schedule!$B10)=INDEX(Aux!$Q$4:$Q$5000,MATCH(CH$5&"-"&CH$7&"-"&Schedule!$B10,Aux!$Q$4:$Q$5000,0)),1,""),"")
A11: =IF(A10="","",IF(A10+1<='Tables&Data'!$F$5,A10+1,"")) -> 3 | B11: ='Tables&Data'!B17 -> Player 03 | C11: =IF(B11="","",IFERROR(INDEX(TabPlayer[Name],MATCH(B11,TabPlayer[Players],0)),"")) -> Ian | D11: =IF(SUM(E11:CH11)=0,"",SUM(E11:CH11)) -> 23 | E11: =IFERROR(IF((E$5&"-"&E$7&"-"&Schedule!$B11)=INDEX(Aux!$Q$4:$Q$5000,MATCH(E$5&"-"&E$7&"-"&Schedule!$B11,Aux!$Q$4:$Q$5000,0)),1,""),"") -> 1 | F11: =IFERROR(IF((F$5&"-"&F$7&"-"&Schedule!$B11)=INDEX(Aux!$Q$4:$Q$5000,MATCH(F$5&"-"&F$7&"-"&Schedule!$B11,Aux!$Q$4:$Q$5000,0)),1,""),"") | G11: =IFERROR(IF((G$5&"-"&G$7&"-"&Schedule!$B11)=INDEX(Aux!$Q$4:$Q$5000,MATCH(G$5&"-"&G$7&"-"&Schedule!$B11,Aux!$Q$4:$Q$5000,0)),1,""),"") -> 1 | H11: =IFERROR(IF((H$5&"-"&H$7&"-"&Schedule!$B11)=INDEX(Aux!$Q$4:$Q$5000,MATCH(H$5&"-"&H$7&"-"&Schedule!$B11,Aux!$Q$4:$Q$5000,0)),1,""),"") | I11: =IFERROR(IF((I$5&"-"&I$7&"-"&Schedule!$B11)=INDEX(Aux!$Q$4:$Q$5000,MATCH(I$5&"-"&I$7&"-"&Schedule!$B11,Aux!$Q$4:$Q$5000,0)),1,""),"") | J11: =IFERROR(IF((J$5&"-"&J$7&"-"&Schedule!$B11)=INDEX(Aux!$Q$4:$Q$5000,MATCH(J$5&"-"&J$7&"-"&Schedule!$B11,Aux!$Q$4:$Q$5000,0)),1,""),"") -> 1 | K11: =IFERROR(IF((K$5&"-"&K$7&"-"&Schedule!$B11)=INDEX(Aux!$Q$4:$Q$5000,MATCH(K$5&"-"&K$7&"-"&Schedule!$B11,Aux!$Q$4:$Q$5000,0)),1,""),"") | L11: =IFERROR(IF((L$5&"-"&L$7&"-"&Schedule!$B11)=INDEX(Aux!$Q$4:$Q$5000,MATCH(L$5&"-"&L$7&"-"&Schedule!$B11,Aux!$Q$4:$Q$5000,0)),1,""),"") -> 1 | ... CH11: =IFERROR(IF((CH$5&"-"&CH$7&"-"&Schedule!$B11)=INDEX(Aux!$Q$4:$Q$5000,MATCH(CH$5&"-"&CH$7&"-"&Schedule!$B11,Aux!$Q$4:$Q$5000,0)),1,""),"")
A12: =IF(A11="","",IF(A11+1<='Tables&Data'!$F$5,A11+1,"")) -> 4 | B12: ='Tables&Data'!B18 -> Player 04 | C12: =IF(B12="","",IFERROR(INDEX(TabPlayer[Name],MATCH(B12,TabPlayer[Players],0)),"")) -> John | D12: =IF(SUM(E12:CH12)=0,"",SUM(E12:CH12)) -> 23 | E12: =IFERROR(IF((E$5&"-"&E$7&"-"&Schedule!$B12)=INDEX(Aux!$Q$4:$Q$5000,MATCH(E$5&"-"&E$7&"-"&Schedule!$B12,Aux!$Q$4:$Q$5000,0)),1,""),"") -> 1 | F12: =IFERROR(IF((F$5&"-"&F$7&"-"&Schedule!$B12)=INDEX(Aux!$Q$4:$Q$5000,MATCH(F$5&"-"&F$7&"-"&Schedule!$B12,Aux!$Q$4:$Q$5000,0)),1,""),"") | G12: =IFERROR(IF((G$5&"-"&G$7&"-"&Schedule!$B12)=INDEX(Aux!$Q$4:$Q$5000,MATCH(G$5&"-"&G$7&"-"&Schedule!$B12,Aux!$Q$4:$Q$5000,0)),1,""),"") | H12: =IFERROR(IF((H$5&"-"&H$7&"-"&Schedule!$B12)=INDEX(Aux!$Q$4:$Q$5000,MATCH(H$5&"-"&H$7&"-"&Schedule!$B12,Aux!$Q$4:$Q$5000,0)),1,""),"") -> 1 | I12: =IFERROR(IF((I$5&"-"&I$7&"-"&Schedule!$B12)=INDEX(Aux!$Q$4:$Q$5000,MATCH(I$5&"-"&I$7&"-"&Schedule!$B12,Aux!$Q$4:$Q$5000,0)),1,""),"") | J12: =IFERROR(IF((J$5&"-"&J$7&"-"&Schedule!$B12)=INDEX(Aux!$Q$4:$Q$5000,MATCH(J$5&"-"&J$7&"-"&Schedule!$B12,Aux!$Q$4:$Q$5000,0)),1,""),"") -> 1 | K12: =IFERROR(IF((K$5&"-"&K$7&"-"&Schedule!$B12)=INDEX(Aux!$Q$4:$Q$5000,MATCH(K$5&"-"&K$7&"-"&Schedule!$B12,Aux!$Q$4:$Q$5000,0)),1,""),"") | L12: =IFERROR(IF((L$5&"-"&L$7&"-"&Schedule!$B12)=INDEX(Aux!$Q$4:$Q$5000,MATCH(L$5&"-"&L$7&"-"&Schedule!$B12,Aux!$Q$4:$Q$5000,0)),1,""),"") -> 1 | ... CH12: =IFERROR(IF((CH$5&"-"&CH$7&"-"&Schedule!$B12)=INDEX(Aux!$Q$4:$Q$5000,MATCH(CH$5&"-"&CH$7&"-"&Schedule!$B12,Aux!$Q$4:$Q$5000,0)),1,""),"")
A13: =IF(A12="","",IF(A12+1<='Tables&Data'!$F$5,A12+1,"")) -> 5 | B13: ='Tables&Data'!B19 -> Player 05 | C13: =IF(B13="","",IFERROR(INDEX(TabPlayer[Name],MATCH(B13,TabPlayer[Players],0)),"")) -> Mathew | D13: =IF(SUM(E13:CH13)=0,"",SUM(E13:CH13)) -> 23 | E13: =IFERROR(IF((E$5&"-"&E$7&"-"&Schedule!$B13)=INDEX(Aux!$Q$4:$Q$5000,MATCH(E$5&"-"&E$7&"-"&Schedule!$B13,Aux!$Q$4:$Q$5000,0)),1,""),"") -> 1 | F13: =IFERROR(IF((F$5&"-"&F$7&"-"&Schedule!$B13)=INDEX(Aux!$Q$4:$Q$5000,MATCH(F$5&"-"&F$7&"-"&Schedule!$B13,Aux!$Q$4:$Q$5000,0)),1,""),"") | G13: =IFERROR(IF((G$5&"-"&G$7&"-"&Schedule!$B13)=INDEX(Aux!$Q$4:$Q$5000,MATCH(G$5&"-"&G$7&"-"&Schedule!$B13,Aux!$Q$4:$Q$5000,0)),1,""),"") | H13: =IFERROR(IF((H$5&"-"&H$7&"-"&Schedule!$B13)=INDEX(Aux!$Q$4:$Q$5000,MATCH(H$5&"-"&H$7&"-"&Schedule!$B13,Aux!$Q$4:$Q$5000,0)),1,""),"") -> 1 | I13: =IFERROR(IF((I$5&"-"&I$7&"-"&Schedule!$B13)=INDEX(Aux!$Q$4:$Q$5000,MATCH(I$5&"-"&I$7&"-"&Schedule!$B13,Aux!$Q$4:$Q$5000,0)),1,""),"") | J13: =IFERROR(IF((J$5&"-"&J$7&"-"&Schedule!$B13)=INDEX(Aux!$Q$4:$Q$5000,MATCH(J$5&"-"&J$7&"-"&Schedule!$B13,Aux!$Q$4:$Q$5000,0)),1,""),"") -> 1 | K13: =IFERROR(IF((K$5&"-"&K$7&"-"&Schedule!$B13)=INDEX(Aux!$Q$4:$Q$5000,MATCH(K$5&"-"&K$7&"-"&Schedule!$B13,Aux!$Q$4:$Q$5000,0)),1,""),"") | L13: =IFERROR(IF((L$5&"-"&L$7&"-"&Schedule!$B13)=INDEX(Aux!$Q$4:$Q$5000,MATCH(L$5&"-"&L$7&"-"&Schedule!$B13,Aux!$Q$4:$Q$5000,0)),1,""),"") | ... CH13: =IFERROR(IF((CH$5&"-"&CH$7&"-"&Schedule!$B13)=INDEX(Aux!$Q$4:$Q$5000,MATCH(CH$5&"-"&CH$7&"-"&Schedule!$B13,Aux!$Q$4:$Q$5000,0)),1,""),"")
A14: =IF(A13="","",IF(A13+1<='Tables&Data'!$F$5,A13+1,"")) -> 6 | B14: ='Tables&Data'!B20 -> Player 06 | C14: =IF(B14="","",IFERROR(INDEX(TabPlayer[Name],MATCH(B14,TabPlayer[Players],0)),"")) -> Julian | D14: =IF(SUM(E14:CH14)=0,"",SUM(E14:CH14)) -> 23 | E14: =IFERROR(IF((E$5&"-"&E$7&"-"&Schedule!$B14)=INDEX(Aux!$Q$4:$Q$5000,MATCH(E$5&"-"&E$7&"-"&Schedule!$B14,Aux!$Q$4:$Q$5000,0)),1,""),"") | F14: =IFERROR(IF((F$5&"-"&F$7&"-"&Schedule!$B14)=INDEX(Aux!$Q$4:$Q$5000,MATCH(F$5&"-"&F$7&"-"&Schedule!$B14,Aux!$Q$4:$Q$5000,0)),1,""),"") -> 1 | G14: =IFERROR(IF((G$5&"-"&G$7&"-"&Schedule!$B14)=INDEX(Aux!$Q$4:$Q$5000,MATCH(G$5&"-"&G$7&"-"&Schedule!$B14,Aux!$Q$4:$Q$5000,0)),1,""),"") | H14: =IFERROR(IF((H$5&"-"&H$7&"-"&Schedule!$B14)=INDEX(Aux!$Q$4:$Q$5000,MATCH(H$5&"-"&H$7&"-"&Schedule!$B14,Aux!$Q$4:$Q$5000,0)),1,""),"") -> 1 | I14: =IFERROR(IF((I$5&"-"&I$7&"-"&Schedule!$B14)=INDEX(Aux!$Q$4:$Q$5000,MATCH(I$5&"-"&I$7&"-"&Schedule!$B14,Aux!$Q$4:$Q$5000,0)),1,""),"") | J14: =IFERROR(IF((J$5&"-"&J$7&"-"&Schedule!$B14)=INDEX(Aux!$Q$4:$Q$5000,MATCH(J$5&"-"&J$7&"-"&Schedule!$B14,Aux!$Q$4:$Q$5000,0)),1,""),"") -> 1 | K14: =IFERROR(IF((K$5&"-"&K$7&"-"&Schedule!$B14)=INDEX(Aux!$Q$4:$Q$5000,MATCH(K$5&"-"&K$7&"-"&Schedule!$B14,Aux!$Q$4:$Q$5000,0)),1,""),"") | L14: =IFERROR(IF((L$5&"-"&L$7&"-"&Schedule!$B14)=INDEX(Aux!$Q$4:$Q$5000,MATCH(L$5&"-"&L$7&"-"&Schedule!$B14,Aux!$Q$4:$Q$5000,0)),1,""),"") | ... CH14: =IFERROR(IF((CH$5&"-"&CH$7&"-"&Schedule!$B14)=INDEX(Aux!$Q$4:$Q$5000,MATCH(CH$5&"-"&CH$7&"-"&Schedule!$B14,Aux!$Q$4:$Q$5000,0)),1,""),"")
A15: =IF(A14="","",IF(A14+1<='Tables&Data'!$F$5,A14+1,"")) -> 7 | B15: ='Tables&Data'!B21 -> Player 07 | C15: =IF(B15="","",IFERROR(INDEX(TabPlayer[Name],MATCH(B15,TabPlayer[Players],0)),"")) -> Kevin | D15: =IF(SUM(E15:CH15)=0,"",SUM(E15:CH15)) -> 22 | E15: =IFERROR(IF((E$5&"-"&E$7&"-"&Schedule!$B15)=INDEX(Aux!$Q$4:$Q$5000,MATCH(E$5&"-"&E$7&"-"&Schedule!$B15,Aux!$Q$4:$Q$5000,0)),1,""),"") | F15: =IFERROR(IF((F$5&"-"&F$7&"-"&Schedule!$B15)=INDEX(Aux!$Q$4:$Q$5000,MATCH(F$5&"-"&F$7&"-"&Schedule!$B15,Aux!$Q$4:$Q$5000,0)),1,""),"") -> 1 | G15: =IFERROR(IF((G$5&"-"&G$7&"-"&Schedule!$B15)=INDEX(Aux!$Q$4:$Q$5000,MATCH(G$5&"-"&G$7&"-"&Schedule!$B15,Aux!$Q$4:$Q$5000,0)),1,""),"") | H15: =IFERROR(IF((H$5&"-"&H$7&"-"&Schedule!$B15)=INDEX(Aux!$Q$4:$Q$5000,MATCH(H$5&"-"&H$7&"-"&Schedule!$B15,Aux!$Q$4:$Q$5000,0)),1,""),"") -> 1 | I15: =IFERROR(IF((I$5&"-"&I$7&"-"&Schedule!$B15)=INDEX(Aux!$Q$4:$Q$5000,MATCH(I$5&"-"&I$7&"-"&Schedule!$B15,Aux!$Q$4:$Q$5000,0)),1,""),"") | J15: =IFERROR(IF((J$5&"-"&J$7&"-"&Schedule!$B15)=INDEX(Aux!$Q$4:$Q$5000,MATCH(J$5&"-"&J$7&"-"&Schedule!$B15,Aux!$Q$4:$Q$5000,0)),1,""),"") | K15: =IFERROR(IF((K$5&"-"&K$7&"-"&Schedule!$B15)=INDEX(Aux!$Q$4:$Q$5000,MATCH(K$5&"-"&K$7&"-"&Schedule!$B15,Aux!$Q$4:$Q$5000,0)),1,""),"") -> 1 | L15: =IFERROR(IF((L$5&"-"&L$7&"-"&Schedule!$B15)=INDEX(Aux!$Q$4:$Q$5000,MATCH(L$5&"-"&L$7&"-"&Schedule!$B15,Aux!$Q$4:$Q$5000,0)),1,""),"") | ... CH15: =IFERROR(IF((CH$5&"-"&CH$7&"-"&Schedule!$B15)=INDEX(Aux!$Q$4:$Q$5000,MATCH(CH$5&"-"&CH$7&"-"&Schedule!$B15,Aux!$Q$4:$Q$5000,0)),1,""),"")
A16: =IF(A15="","",IF(A15+1<='Tables&Data'!$F$5,A15+1,"")) -> 8 | B16: ='Tables&Data'!B22 -> Player 08 | C16: =IF(B16="","",IFERROR(INDEX(TabPlayer[Name],MATCH(B16,TabPlayer[Players],0)),"")) -> Peter | D16: =IF(SUM(E16:CH16)=0,"",SUM(E16:CH16)) -> 22 | E16: =IFERROR(IF((E$5&"-"&E$7&"-"&Schedule!$B16)=INDEX(Aux!$Q$4:$Q$5000,MATCH(E$5&"-"&E$7&"-"&Schedule!$B16,Aux!$Q$4:$Q$5000,0)),1,""),"") | F16: =IFERROR(IF((F$5&"-"&F$7&"-"&Schedule!$B16)=INDEX(Aux!$Q$4:$Q$5000,MATCH(F$5&"-"&F$7&"-"&Schedule!$B16,Aux!$Q$4:$Q$5000,0)),1,""),"") -> 1 | G16: =IFERROR(IF((G$5&"-"&G$7&"-"&Schedule!$B16)=INDEX(Aux!$Q$4:$Q$5000,MATCH(G$5&"-"&G$7&"-"&Schedule!$B16,Aux!$Q$4:$Q$5000,0)),1,""),"") | H16: =IFERROR(IF((H$5&"-"&H$7&"-"&Schedule!$B16)=INDEX(Aux!$Q$4:$Q$5000,MATCH(H$5&"-"&H$7&"-"&Schedule!$B16,Aux!$Q$4:$Q$5000,0)),1,""),"") -> 1 | I16: =IFERROR(IF((I$5&"-"&I$7&"-"&Schedule!$B16)=INDEX(Aux!$Q$4:$Q$5000,MATCH(I$5&"-"&I$7&"-"&Schedule!$B16,Aux!$Q$4:$Q$5000,0)),1,""),"") | J16: =IFERROR(IF((J$5&"-"&J$7&"-"&Schedule!$B16)=INDEX(Aux!$Q$4:$Q$5000,MATCH(J$5&"-"&J$7&"-"&Schedule!$B16,Aux!$Q$4:$Q$5000,0)),1,""),"") | K16: =IFERROR(IF((K$5&"-"&K$7&"-"&Schedule!$B16)=INDEX(Aux!$Q$4:$Q$5000,MATCH(K$5&"-"&K$7&"-"&Schedule!$B16,Aux!$Q$4:$Q$5000,0)),1,""),"") -> 1 | L16: =IFERROR(IF((L$5&"-"&L$7&"-"&Schedule!$B16)=INDEX(Aux!$Q$4:$Q$5000,MATCH(L$5&"-"&L$7&"-"&Schedule!$B16,Aux!$Q$4:$Q$5000,0)),1,""),"") | ... CH16: =IFERROR(IF((CH$5&"-"&CH$7&"-"&Schedule!$B16)=INDEX(Aux!$Q$4:$Q$5000,MATCH(CH$5&"-"&CH$7&"-"&Schedule!$B16,Aux!$Q$4:$Q$5000,0)),1,""),"")
A17: =IF(A16="","",IF(A16+1<='Tables&Data'!$F$5,A16+1,"")) -> 9 | B17: ='Tables&Data'!B23 -> Player 09 | C17: =IF(B17="","",IFERROR(INDEX(TabPlayer[Name],MATCH(B17,TabPlayer[Players],0)),"")) -> Andrew | D17: =IF(SUM(E17:CH17)=0,"",SUM(E17:CH17)) -> 22 | E17: =IFERROR(IF((E$5&"-"&E$7&"-"&Schedule!$B17)=INDEX(Aux!$Q$4:$Q$5000,MATCH(E$5&"-"&E$7&"-"&Schedule!$B17,Aux!$Q$4:$Q$5000,0)),1,""),"") | F17: =IFERROR(IF((F$5&"-"&F$7&"-"&Schedule!$B17)=INDEX(Aux!$Q$4:$Q$5000,MATCH(F$5&"-"&F$7&"-"&Schedule!$B17,Aux!$Q$4:$Q$5000,0)),1,""),"") -> 1 | G17: =IFERROR(IF((G$5&"-"&G$7&"-"&Schedule!$B17)=INDEX(Aux!$Q$4:$Q$5000,MATCH(G$5&"-"&G$7&"-"&Schedule!$B17,Aux!$Q$4:$Q$5000,0)),1,""),"") | H17: =IFERROR(IF((H$5&"-"&H$7&"-"&Schedule!$B17)=INDEX(Aux!$Q$4:$Q$5000,MATCH(H$5&"-"&H$7&"-"&Schedule!$B17,Aux!$Q$4:$Q$5000,0)),1,""),"") | I17: =IFERROR(IF((I$5&"-"&I$7&"-"&Schedule!$B17)=INDEX(Aux!$Q$4:$Q$5000,MATCH(I$5&"-"&I$7&"-"&Schedule!$B17,Aux!$Q$4:$Q$5000,0)),1,""),"") -> 1 | J17: =IFERROR(IF((J$5&"-"&J$7&"-"&Schedule!$B17)=INDEX(Aux!$Q$4:$Q$5000,MATCH(J$5&"-"&J$7&"-"&Schedule!$B17,Aux!$Q$4:$Q$5000,0)),1,""),"") | K17: =IFERROR(IF((K$5&"-"&K$7&"-"&Schedule!$B17)=INDEX(Aux!$Q$4:$Q$5000,MATCH(K$5&"-"&K$7&"-"&Schedule!$B17,Aux!$Q$4:$Q$5000,0)),1,""),"") -> 1 | L17: =IFERROR(IF((L$5&"-"&L$7&"-"&Schedule!$B17)=INDEX(Aux!$Q$4:$Q$5000,MATCH(L$5&"-"&L$7&"-"&Schedule!$B17,Aux!$Q$4:$Q$5000,0)),1,""),"") | ... CH17: =IFERROR(IF((CH$5&"-"&CH$7&"-"&Schedule!$B17)=INDEX(Aux!$Q$4:$Q$5000,MATCH(CH$5&"-"&CH$7&"-"&Schedule!$B17,Aux!$Q$4:$Q$5000,0)),1,""),"")
A18: =IF(A17="","",IF(A17+1<='Tables&Data'!$F$5,A17+1,"")) -> 10 | B18: ='Tables&Data'!B24 -> Player 10 | C18: =IF(B18="","",IFERROR(INDEX(TabPlayer[Name],MATCH(B18,TabPlayer[Players],0)),"")) -> Albert | D18: =IF(SUM(E18:CH18)=0,"",SUM(E18:CH18)) -> 22 | E18: =IFERROR(IF((E$5&"-"&E$7&"-"&Schedule!$B18)=INDEX(Aux!$Q$4:$Q$5000,MATCH(E$5&"-"&E$7&"-"&Schedule!$B18,Aux!$Q$4:$Q$5000,0)),1,""),"") | F18: =IFERROR(IF((F$5&"-"&F$7&"-"&Schedule!$B18)=INDEX(Aux!$Q$4:$Q$5000,MATCH(F$5&"-"&F$7&"-"&Schedule!$B18,Aux!$Q$4:$Q$5000,0)),1,""),"") -> 1 | G18: =IFERROR(IF((G$5&"-"&G$7&"-"&Schedule!$B18)=INDEX(Aux!$Q$4:$Q$5000,MATCH(G$5&"-"&G$7&"-"&Schedule!$B18,Aux!$Q$4:$Q$5000,0)),1,""),"") | H18: =IFERROR(IF((H$5&"-"&H$7&"-"&Schedule!$B18)=INDEX(Aux!$Q$4:$Q$5000,MATCH(H$5&"-"&H$7&"-"&Schedule!$B18,Aux!$Q$4:$Q$5000,0)),1,""),"") | I18: =IFERROR(IF((I$5&"-"&I$7&"-"&Schedule!$B18)=INDEX(Aux!$Q$4:$Q$5000,MATCH(I$5&"-"&I$7&"-"&Schedule!$B18,Aux!$Q$4:$Q$5000,0)),1,""),"") -> 1 | J18: =IFERROR(IF((J$5&"-"&J$7&"-"&Schedule!$B18)=INDEX(Aux!$Q$4:$Q$5000,MATCH(J$5&"-"&J$7&"-"&Schedule!$B18,Aux!$Q$4:$Q$5000,0)),1,""),"") | K18: =IFERROR(IF((K$5&"-"&K$7&"-"&Schedule!$B18)=INDEX(Aux!$Q$4:$Q$5000,MATCH(K$5&"-"&K$7&"-"&Schedule!$B18,Aux!$Q$4:$Q$5000,0)),1,""),"") -> 1 | L18: =IFERROR(IF((L$5&"-"&L$7&"-"&Schedule!$B18)=INDEX(Aux!$Q$4:$Q$5000,MATCH(L$5&"-"&L$7&"-"&Schedule!$B18,Aux!$Q$4:$Q$5000,0)),1,""),"") | ... CH18: =IFERROR(IF((CH$5&"-"&CH$7&"-"&Schedule!$B18)=INDEX(Aux!$Q$4:$Q$5000,MATCH(CH$5&"-"&CH$7&"-"&Schedule!$B18,Aux!$Q$4:$Q$5000,0)),1,""),"")
A19: =IF(A18="","",IF(A18+1<='Tables&Data'!$F$5,A18+1,"")) -> 11 | B19: ='Tables&Data'!B25 -> Player 11 | C19: =IF(B19="","",IFERROR(INDEX(TabPlayer[Name],MATCH(B19,TabPlayer[Players],0)),"")) -> Fred | D19: =IF(SUM(E19:CH19)=0,"",SUM(E19:CH19)) -> 22 | E19: =IFERROR(IF((E$5&"-"&E$7&"-"&Schedule!$B19)=INDEX(Aux!$Q$4:$Q$5000,MATCH(E$5&"-"&E$7&"-"&Schedule!$B19,Aux!$Q$4:$Q$5000,0)),1,""),"") | F19: =IFERROR(IF((F$5&"-"&F$7&"-"&Schedule!$B19)=INDEX(Aux!$Q$4:$Q$5000,MATCH(F$5&"-"&F$7&"-"&Schedule!$B19,Aux!$Q$4:$Q$5000,0)),1,""),"") | G19: =IFERROR(IF((G$5&"-"&G$7&"-"&Schedule!$B19)=INDEX(Aux!$Q$4:$Q$5000,MATCH(G$5&"-"&G$7&"-"&Schedule!$B19,Aux!$Q$4:$Q$5000,0)),1,""),"") -> 1 | H19: =IFERROR(IF((H$5&"-"&H$7&"-"&Schedule!$B19)=INDEX(Aux!$Q$4:$Q$5000,MATCH(H$5&"-"&H$7&"-"&Schedule!$B19,Aux!$Q$4:$Q$5000,0)),1,""),"") | I19: =IFERROR(IF((I$5&"-"&I$7&"-"&Schedule!$B19)=INDEX(Aux!$Q$4:$Q$5000,MATCH(I$5&"-"&I$7&"-"&Schedule!$B19,Aux!$Q$4:$Q$5000,0)),1,""),"") -> 1 | J19: =IFERROR(IF((J$5&"-"&J$7&"-"&Schedule!$B19)=INDEX(Aux!$Q$4:$Q$5000,MATCH(J$5&"-"&J$7&"-"&Schedule!$B19,Aux!$Q$4:$Q$5000,0)),1,""),"") | K19: =IFERROR(IF((K$5&"-"&K$7&"-"&Schedule!$B19)=INDEX(Aux!$Q$4:$Q$5000,MATCH(K$5&"-"&K$7&"-"&Schedule!$B19,Aux!$Q$4:$Q$5000,0)),1,""),"") -> 1 | L19: =IFERROR(IF((L$5&"-"&L$7&"-"&Schedule!$B19)=INDEX(Aux!$Q$4:$Q$5000,MATCH(L$5&"-"&L$7&"-"&Schedule!$B19,Aux!$Q$4:$Q$5000,0)),1,""),"") | ... CH19: =IFERROR(IF((CH$5&"-"&CH$7&"-"&Schedule!$B19)=INDEX(Aux!$Q$4:$Q$5000,MATCH(CH$5&"-"&CH$7&"-"&Schedule!$B19,Aux!$Q$4:$Q$5000,0)),1,""),"")
A20: =IF(A19="","",IF(A19+1<='Tables&Data'!$F$5,A19+1,"")) -> 12 | B20: ='Tables&Data'!B26 -> Player 12 | C20: =IF(B20="","",IFERROR(INDEX(TabPlayer[Name],MATCH(B20,TabPlayer[Players],0)),"")) -> Anthony | D20: =IF(SUM(E20:CH20)=0,"",SUM(E20:CH20)) -> 22 | E20: =IFERROR(IF((E$5&"-"&E$7&"-"&Schedule!$B20)=INDEX(Aux!$Q$4:$Q$5000,MATCH(E$5&"-"&E$7&"-"&Schedule!$B20,Aux!$Q$4:$Q$5000,0)),1,""),"") | F20: =IFERROR(IF((F$5&"-"&F$7&"-"&Schedule!$B20)=INDEX(Aux!$Q$4:$Q$5000,MATCH(F$5&"-"&F$7&"-"&Schedule!$B20,Aux!$Q$4:$Q$5000,0)),1,""),"") | G20: =IFERROR(IF((G$5&"-"&G$7&"-"&Schedule!$B20)=INDEX(Aux!$Q$4:$Q$5000,MATCH(G$5&"-"&G$7&"-"&Schedule!$B20,Aux!$Q$4:$Q$5000,0)),1,""),"") -> 1 | H20: =IFERROR(IF((H$5&"-"&H$7&"-"&Schedule!$B20)=INDEX(Aux!$Q$4:$Q$5000,MATCH(H$5&"-"&H$7&"-"&Schedule!$B20,Aux!$Q$4:$Q$5000,0)),1,""),"") | I20: =IFERROR(IF((I$5&"-"&I$7&"-"&Schedule!$B20)=INDEX(Aux!$Q$4:$Q$5000,MATCH(I$5&"-"&I$7&"-"&Schedule!$B20,Aux!$Q$4:$Q$5000,0)),1,""),"") -> 1 | J20: =IFERROR(IF((J$5&"-"&J$7&"-"&Schedule!$B20)=INDEX(Aux!$Q$4:$Q$5000,MATCH(J$5&"-"&J$7&"-"&Schedule!$B20,Aux!$Q$4:$Q$5000,0)),1,""),"") | K20: =IFERROR(IF((K$5&"-"&K$7&"-"&Schedule!$B20)=INDEX(Aux!$Q$4:$Q$5000,MATCH(K$5&"-"&K$7&"-"&Schedule!$B20,Aux!$Q$4:$Q$5000,0)),1,""),"") | L20: =IFERROR(IF((L$5&"-"&L$7&"-"&Schedule!$B20)=INDEX(Aux!$Q$4:$Q$5000,MATCH(L$5&"-"&L$7&"-"&Schedule!$B20,Aux!$Q$4:$Q$5000,0)),1,""),"") -> 1 | ... CH20: =IFERROR(IF((CH$5&"-"&CH$7&"-"&Schedule!$B20)=INDEX(Aux!$Q$4:$Q$5000,MATCH(CH$5&"-"&CH$7&"-"&Schedule!$B20,Aux!$Q$4:$Q$5000,0)),1,""),"")
A21: =IF(A20="","",IF(A20+1<='Tables&Data'!$F$5,A20+1,"")) | B21: ='Tables&Data'!B27 | C21: =IF(B21="","",IFERROR(INDEX(TabPlayer[Name],MATCH(B21,TabPlayer[Players],0)),"")) | D21: =IF(SUM(E21:CH21)=0,"",SUM(E21:CH21)) | E21: =IFERROR(IF((E$5&"-"&E$7&"-"&Schedule!$B21)=INDEX(Aux!$Q$4:$Q$5000,MATCH(E$5&"-"&E$7&"-"&Schedule!$B21,Aux!$Q$4:$Q$5000,0)),1,""),"") | F21: =IFERROR(IF((F$5&"-"&F$7&"-"&Schedule!$B21)=INDEX(Aux!$Q$4:$Q$5000,MATCH(F$5&"-"&F$7&"-"&Schedule!$B21,Aux!$Q$4:$Q$5000,0)),1,""),"") | G21: =IFERROR(IF((G$5&"-"&G$7&"-"&Schedule!$B21)=INDEX(Aux!$Q$4:$Q$5000,MATCH(G$5&"-"&G$7&"-"&Schedule!$B21,Aux!$Q$4:$Q$5000,0)),1,""),"") | H21: =IFERROR(IF((H$5&"-"&H$7&"-"&Schedule!$B21)=INDEX(Aux!$Q$4:$Q$5000,MATCH(H$5&"-"&H$7&"-"&Schedule!$B21,Aux!$Q$4:$Q$5000,0)),1,""),"") | I21: =IFERROR(IF((I$5&"-"&I$7&"-"&Schedule!$B21)=INDEX(Aux!$Q$4:$Q$5000,MATCH(I$5&"-"&I$7&"-"&Schedule!$B21,Aux!$Q$4:$Q$5000,0)),1,""),"") | J21: =IFERROR(IF((J$5&"-"&J$7&"-"&Schedule!$B21)=INDEX(Aux!$Q$4:$Q$5000,MATCH(J$5&"-"&J$7&"-"&Schedule!$B21,Aux!$Q$4:$Q$5000,0)),1,""),"") | K21: =IFERROR(IF((K$5&"-"&K$7&"-"&Schedule!$B21)=INDEX(Aux!$Q$4:$Q$5000,MATCH(K$5&"-"&K$7&"-"&Schedule!$B21,Aux!$Q$4:$Q$5000,0)),1,""),"") | L21: =IFERROR(IF((L$5&"-"&L$7&"-"&Schedule!$B21)=INDEX(Aux!$Q$4:$Q$5000,MATCH(L$5&"-"&L$7&"-"&Schedule!$B21,Aux!$Q$4:$Q$5000,0)),1,""),"") | ... CH21: =IFERROR(IF((CH$5&"-"&CH$7&"-"&Schedule!$B21)=INDEX(Aux!$Q$4:$Q$5000,MATCH(CH$5&"-"&CH$7&"-"&Schedule!$B21,Aux!$Q$4:$Q$5000,0)),1,""),"")
... A28: =IF(A27="","",IF(A27+1<='Tables&Data'!$F$5,A27+1,"")) | B28: ='Tables&Data'!B34 | C28: =IF(B28="","",IFERROR(INDEX(TabPlayer[Name],MATCH(B28,TabPlayer[Players],0)),"")) | D28: =IF(SUM(E28:CH28)=0,"",SUM(E28:CH28)) | E28: =IFERROR(IF((E$5&"-"&E$7&"-"&Schedule!$B28)=INDEX(Aux!$Q$4:$Q$5000,MATCH(E$5&"-"&E$7&"-"&Schedule!$B28,Aux!$Q$4:$Q$5000,0)),1,""),"") | F28: =IFERROR(IF((F$5&"-"&F$7&"-"&Schedule!$B28)=INDEX(Aux!$Q$4:$Q$5000,MATCH(F$5&"-"&F$7&"-"&Schedule!$B28,Aux!$Q$4:$Q$5000,0)),1,""),"") | G28: =IFERROR(IF((G$5&"-"&G$7&"-"&Schedule!$B28)=INDEX(Aux!$Q$4:$Q$5000,MATCH(G$5&"-"&G$7&"-"&Schedule!$B28,Aux!$Q$4:$Q$5000,0)),1,""),"") | H28: =IFERROR(IF((H$5&"-"&H$7&"-"&Schedule!$B28)=INDEX(Aux!$Q$4:$Q$5000,MATCH(H$5&"-"&H$7&"-"&Schedule!$B28,Aux!$Q$4:$Q$5000,0)),1,""),"") | I28: =IFERROR(IF((I$5&"-"&I$7&"-"&Schedule!$B28)=INDEX(Aux!$Q$4:$Q$5000,MATCH(I$5&"-"&I$7&"-"&Schedule!$B28,Aux!$Q$4:$Q$5000,0)),1,""),"") | J28: =IFERROR(IF((J$5&"-"&J$7&"-"&Schedule!$B28)=INDEX(Aux!$Q$4:$Q$5000,MATCH(J$5&"-"&J$7&"-"&Schedule!$B28,Aux!$Q$4:$Q$5000,0)),1,""),"") | K28: =IFERROR(IF((K$5&"-"&K$7&"-"&Schedule!$B28)=INDEX(Aux!$Q$4:$Q$5000,MATCH(K$5&"-"&K$7&"-"&Schedule!$B28,Aux!$Q$4:$Q$5000,0)),1,""),"") | L28: =IFERROR(IF((L$5&"-"&L$7&"-"&Schedule!$B28)=INDEX(Aux!$Q$4:$Q$5000,MATCH(L$5&"-"&L$7&"-"&Schedule!$B28,Aux!$Q$4:$Q$5000,0)),1,""),"") | ... CH28: =IFERROR(IF((CH$5&"-"&CH$7&"-"&Schedule!$B28)=INDEX(Aux!$Q$4:$Q$5000,MATCH(CH$5&"-"&CH$7&"-"&Schedule!$B28,Aux!$Q$4:$Q$5000,0)),1,""),"")

Sheet Schedule (2)
C2: EQUAL PLAYING TIME SCHEDULE PER GAME & PERIOD
G4: =Aux!$B$4 -> Player 01 | H4: =Aux!$B$5 -> Player 02 | I4: =Aux!$B$6 -> Player 03 | J4: =Aux!$B$7 -> Player 04 | K4: =Aux!$B$8 -> Player 05 | L4: =Aux!$B$9 -> Player 06 | M4: =Aux!$B$10 -> Player 07 | N4: =Aux!$B$11 -> Player 08 | O4: =Aux!$B$12 -> Player 09 | P4: =Aux!$B$13 -> Player 10 | Q4: =Aux!$B$14 -> Player 11 | R4: =Aux!$B$15 -> Player 12 | S4: =Aux!$B$16 | T4: =Aux!$B$17 | U4: =Aux!$B$18 | V4: =Aux!$B$19 | W4: =Aux!$B$20 | X4: =Aux!$B$21 | Y4: =Aux!$B$22 | Z4: =Aux!$B$23 | AA4: =Aux!$B$19
G5: =IFERROR(INDEX(TabPlayer[Name],MATCH(G4,TabPlayer[Players],0)),"") -> Alan | H5: =IFERROR(INDEX(TabPlayer[Name],MATCH(H4,TabPlayer[Players],0)),"") -> Alex | I5: =IFERROR(INDEX(TabPlayer[Name],MATCH(I4,TabPlayer[Players],0)),"") -> Ian | J5: =IFERROR(INDEX(TabPlayer[Name],MATCH(J4,TabPlayer[Players],0)),"") -> John | K5: =IFERROR(INDEX(TabPlayer[Name],MATCH(K4,TabPlayer[Players],0)),"") -> Mathew | L5: =IFERROR(INDEX(TabPlayer[Name],MATCH(L4,TabPlayer[Players],0)),"") -> Julian | M5: =IFERROR(INDEX(TabPlayer[Name],MATCH(M4,TabPlayer[Players],0)),"") -> Kevin | N5: =IFERROR(INDEX(TabPlayer[Name],MATCH(N4,TabPlayer[Players],0)),"") -> Peter | ... R5: =IFERROR(INDEX(TabPlayer[Name],MATCH(R4,TabPlayer[Players],0)),"") -> Anthony | S5: =IFERROR(INDEX(TabPlayer[Players],MATCH(S4,TabPlayer[Name],0)),"") | T5: =IFERROR(INDEX(TabPlayer[Players],MATCH(T4,TabPlayer[Name],0)),"") | U5: =IFERROR(INDEX(TabPlayer[Players],MATCH(U4,TabPlayer[Name],0)),"") | V5: =IFERROR(INDEX(TabPlayer[Players],MATCH(V4,TabPlayer[Name],0)),"") | W5: =IFERROR(INDEX(TabPlayer[Players],MATCH(W4,TabPlayer[Name],0)),"") | X5: =IFERROR(INDEX(TabPlayer[Players],MATCH(X4,TabPlayer[Name],0)),"") | Y5: =IFERROR(INDEX(TabPlayer[Players],MATCH(Y4,TabPlayer[Name],0)),"") | Z5: =IFERROR(INDEX(TabPlayer[Players],MATCH(Z4,TabPlayer[Name],0)),"") | AA5: =IFERROR(INDEX(TabPlayer[Players],MATCH(AA4,TabPlayer[Name],0)),"")
G6: =IF(SUBTOTAL(9,G8:G491)=0,"",SUBTOTAL(9,G8:G491)) -> 23 | H6: =IF(SUBTOTAL(9,H8:H491)=0,"",SUBTOTAL(9,H8:H491)) -> 23 | I6: =IF(SUBTOTAL(9,I8:I491)=0,"",SUBTOTAL(9,I8:I491)) -> 23 | J6: =IF(SUBTOTAL(9,J8:J491)=0,"",SUBTOTAL(9,J8:J491)) -> 23 | K6: =IF(SUBTOTAL(9,K8:K491)=0,"",SUBTOTAL(9,K8:K491)) -> 23 | L6: =IF(SUBTOTAL(9,L8:L491)=0,"",SUBTOTAL(9,L8:L491)) -> 23 | M6: =IF(SUBTOTAL(9,M8:M491)=0,"",SUBTOTAL(9,M8:M491)) -> 22 | N6: =IF(SUBTOTAL(9,N8:N491)=0,"",SUBTOTAL(9,N8:N491)) -> 22 | ... AA6: =IF(SUBTOTAL(9,AA8:AA491)=0,"",SUBTOTAL(9,AA8:AA491))
B7: Total periods | C7: Game | E7: Period
B8: 1 | C8: =IF(IFERROR(TRUNC((B8-1)/'Tables&Data'!$F$7,0)+1,0)=0,"","G"&TRUNC((B8-1)/'Tables&Data'!$F$7,0)+1) -> G1 | D8: 1 | E8: =IF(D8="","","P"&D8) -> P1 | F8: =IF(E8="","",IF(SUM(G8:AA8)='Tables&Data'!$F$8,"P","O")) -> P | G8: =IFERROR(IF(($C8&"-"&$E8&"-"&G$4)=INDEX(Aux!$Q$4:$Q$5000,MATCH($C8&"-"&$E8&"-"&G$4,Aux!$Q$4:$Q$5000,0)),1,""),"") -> 1 | H8: =IFERROR(IF(($C8&"-"&$E8&"-"&H$4)=INDEX(Aux!$Q$4:$Q$5000,MATCH($C8&"-"&$E8&"-"&H$4,Aux!$Q$4:$Q$5000,0)),1,""),"") -> 1 | I8: =IFERROR(IF(($C8&"-"&$E8&"-"&I$4)=INDEX(Aux!$Q$4:$Q$5000,MATCH($C8&"-"&$E8&"-"&I$4,Aux!$Q$4:$Q$5000,0)),1,""),"") -> 1 | J8: =IFERROR(IF(($C8&"-"&$E8&"-"&J$4)=INDEX(Aux!$Q$4:$Q$5000,MATCH($C8&"-"&$E8&"-"&J$4,Aux!$Q$4:$Q$5000,0)),1,""),"") -> 1 | K8: =IFERROR(IF(($C8&"-"&$E8&"-"&K$4)=INDEX(Aux!$Q$4:$Q$5000,MATCH($C8&"-"&$E8&"-"&K$4,Aux!$Q$4:$Q$5000,0)),1,""),"") -> 1 | L8: =IFERROR(IF(($C8&"-"&$E8&"-"&L$4)=INDEX(Aux!$Q$4:$Q$5000,MATCH($C8&"-"&$E8&"-"&L$4,Aux!$Q$4:$Q$5000,0)),1,""),"") | M8: =IFERROR(IF(($C8&"-"&$E8&"-"&M$4)=INDEX(Aux!$Q$4:$Q$5000,MATCH($C8&"-"&$E8&"-"&M$4,Aux!$Q$4:$Q$5000,0)),1,""),"") | N8: =IFERROR(IF(($C8&"-"&$E8&"-"&N$4)=INDEX(Aux!$Q$4:$Q$5000,MATCH($C8&"-"&$E8&"-"&N$4,Aux!$Q$4:$Q$5000,0)),1,""),"") | ... AA8: =IFERROR(IF(($C8&"-"&$E8&"-"&AA$4)=INDEX(Aux!$Q$4:$Q$5000,MATCH($C8&"-"&$E8&"-"&AA$4,Aux!$Q$4:$Q$5000,0)),1,""),"")
B9: =IF(B8="","",IF(B8+1<='Tables&Data'!$F$9,B8+1,"")) -> 2 | C9: =IF(IFERROR(TRUNC((B9-1)/'Tables&Data'!$F$7,0)+1,0)=0,"","G"&TRUNC((B9-1)/'Tables&Data'!$F$7,0)+1) -> G1 | D9: =IF(C9="","",IF(D8='Tables&Data'!$F$7,1,D8+1)) -> 2 | E9: =IF(D9="","","P"&D9) -> P2 | F9: =IF(E9="","",IF(SUM(G9:AA9)='Tables&Data'!$F$8,"P","O")) -> P | G9: =IFERROR(IF(($C9&"-"&$E9&"-"&G$4)=INDEX(Aux!$Q$4:$Q$5000,MATCH($C9&"-"&$E9&"-"&G$4,Aux!$Q$4:$Q$5000,0)),1,""),"") | H9: =IFERROR(IF(($C9&"-"&$E9&"-"&H$4)=INDEX(Aux!$Q$4:$Q$5000,MATCH($C9&"-"&$E9&"-"&H$4,Aux!$Q$4:$Q$5000,0)),1,""),"") | I9: =IFERROR(IF(($C9&"-"&$E9&"-"&I$4)=INDEX(Aux!$Q$4:$Q$5000,MATCH($C9&"-"&$E9&"-"&I$4,Aux!$Q$4:$Q$5000,0)),1,""),"") | J9: =IFERROR(IF(($C9&"-"&$E9&"-"&J$4)=INDEX(Aux!$Q$4:$Q$5000,MATCH($C9&"-"&$E9&"-"&J$4,Aux!$Q$4:$Q$5000,0)),1,""),"") | K9: =IFERROR(IF(($C9&"-"&$E9&"-"&K$4)=INDEX(Aux!$Q$4:$Q$5000,MATCH($C9&"-"&$E9&"-"&K$4,Aux!$Q$4:$Q$5000,0)),1,""),"") | L9: =IFERROR(IF(($C9&"-"&$E9&"-"&L$4)=INDEX(Aux!$Q$4:$Q$5000,MATCH($C9&"-"&$E9&"-"&L$4,Aux!$Q$4:$Q$5000,0)),1,""),"") -> 1 | M9: =IFERROR(IF(($C9&"-"&$E9&"-"&M$4)=INDEX(Aux!$Q$4:$Q$5000,MATCH($C9&"-"&$E9&"-"&M$4,Aux!$Q$4:$Q$5000,0)),1,""),"") -> 1 | N9: =IFERROR(IF(($C9&"-"&$E9&"-"&N$4)=INDEX(Aux!$Q$4:$Q$5000,MATCH($C9&"-"&$E9&"-"&N$4,Aux!$Q$4:$Q$5000,0)),1,""),"") -> 1 | ... AA9: =IFERROR(IF(($C9&"-"&$E9&"-"&AA$4)=INDEX(Aux!$Q$4:$Q$5000,MATCH($C9&"-"&$E9&"-"&AA$4,Aux!$Q$4:$Q$5000,0)),1,""),"")
B10: =IF(B9="","",IF(B9+1<='Tables&Data'!$F$9,B9+1,"")) -> 3 | C10: =IF(IFERROR(TRUNC((B10-1)/'Tables&Data'!$F$7,0)+1,0)=0,"","G"&TRUNC((B10-1)/'Tables&Data'!$F$7,0)+1) -> G1 | D10: =IF(C10="","",IF(D9='Tables&Data'!$F$7,1,D9+1)) -> 3 | E10: =IF(D10="","","P"&D10) -> P3 | F10: =IF(E10="","",IF(SUM(G10:AA10)='Tables&Data'!$F$8,"P","O")) -> P | G10: =IFERROR(IF(($C10&"-"&$E10&"-"&G$4)=INDEX(Aux!$Q$4:$Q$5000,MATCH($C10&"-"&$E10&"-"&G$4,Aux!$Q$4:$Q$5000,0)),1,""),"") -> 1 | H10: =IFERROR(IF(($C10&"-"&$E10&"-"&H$4)=INDEX(Aux!$Q$4:$Q$5000,MATCH($C10&"-"&$E10&"-"&H$4,Aux!$Q$4:$Q$5000,0)),1,""),"") -> 1 | I10: =IFERROR(IF(($C10&"-"&$E10&"-"&I$4)=INDEX(Aux!$Q$4:$Q$5000,MATCH($C10&"-"&$E10&"-"&I$4,Aux!$Q$4:$Q$5000,0)),1,""),"") -> 1 | J10: =IFERROR(IF(($C10&"-"&$E10&"-"&J$4)=INDEX(Aux!$Q$4:$Q$5000,MATCH($C10&"-"&$E10&"-"&J$4,Aux!$Q$4:$Q$5000,0)),1,""),"") | K10: =IFERROR(IF(($C10&"-"&$E10&"-"&K$4)=INDEX(Aux!$Q$4:$Q$5000,MATCH($C10&"-"&$E10&"-"&K$4,Aux!$Q$4:$Q$5000,0)),1,""),"") | L10: =IFERROR(IF(($C10&"-"&$E10&"-"&L$4)=INDEX(Aux!$Q$4:$Q$5000,MATCH($C10&"-"&$E10&"-"&L$4,Aux!$Q$4:$Q$5000,0)),1,""),"") | M10: =IFERROR(IF(($C10&"-"&$E10&"-"&M$4)=INDEX(Aux!$Q$4:$Q$5000,MATCH($C10&"-"&$E10&"-"&M$4,Aux!$Q$4:$Q$5000,0)),1,""),"") | N10: =IFERROR(IF(($C10&"-"&$E10&"-"&N$4)=INDEX(Aux!$Q$4:$Q$5000,MATCH($C10&"-"&$E10&"-"&N$4,Aux!$Q$4:$Q$5000,0)),1,""),"") | ... AA10: =IFERROR(IF(($C10&"-"&$E10&"-"&AA$4)=INDEX(Aux!$Q$4:$Q$5000,MATCH($C10&"-"&$E10&"-"&AA$4,Aux!$Q$4:$Q$5000,0)),1,""),"")
B11: =IF(B10="","",IF(B10+1<='Tables&Data'!$F$9,B10+1,"")) -> 4 | C11: =IF(IFERROR(TRUNC((B11-1)/'Tables&Data'!$F$7,0)+1,0)=0,"","G"&TRUNC((B11-1)/'Tables&Data'!$F$7,0)+1) -> G1 | D11: =IF(C11="","",IF(D10='Tables&Data'!$F$7,1,D10+1)) -> 4 | E11: =IF(D11="","","P"&D11) -> P4 | F11: =IF(E11="","",IF(SUM(G11:AA11)='Tables&Data'!$F$8,"P","O")) -> P | G11: =IFERROR(IF(($C11&"-"&$E11&"-"&G$4)=INDEX(Aux!$Q$4:$Q$5000,MATCH($C11&"-"&$E11&"-"&G$4,Aux!$Q$4:$Q$5000,0)),1,""),"") | H11: =IFERROR(IF(($C11&"-"&$E11&"-"&H$4)=INDEX(Aux!$Q$4:$Q$5000,MATCH($C11&"-"&$E11&"-"&H$4,Aux!$Q$4:$Q$5000,0)),1,""),"") | I11: =IFERROR(IF(($C11&"-"&$E11&"-"&I$4)=INDEX(Aux!$Q$4:$Q$5000,MATCH($C11&"-"&$E11&"-"&I$4,Aux!$Q$4:$Q$5000,0)),1,""),"") | J11: =IFERROR(IF(($C11&"-"&$E11&"-"&J$4)=INDEX(Aux!$Q$4:$Q$5000,MATCH($C11&"-"&$E11&"-"&J$4,Aux!$Q$4:$Q$5000,0)),1,""),"") -> 1 | K11: =IFERROR(IF(($C11&"-"&$E11&"-"&K$4)=INDEX(Aux!$Q$4:$Q$5000,MATCH($C11&"-"&$E11&"-"&K$4,Aux!$Q$4:$Q$5000,0)),1,""),"") -> 1 | L11: =IFERROR(IF(($C11&"-"&$E11&"-"&L$4)=INDEX(Aux!$Q$4:$Q$5000,MATCH($C11&"-"&$E11&"-"&L$4,Aux!$Q$4:$Q$5000,0)),1,""),"") -> 1 | M11: =IFERROR(IF(($C11&"-"&$E11&"-"&M$4)=INDEX(Aux!$Q$4:$Q$5000,MATCH($C11&"-"&$E11&"-"&M$4,Aux!$Q$4:$Q$5000,0)),1,""),"") -> 1 | N11: =IFERROR(IF(($C11&"-"&$E11&"-"&N$4)=INDEX(Aux!$Q$4:$Q$5000,MATCH($C11&"-"&$E11&"-"&N$4,Aux!$Q$4:$Q$5000,0)),1,""),"") -> 1 | ... AA11: =IFERROR(IF(($C11&"-"&$E11&"-"&AA$4)=INDEX(Aux!$Q$4:$Q$5000,MATCH($C11&"-"&$E11&"-"&AA$4,Aux!$Q$4:$Q$5000,0)),1,""),"")
B12: =IF(B11="","",IF(B11+1<='Tables&Data'!$F$9,B11+1,"")) -> 5 | C12: =IF(IFERROR(TRUNC((B12-1)/'Tables&Data'!$F$7,0)+1,0)=0,"","G"&TRUNC((B12-1)/'Tables&Data'!$F$7,0)+1) -> G1 | D12: =IF(C12="","",IF(D11='Tables&Data'!$F$7,1,D11+1)) -> 5 | E12: =IF(D12="","","P"&D12) -> P5 | F12: =IF(E12="","",IF(SUM(G12:AA12)='Tables&Data'!$F$8,"P","O")) -> P | G12: =IFERROR(IF(($C12&"-"&$E12&"-"&G$4)=INDEX(Aux!$Q$4:$Q$5000,MATCH($C12&"-"&$E12&"-"&G$4,Aux!$Q$4:$Q$5000,0)),1,""),"") -> 1 | H12: =IFERROR(IF(($C12&"-"&$E12&"-"&H$4)=INDEX(Aux!$Q$4:$Q$5000,MATCH($C12&"-"&$E12&"-"&H$4,Aux!$Q$4:$Q$5000,0)),1,""),"") | I12: =IFERROR(IF(($C12&"-"&$E12&"-"&I$4)=INDEX(Aux!$Q$4:$Q$5000,MATCH($C12&"-"&$E12&"-"&I$4,Aux!$Q$4:$Q$5000,0)),1,""),"") | J12: =IFERROR(IF(($C12&"-"&$E12&"-"&J$4)=INDEX(Aux!$Q$4:$Q$5000,MATCH($C12&"-"&$E12&"-"&J$4,Aux!$Q$4:$Q$5000,0)),1,""),"") | K12: =IFERROR(IF(($C12&"-"&$E12&"-"&K$4)=INDEX(Aux!$Q$4:$Q$5000,MATCH($C12&"-"&$E12&"-"&K$4,Aux!$Q$4:$Q$5000,0)),1,""),"") | L12: =IFERROR(IF(($C12&"-"&$E12&"-"&L$4)=INDEX(Aux!$Q$4:$Q$5000,MATCH($C12&"-"&$E12&"-"&L$4,Aux!$Q$4:$Q$5000,0)),1,""),"") | M12: =IFERROR(IF(($C12&"-"&$E12&"-"&M$4)=INDEX(Aux!$Q$4:$Q$5000,MATCH($C12&"-"&$E12&"-"&M$4,Aux!$Q$4:$Q$5000,0)),1,""),"") | N12: =IFERROR(IF(($C12&"-"&$E12&"-"&N$4)=INDEX(Aux!$Q$4:$Q$5000,MATCH($C12&"-"&$E12&"-"&N$4,Aux!$Q$4:$Q$5000,0)),1,""),"") | ... AA12: =IFERROR(IF(($C12&"-"&$E12&"-"&AA$4)=INDEX(Aux!$Q$4:$Q$5000,MATCH($C12&"-"&$E12&"-"&AA$4,Aux!$Q$4:$Q$5000,0)),1,""),"")
B13: =IF(B12="","",IF(B12+1<='Tables&Data'!$F$9,B12+1,"")) -> 6 | C13: =IF(IFERROR(TRUNC((B13-1)/'Tables&Data'!$F$7,0)+1,0)=0,"","G"&TRUNC((B13-1)/'Tables&Data'!$F$7,0)+1) -> G1 | D13: =IF(C13="","",IF(D12='Tables&Data'!$F$7,1,D12+1)) -> 6 | E13: =IF(D13="","","P"&D13) -> P6 | F13: =IF(E13="","",IF(SUM(G13:AA13)='Tables&Data'!$F$8,"P","O")) -> P | G13: =IFERROR(IF(($C13&"-"&$E13&"-"&G$4)=INDEX(Aux!$Q$4:$Q$5000,MATCH($C13&"-"&$E13&"-"&G$4,Aux!$Q$4:$Q$5000,0)),1,""),"") | H13: =IFERROR(IF(($C13&"-"&$E13&"-"&H$4)=INDEX(Aux!$Q$4:$Q$5000,MATCH($C13&"-"&$E13&"-"&H$4,Aux!$Q$4:$Q$5000,0)),1,""),"") -> 1 | I13: =IFERROR(IF(($C13&"-"&$E13&"-"&I$4)=INDEX(Aux!$Q$4:$Q$5000,MATCH($C13&"-"&$E13&"-"&I$4,Aux!$Q$4:$Q$5000,0)),1,""),"") -> 1 | J13: =IFERROR(IF(($C13&"-"&$E13&"-"&J$4)=INDEX(Aux!$Q$4:$Q$5000,MATCH($C13&"-"&$E13&"-"&J$4,Aux!$Q$4:$Q$5000,0)),1,""),"") -> 1 | K13: =IFERROR(IF(($C13&"-"&$E13&"-"&K$4)=INDEX(Aux!$Q$4:$Q$5000,MATCH($C13&"-"&$E13&"-"&K$4,Aux!$Q$4:$Q$5000,0)),1,""),"") -> 1 | L13: =IFERROR(IF(($C13&"-"&$E13&"-"&L$4)=INDEX(Aux!$Q$4:$Q$5000,MATCH($C13&"-"&$E13&"-"&L$4,Aux!$Q$4:$Q$5000,0)),1,""),"") -> 1 | M13: =IFERROR(IF(($C13&"-"&$E13&"-"&M$4)=INDEX(Aux!$Q$4:$Q$5000,MATCH($C13&"-"&$E13&"-"&M$4,Aux!$Q$4:$Q$5000,0)),1,""),"") | N13: =IFERROR(IF(($C13&"-"&$E13&"-"&N$4)=INDEX(Aux!$Q$4:$Q$5000,MATCH($C13&"-"&$E13&"-"&N$4,Aux!$Q$4:$Q$5000,0)),1,""),"") | ... AA13: =IFERROR(IF(($C13&"-"&$E13&"-"&AA$4)=INDEX(Aux!$Q$4:$Q$5000,MATCH($C13&"-"&$E13&"-"&AA$4,Aux!$Q$4:$Q$5000,0)),1,""),"")
B14: =IF(B13="","",IF(B13+1<='Tables&Data'!$F$9,B13+1,"")) -> 7 | C14: =IF(IFERROR(TRUNC((B14-1)/'Tables&Data'!$F$7,0)+1,0)=0,"","G"&TRUNC((B14-1)/'Tables&Data'!$F$7,0)+1) -> G1 | D14: =IF(C14="","",IF(D13='Tables&Data'!$F$7,1,D13+1)) -> 7 | E14: =IF(D14="","","P"&D14) -> P7 | F14: =IF(E14="","",IF(SUM(G14:AA14)='Tables&Data'!$F$8,"P","O")) -> P | G14: =IFERROR(IF(($C14&"-"&$E14&"-"&G$4)=INDEX(Aux!$Q$4:$Q$5000,MATCH($C14&"-"&$E14&"-"&G$4,Aux!$Q$4:$Q$5000,0)),1,""),"") | H14: =IFERROR(IF(($C14&"-"&$E14&"-"&H$4)=INDEX(Aux!$Q$4:$Q$5000,MATCH($C14&"-"&$E14&"-"&H$4,Aux!$Q$4:$Q$5000,0)),1,""),"") | I14: =IFERROR(IF(($C14&"-"&$E14&"-"&I$4)=INDEX(Aux!$Q$4:$Q$5000,MATCH($C14&"-"&$E14&"-"&I$4,Aux!$Q$4:$Q$5000,0)),1,""),"") | J14: =IFERROR(IF(($C14&"-"&$E14&"-"&J$4)=INDEX(Aux!$Q$4:$Q$5000,MATCH($C14&"-"&$E14&"-"&J$4,Aux!$Q$4:$Q$5000,0)),1,""),"") | K14: =IFERROR(IF(($C14&"-"&$E14&"-"&K$4)=INDEX(Aux!$Q$4:$Q$5000,MATCH($C14&"-"&$E14&"-"&K$4,Aux!$Q$4:$Q$5000,0)),1,""),"") | L14: =IFERROR(IF(($C14&"-"&$E14&"-"&L$4)=INDEX(Aux!$Q$4:$Q$5000,MATCH($C14&"-"&$E14&"-"&L$4,Aux!$Q$4:$Q$5000,0)),1,""),"") | M14: =IFERROR(IF(($C14&"-"&$E14&"-"&M$4)=INDEX(Aux!$Q$4:$Q$5000,MATCH($C14&"-"&$E14&"-"&M$4,Aux!$Q$4:$Q$5000,0)),1,""),"") -> 1 | N14: =IFERROR(IF(($C14&"-"&$E14&"-"&N$4)=INDEX(Aux!$Q$4:$Q$5000,MATCH($C14&"-"&$E14&"-"&N$4,Aux!$Q$4:$Q$5000,0)),1,""),"") -> 1 | ... AA14: =IFERROR(IF(($C14&"-"&$E14&"-"&AA$4)=INDEX(Aux!$Q$4:$Q$5000,MATCH($C14&"-"&$E14&"-"&AA$4,Aux!$Q$4:$Q$5000,0)),1,""),"")
B15: =IF(B14="","",IF(B14+1<='Tables&Data'!$F$9,B14+1,"")) -> 8 | C15: =IF(IFERROR(TRUNC((B15-1)/'Tables&Data'!$F$7,0)+1,0)=0,"","G"&TRUNC((B15-1)/'Tables&Data'!$F$7,0)+1) -> G1 | D15: =IF(C15="","",IF(D14='Tables&Data'!$F$7,1,D14+1)) -> 8 | E15: =IF(D15="","","P"&D15) -> P8 | F15: =IF(E15="","",IF(SUM(G15:AA15)='Tables&Data'!$F$8,"P","O")) -> P | G15: =IFERROR(IF(($C15&"-"&$E15&"-"&G$4)=INDEX(Aux!$Q$4:$Q$5000,MATCH($C15&"-"&$E15&"-"&G$4,Aux!$Q$4:$Q$5000,0)),1,""),"") -> 1 | H15: =IFERROR(IF(($C15&"-"&$E15&"-"&H$4)=INDEX(Aux!$Q$4:$Q$5000,MATCH($C15&"-"&$E15&"-"&H$4,Aux!$Q$4:$Q$5000,0)),1,""),"") -> 1 | I15: =IFERROR(IF(($C15&"-"&$E15&"-"&I$4)=INDEX(Aux!$Q$4:$Q$5000,MATCH($C15&"-"&$E15&"-"&I$4,Aux!$Q$4:$Q$5000,0)),1,""),"") -> 1 | J15: =IFERROR(IF(($C15&"-"&$E15&"-"&J$4)=INDEX(Aux!$Q$4:$Q$5000,MATCH($C15&"-"&$E15&"-"&J$4,Aux!$Q$4:$Q$5000,0)),1,""),"") -> 1 | K15: =IFERROR(IF(($C15&"-"&$E15&"-"&K$4)=INDEX(Aux!$Q$4:$Q$5000,MATCH($C15&"-"&$E15&"-"&K$4,Aux!$Q$4:$Q$5000,0)),1,""),"") | L15: =IFERROR(IF(($C15&"-"&$E15&"-"&L$4)=INDEX(Aux!$Q$4:$Q$5000,MATCH($C15&"-"&$E15&"-"&L$4,Aux!$Q$4:$Q$5000,0)),1,""),"") | M15: =IFERROR(IF(($C15&"-"&$E15&"-"&M$4)=INDEX(Aux!$Q$4:$Q$5000,MATCH($C15&"-"&$E15&"-"&M$4,Aux!$Q$4:$Q$5000,0)),1,""),"") | N15: =IFERROR(IF(($C15&"-"&$E15&"-"&N$4)=INDEX(Aux!$Q$4:$Q$5000,MATCH($C15&"-"&$E15&"-"&N$4,Aux!$Q$4:$Q$5000,0)),1,""),"") | ... AA15: =IFERROR(IF(($C15&"-"&$E15&"-"&AA$4)=INDEX(Aux!$Q$4:$Q$5000,MATCH($C15&"-"&$E15&"-"&AA$4,Aux!$Q$4:$Q$5000,0)),1,""),"")
B16: =IF(B15="","",IF(B15+1<='Tables&Data'!$F$9,B15+1,"")) -> 9 | C16: =IF(IFERROR(TRUNC((B16-1)/'Tables&Data'!$F$7,0)+1,0)=0,"","G"&TRUNC((B16-1)/'Tables&Data'!$F$7,0)+1) -> G1 | D16: =IF(C16="","",IF(D15='Tables&Data'!$F$7,1,D15+1)) -> 9 | E16: =IF(D16="","","P"&D16) -> P9 | F16: =IF(E16="","",IF(SUM(G16:AA16)='Tables&Data'!$F$8,"P","O")) -> P | G16: =IFERROR(IF(($C16&"-"&$E16&"-"&G$4)=INDEX(Aux!$Q$4:$Q$5000,MATCH($C16&"-"&$E16&"-"&G$4,Aux!$Q$4:$Q$5000,0)),1,""),"") | H16: =IFERROR(IF(($C16&"-"&$E16&"-"&H$4)=INDEX(Aux!$Q$4:$Q$5000,MATCH($C16&"-"&$E16&"-"&H$4,Aux!$Q$4:$Q$5000,0)),1,""),"") | I16: =IFERROR(IF(($C16&"-"&$E16&"-"&I$4)=INDEX(Aux!$Q$4:$Q$5000,MATCH($C16&"-"&$E16&"-"&I$4,Aux!$Q$4:$Q$5000,0)),1,""),"") | J16: =IFERROR(IF(($C16&"-"&$E16&"-"&J$4)=INDEX(Aux!$Q$4:$Q$5000,MATCH($C16&"-"&$E16&"-"&J$4,Aux!$Q$4:$Q$5000,0)),1,""),"") | K16: =IFERROR(IF(($C16&"-"&$E16&"-"&K$4)=INDEX(Aux!$Q$4:$Q$5000,MATCH($C16&"-"&$E16&"-"&K$4,Aux!$Q$4:$Q$5000,0)),1,""),"") -> 1 | L16: =IFERROR(IF(($C16&"-"&$E16&"-"&L$4)=INDEX(Aux!$Q$4:$Q$5000,MATCH($C16&"-"&$E16&"-"&L$4,Aux!$Q$4:$Q$5000,0)),1,""),"") -> 1 | M16: =IFERROR(IF(($C16&"-"&$E16&"-"&M$4)=INDEX(Aux!$Q$4:$Q$5000,MATCH($C16&"-"&$E16&"-"&M$4,Aux!$Q$4:$Q$5000,0)),1,""),"") -> 1 | N16: =IFERROR(IF(($C16&"-"&$E16&"-"&N$4)=INDEX(Aux!$Q$4:$Q$5000,MATCH($C16&"-"&$E16&"-"&N$4,Aux!$Q$4:$Q$5000,0)),1,""),"") -> 1 | ... AA16: =IFERROR(IF(($C16&"-"&$E16&"-"&AA$4)=INDEX(Aux!$Q$4:$Q$5000,MATCH($C16&"-"&$E16&"-"&AA$4,Aux!$Q$4:$Q$5000,0)),1,""),"")
B17: =IF(B16="","",IF(B16+1<='Tables&Data'!$F$9,B16+1,"")) -> 10 | C17: =IF(IFERROR(TRUNC((B17-1)/'Tables&Data'!$F$7,0)+1,0)=0,"","G"&TRUNC((B17-1)/'Tables&Data'!$F$7,0)+1) -> G2 | D17: =IF(C17="","",IF(D16='Tables&Data'!$F$7,1,D16+1)) -> 1 | E17: =IF(D17="","","P"&D17) -> P1 | F17: =IF(E17="","",IF(SUM(G17:AA17)='Tables&Data'!$F$8,"P","O")) -> P | G17: =IFERROR(IF(($C17&"-"&$E17&"-"&G$4)=INDEX(Aux!$Q$4:$Q$5000,MATCH($C17&"-"&$E17&"-"&G$4,Aux!$Q$4:$Q$5000,0)),1,""),"") -> 1 | H17: =IFERROR(IF(($C17&"-"&$E17&"-"&H$4)=INDEX(Aux!$Q$4:$Q$5000,MATCH($C17&"-"&$E17&"-"&H$4,Aux!$Q$4:$Q$5000,0)),1,""),"") -> 1 | I17: =IFERROR(IF(($C17&"-"&$E17&"-"&I$4)=INDEX(Aux!$Q$4:$Q$5000,MATCH($C17&"-"&$E17&"-"&I$4,Aux!$Q$4:$Q$5000,0)),1,""),"") | J17: =IFERROR(IF(($C17&"-"&$E17&"-"&J$4)=INDEX(Aux!$Q$4:$Q$5000,MATCH($C17&"-"&$E17&"-"&J$4,Aux!$Q$4:$Q$5000,0)),1,""),"") | K17: =IFERROR(IF(($C17&"-"&$E17&"-"&K$4)=INDEX(Aux!$Q$4:$Q$5000,MATCH($C17&"-"&$E17&"-"&K$4,Aux!$Q$4:$Q$5000,0)),1,""),"") | L17: =IFERROR(IF(($C17&"-"&$E17&"-"&L$4)=INDEX(Aux!$Q$4:$Q$5000,MATCH($C17&"-"&$E17&"-"&L$4,Aux!$Q$4:$Q$5000,0)),1,""),"") | M17: =IFERROR(IF(($C17&"-"&$E17&"-"&M$4)=INDEX(Aux!$Q$4:$Q$5000,MATCH($C17&"-"&$E17&"-"&M$4,Aux!$Q$4:$Q$5000,0)),1,""),"") | N17: =IFERROR(IF(($C17&"-"&$E17&"-"&N$4)=INDEX(Aux!$Q$4:$Q$5000,MATCH($C17&"-"&$E17&"-"&N$4,Aux!$Q$4:$Q$5000,0)),1,""),"") | ... AA17: =IFERROR(IF(($C17&"-"&$E17&"-"&AA$4)=INDEX(Aux!$Q$4:$Q$5000,MATCH($C17&"-"&$E17&"-"&AA$4,Aux!$Q$4:$Q$5000,0)),1,""),"")
B18: =IF(B17="","",IF(B17+1<='Tables&Data'!$F$9,B17+1,"")) -> 11 | C18: =IF(IFERROR(TRUNC((B18-1)/'Tables&Data'!$F$7,0)+1,0)=0,"","G"&TRUNC((B18-1)/'Tables&Data'!$F$7,0)+1) -> G2 | D18: =IF(C18="","",IF(D17='Tables&Data'!$F$7,1,D17+1)) -> 2 | E18: =IF(D18="","","P"&D18) -> P2 | F18: =IF(E18="","",IF(SUM(G18:AA18)='Tables&Data'!$F$8,"P","O")) -> P | G18: =IFERROR(IF(($C18&"-"&$E18&"-"&G$4)=INDEX(Aux!$Q$4:$Q$5000,MATCH($C18&"-"&$E18&"-"&G$4,Aux!$Q$4:$Q$5000,0)),1,""),"") | H18: =IFERROR(IF(($C18&"-"&$E18&"-"&H$4)=INDEX(Aux!$Q$4:$Q$5000,MATCH($C18&"-"&$E18&"-"&H$4,Aux!$Q$4:$Q$5000,0)),1,""),"") | I18: =IFERROR(IF(($C18&"-"&$E18&"-"&I$4)=INDEX(Aux!$Q$4:$Q$5000,MATCH($C18&"-"&$E18&"-"&I$4,Aux!$Q$4:$Q$5000,0)),1,""),"") -> 1 | J18: =IFERROR(IF(($C18&"-"&$E18&"-"&J$4)=INDEX(Aux!$Q$4:$Q$5000,MATCH($C18&"-"&$E18&"-"&J$4,Aux!$Q$4:$Q$5000,0)),1,""),"") -> 1 | K18: =IFERROR(IF(($C18&"-"&$E18&"-"&K$4)=INDEX(Aux!$Q$4:$Q$5000,MATCH($C18&"-"&$E18&"-"&K$4,Aux!$Q$4:$Q$5000,0)),1,""),"") -> 1 | L18: =IFERROR(IF(($C18&"-"&$E18&"-"&L$4)=INDEX(Aux!$Q$4:$Q$5000,MATCH($C18&"-"&$E18&"-"&L$4,Aux!$Q$4:$Q$5000,0)),1,""),"") -> 1 | M18: =IFERROR(IF(($C18&"-"&$E18&"-"&M$4)=INDEX(Aux!$Q$4:$Q$5000,MATCH($C18&"-"&$E18&"-"&M$4,Aux!$Q$4:$Q$5000,0)),1,""),"") -> 1 | N18: =IFERROR(IF(($C18&"-"&$E18&"-"&N$4)=INDEX(Aux!$Q$4:$Q$5000,MATCH($C18&"-"&$E18&"-"&N$4,Aux!$Q$4:$Q$5000,0)),1,""),"") | ... AA18: =IFERROR(IF(($C18&"-"&$E18&"-"&AA$4)=INDEX(Aux!$Q$4:$Q$5000,MATCH($C18&"-"&$E18&"-"&AA$4,Aux!$Q$4:$Q$5000,0)),1,""),"")
B19: =IF(B18="","",IF(B18+1<='Tables&Data'!$F$9,B18+1,"")) -> 12 | C19: =IF(IFERROR(TRUNC((B19-1)/'Tables&Data'!$F$7,0)+1,0)=0,"","G"&TRUNC((B19-1)/'Tables&Data'!$F$7,0)+1) -> G2 | D19: =IF(C19="","",IF(D18='Tables&Data'!$F$7,1,D18+1)) -> 3 | E19: =IF(D19="","","P"&D19) -> P3 | F19: =IF(E19="","",IF(SUM(G19:AA19)='Tables&Data'!$F$8,"P","O")) -> P | G19: =IFERROR(IF(($C19&"-"&$E19&"-"&G$4)=INDEX(Aux!$Q$4:$Q$5000,MATCH($C19&"-"&$E19&"-"&G$4,Aux!$Q$4:$Q$5000,0)),1,""),"") | H19: =IFERROR(IF(($C19&"-"&$E19&"-"&H$4)=INDEX(Aux!$Q$4:$Q$5000,MATCH($C19&"-"&$E19&"-"&H$4,Aux!$Q$4:$Q$5000,0)),1,""),"") | I19: =IFERROR(IF(($C19&"-"&$E19&"-"&I$4)=INDEX(Aux!$Q$4:$Q$5000,MATCH($C19&"-"&$E19&"-"&I$4,Aux!$Q$4:$Q$5000,0)),1,""),"") | J19: =IFERROR(IF(($C19&"-"&$E19&"-"&J$4)=INDEX(Aux!$Q$4:$Q$5000,MATCH($C19&"-"&$E19&"-"&J$4,Aux!$Q$4:$Q$5000,0)),1,""),"") | K19: =IFERROR(IF(($C19&"-"&$E19&"-"&K$4)=INDEX(Aux!$Q$4:$Q$5000,MATCH($C19&"-"&$E19&"-"&K$4,Aux!$Q$4:$Q$5000,0)),1,""),"") | L19: =IFERROR(IF(($C19&"-"&$E19&"-"&L$4)=INDEX(Aux!$Q$4:$Q$5000,MATCH($C19&"-"&$E19&"-"&L$4,Aux!$Q$4:$Q$5000,0)),1,""),"") | M19: =IFERROR(IF(($C19&"-"&$E19&"-"&M$4)=INDEX(Aux!$Q$4:$Q$5000,MATCH($C19&"-"&$E19&"-"&M$4,Aux!$Q$4:$Q$5000,0)),1,""),"") | N19: =IFERROR(IF(($C19&"-"&$E19&"-"&N$4)=INDEX(Aux!$Q$4:$Q$5000,MATCH($C19&"-"&$E19&"-"&N$4,Aux!$Q$4:$Q$5000,0)),1,""),"") -> 1 | ... AA19: =IFERROR(IF(($C19&"-"&$E19&"-"&AA$4)=INDEX(Aux!$Q$4:$Q$5000,MATCH($C19&"-"&$E19&"-"&AA$4,Aux!$Q$4:$Q$5000,0)),1,""),"")
B20: =IF(B19="","",IF(B19+1<='Tables&Data'!$F$9,B19+1,"")) -> 13 | C20: =IF(IFERROR(TRUNC((B20-1)/'Tables&Data'!$F$7,0)+1,0)=0,"","G"&TRUNC((B20-1)/'Tables&Data'!$F$7,0)+1) -> G2 | D20: =IF(C20="","",IF(D19='Tables&Data'!$F$7,1,D19+1)) -> 4 | E20: =IF(D20="","","P"&D20) -> P4 | F20: =IF(E20="","",IF(SUM(G20:AA20)='Tables&Data'!$F$8,"P","O")) -> P | G20: =IFERROR(IF(($C20&"-"&$E20&"-"&G$4)=INDEX(Aux!$Q$4:$Q$5000,MATCH($C20&"-"&$E20&"-"&G$4,Aux!$Q$4:$Q$5000,0)),1,""),"") -> 1 | H20: =IFERROR(IF(($C20&"-"&$E20&"-"&H$4)=INDEX(Aux!$Q$4:$Q$5000,MATCH($C20&"-"&$E20&"-"&H$4,Aux!$Q$4:$Q$5000,0)),1,""),"") -> 1 | I20: =IFERROR(IF(($C20&"-"&$E20&"-"&I$4)=INDEX(Aux!$Q$4:$Q$5000,MATCH($C20&"-"&$E20&"-"&I$4,Aux!$Q$4:$Q$5000,0)),1,""),"") -> 1 | J20: =IFERROR(IF(($C20&"-"&$E20&"-"&J$4)=INDEX(Aux!$Q$4:$Q$5000,MATCH($C20&"-"&$E20&"-"&J$4,Aux!$Q$4:$Q$5000,0)),1,""),"") -> 1 | K20: =IFERROR(IF(($C20&"-"&$E20&"-"&K$4)=INDEX(Aux!$Q$4:$Q$5000,MATCH($C20&"-"&$E20&"-"&K$4,Aux!$Q$4:$Q$5000,0)),1,""),"") -> 1 | L20: =IFERROR(IF(($C20&"-"&$E20&"-"&L$4)=INDEX(Aux!$Q$4:$Q$5000,MATCH($C20&"-"&$E20&"-"&L$4,Aux!$Q$4:$Q$5000,0)),1,""),"") | M20: =IFERROR(IF(($C20&"-"&$E20&"-"&M$4)=INDEX(Aux!$Q$4:$Q$5000,MATCH($C20&"-"&$E20&"-"&M$4,Aux!$Q$4:$Q$5000,0)),1,""),"") | N20: =IFERROR(IF(($C20&"-"&$E20&"-"&N$4)=INDEX(Aux!$Q$4:$Q$5000,MATCH($C20&"-"&$E20&"-"&N$4,Aux!$Q$4:$Q$5000,0)),1,""),"") | ... AA20: =IFERROR(IF(($C20&"-"&$E20&"-"&AA$4)=INDEX(Aux!$Q$4:$Q$5000,MATCH($C20&"-"&$E20&"-"&AA$4,Aux!$Q$4:$Q$5000,0)),1,""),"")
... B492: =IF(B491="","",IF(B491+1<='Tables&Data'!$F$9,B491+1,"")) | C492: =IF(IFERROR(TRUNC((B492-1)/'Tables&Data'!$F$7,0)+1,0)=0,"","G"&TRUNC((B492-1)/'Tables&Data'!$F$7,0)+1) | D492: =IF(C492="","",IF(D491='Tables&Data'!$F$7,1,D491+1)) | E492: =IF(D492="","","P"&D492) | F492: =IF(E492="","",IF(SUM(G492:AA492)='Tables&Data'!$F$8,"P","O")) | G492: =IFERROR(IF(($C492&"-"&$E492&"-"&G$4)=INDEX(Aux!$Q$4:$Q$5000,MATCH($C492&"-"&$E492&"-"&G$4,Aux!$Q$4:$Q$5000,0)),1,""),"") | H492: =IFERROR(IF(($C492&"-"&$E492&"-"&H$4)=INDEX(Aux!$Q$4:$Q$5000,MATCH($C492&"-"&$E492&"-"&H$4,Aux!$Q$4:$Q$5000,0)),1,""),"") | I492: =IFERROR(IF(($C492&"-"&$E492&"-"&I$4)=INDEX(Aux!$Q$4:$Q$5000,MATCH($C492&"-"&$E492&"-"&I$4,Aux!$Q$4:$Q$5000,0)),1,""),"") | J492: =IFERROR(IF(($C492&"-"&$E492&"-"&J$4)=INDEX(Aux!$Q$4:$Q$5000,MATCH($C492&"-"&$E492&"-"&J$4,Aux!$Q$4:$Q$5000,0)),1,""),"") | K492: =IFERROR(IF(($C492&"-"&$E492&"-"&K$4)=INDEX(Aux!$Q$4:$Q$5000,MATCH($C492&"-"&$E492&"-"&K$4,Aux!$Q$4:$Q$5000,0)),1,""),"") | L492: =IFERROR(IF(($C492&"-"&$E492&"-"&L$4)=INDEX(Aux!$Q$4:$Q$5000,MATCH($C492&"-"&$E492&"-"&L$4,Aux!$Q$4:$Q$5000,0)),1,""),"") | M492: =IFERROR(IF(($C492&"-"&$E492&"-"&M$4)=INDEX(Aux!$Q$4:$Q$5000,MATCH($C492&"-"&$E492&"-"&M$4,Aux!$Q$4:$Q$5000,0)),1,""),"") | N492: =IFERROR(IF(($C492&"-"&$E492&"-"&N$4)=INDEX(Aux!$Q$4:$Q$5000,MATCH($C492&"-"&$E492&"-"&N$4,Aux!$Q$4:$Q$5000,0)),1,""),"") | ... AA492: =IFERROR(IF(($C492&"-"&$E492&"-"&AA$4)=INDEX(Aux!$Q$4:$Q$5000,MATCH($C492&"-"&$E492&"-"&AA$4,Aux!$Q$4:$Q$5000,0)),1,""),"")

Sheet Aux
B1: LISTS OF DATA | J1: TABLE OF RESULTS | L1: Max. Rows | M1: ='Tables&Data'!F6*'Tables&Data'!F7*'Tables&Data'!F8 -> 270
B3: Players | D3: Games | F3: Periods | H3: Players playing | J3: Games-Periods | K3: Games-Periods-PlayersPlaying | M3: Games | N3: Periods | O3: Unique values | P3: Player | Q3: Games-Periods-Players | R3: Count
B4: ='Tables&Data'!B15 -> Player 01 | C4: 1 | D4: G1 | E4: 1 | F4: P1 | G4: 1 | H4: PP1 | J4: =IF(ROW()-ROW($J$4)+1>COUNTA($D$4:$D$23)*COUNTA($F$4:$F$23),"",INDEX($D$4:$D$23,INT((ROW()-ROW($J$4))/COUNTA($F$4:$F$23)+1))&"-"&INDEX($F$4:$F$23,MOD(ROW()-ROW($J$4),COUNTA($F$4:$F$23))+1)) -> G1-P1 | K4: =IF(ROW()-ROW($K$4)+1>COUNTA($J$4:$J$5000)*COUNTA(TabPP[Players playing]),"",INDEX($J$4:$J$5000,INT((ROW()-ROW($K$4))/COUNTA(TabPP[Players playing])+1))&"-"&INDEX(TabPP[Players playing],MOD(ROW()-ROW($K$4),COUNTA(TabPP[Players playing]))+1)) -> G1-P1-PP1 | L4: =IF(LEN(K4)>=9,K4,"") -> G1-P1-PP1 | M4: =TRIM(LEFT(SUBSTITUTE(O4,"-",REPT(" ",LEN(O4))),LEN(O4))) -> G1 | N4: =TRIM(MID(SUBSTITUTE(O4,"-",REPT(" ",LEN(O4))),(2-1)*LEN(O4)+1,LEN(O4))) -> P1 | O4: {=IFERROR(INDEX($L$4:$L$5000,_xlfn.AGGREGATE(15,6,IF($L$4:$L$5000<>"",ROW($L$4:$L$5000)-ROW($L$4)+1,NA()),ROWS($O$4:O4))),"")} -> G1-P1-PP1 | P4: =TabPlayer2[[#This Row],[Players]] -> Player 01 | Q4: =IF(O4="","",M4&"-"&N4&"-"&P4) -> G1-P1-Player 01 | R4: =IF(TabResults[[#This Row],[Games-Periods-Players]]="","",1) -> 1
B5: ='Tables&Data'!B16 -> Player 02 | C5: =IF(C4="","",IF(C4+1<='Tables&Data'!$F$6,C4+1,"")) -> 2 | D5: =IF(C5="","","G"&C5) -> G2 | E5: =IF(E4="","",IF(E4+1<='Tables&Data'!$F$7,E4+1,"")) -> 2 | F5: =IF(E5="","","P"&E5) -> P2 | G5: =IF(G4="","",IF(G4+1<='Tables&Data'!$F$8,G4+1,"")) -> 2 | H5: =IF(G5="","","PP"&G5) -> PP2 | J5: =IF(ROW()-ROW($J$4)+1>COUNTA($D$4:$D$23)*COUNTA($F$4:$F$23),"",INDEX($D$4:$D$23,INT((ROW()-ROW($J$4))/COUNTA($F$4:$F$23)+1))&"-"&INDEX($F$4:$F$23,MOD(ROW()-ROW($J$4),COUNTA($F$4:$F$23))+1)) -> G1-P2 | K5: =IF(ROW()-ROW($K$4)+1>COUNTA($J$4:$J$5000)*COUNTA(TabPP[Players playing]),"",INDEX($J$4:$J$5000,INT((ROW()-ROW($K$4))/COUNTA(TabPP[Players playing])+1))&"-"&INDEX(TabPP[Players playing],MOD(ROW()-ROW($K$4),COUNTA(TabPP[Players playing]))+1)) -> G1-P1-PP2 | L5: =IF(LEN(K5)>=9,K5,"") -> G1-P1-PP2 | M5: =TRIM(LEFT(SUBSTITUTE(O5,"-",REPT(" ",LEN(O5))),LEN(O5))) -> G1 | N5: =TRIM(MID(SUBSTITUTE(O5,"-",REPT(" ",LEN(O5))),(2-1)*LEN(O5)+1,LEN(O5))) -> P1 | O5: {=IFERROR(INDEX($L$4:$L$5000,_xlfn.AGGREGATE(15,6,IF($L$4:$L$5000<>"",ROW($L$4:$L$5000)-ROW($L$4)+1,NA()),ROWS($O$4:O5))),"")} -> G1-P1-PP2 | P5: =IF(O5="","",IF(INDEX(TabPlayer2[Players],MATCH(P4,TabPlayer2[Players],0)+1)="",$B$4,INDEX(TabPlayer2[Players],MATCH(P4,TabPlayer2[Players],0)+1))) -> Player 02 | Q5: =IF(O5="","",M5&"-"&N5&"-"&P5) -> G1-P1-Player 02 | R5: =IF(TabResults[[#This Row],[Games-Periods-Players]]="","",1) -> 1
B6: ='Tables&Data'!B17 -> Player 03 | C6: =IF(C5="","",IF(C5+1<='Tables&Data'!$F$6,C5+1,"")) -> 3 | D6: =IF(C6="","","G"&C6) -> G3 | E6: =IF(E5="","",IF(E5+1<='Tables&Data'!$F$7,E5+1,"")) -> 3 | F6: =IF(E6="","","P"&E6) -> P3 | G6: =IF(G5="","",IF(G5+1<='Tables&Data'!$F$8,G5+1,"")) -> 3 | H6: =IF(G6="","","PP"&G6) -> PP3 | J6: =IF(ROW()-ROW($J$4)+1>COUNTA($D$4:$D$23)*COUNTA($F$4:$F$23),"",INDEX($D$4:$D$23,INT((ROW()-ROW($J$4))/COUNTA($F$4:$F$23)+1))&"-"&INDEX($F$4:$F$23,MOD(ROW()-ROW($J$4),COUNTA($F$4:$F$23))+1)) -> G1-P3 | K6: =IF(ROW()-ROW($K$4)+1>COUNTA($J$4:$J$5000)*COUNTA(TabPP[Players playing]),"",INDEX($J$4:$J$5000,INT((ROW()-ROW($K$4))/COUNTA(TabPP[Players playing])+1))&"-"&INDEX(TabPP[Players playing],MOD(ROW()-ROW($K$4),COUNTA(TabPP[Players playing]))+1)) -> G1-P1-PP3 | L6: =IF(LEN(K6)>=9,K6,"") -> G1-P1-PP3 | M6: =TRIM(LEFT(SUBSTITUTE(O6,"-",REPT(" ",LEN(O6))),LEN(O6))) -> G1 | N6: =TRIM(MID(SUBSTITUTE(O6,"-",REPT(" ",LEN(O6))),(2-1)*LEN(O6)+1,LEN(O6))) -> P1 | O6: {=IFERROR(INDEX($L$4:$L$5000,_xlfn.AGGREGATE(15,6,IF($L$4:$L$5000<>"",ROW($L$4:$L$5000)-ROW($L$4)+1,NA()),ROWS($O$4:O6))),"")} -> G1-P1-PP3 | P6: =IF(O6="","",IF(INDEX(TabPlayer2[Players],MATCH(P5,TabPlayer2[Players],0)+1)="",$B$4,INDEX(TabPlayer2[Players],MATCH(P5,TabPlayer2[Players],0)+1))) -> Player 03 | Q6: =IF(O6="","",M6&"-"&N6&"-"&P6) -> G1-P1-Player 03 | R6: =IF(TabResults[[#This Row],[Games-Periods-Players]]="","",1) -> 1
A7: 1 | B7: ='Tables&Data'!B18 -> Player 04 | C7: =IF(C6="","",IF(C6+1<='Tables&Data'!$F$6,C6+1,"")) -> 4 | D7: =IF(C7="","","G"&C7) -> G4 | E7: =IF(E6="","",IF(E6+1<='Tables&Data'!$F$7,E6+1,"")) -> 4 | F7: =IF(E7="","","P"&E7) -> P4 | G7: =IF(G6="","",IF(G6+1<='Tables&Data'!$F$8,G6+1,"")) -> 4 | H7: =IF(G7="","","PP"&G7) -> PP4 | J7: =IF(ROW()-ROW($J$4)+1>COUNTA($D$4:$D$23)*COUNTA($F$4:$F$23),"",INDEX($D$4:$D$23,INT((ROW()-ROW($J$4))/COUNTA($F$4:$F$23)+1))&"-"&INDEX($F$4:$F$23,MOD(ROW()-ROW($J$4),COUNTA($F$4:$F$23))+1)) -> G1-P4 | K7: =IF(ROW()-ROW($K$4)+1>COUNTA($J$4:$J$5000)*COUNTA(TabPP[Players playing]),"",INDEX($J$4:$J$5000,INT((ROW()-ROW($K$4))/COUNTA(TabPP[Players playing])+1))&"-"&INDEX(TabPP[Players playing],MOD(ROW()-ROW($K$4),COUNTA(TabPP[Players playing]))+1)) -> G1-P1-PP4 | L7: =IF(LEN(K7)>=9,K7,"") -> G1-P1-PP4 | M7: =TRIM(LEFT(SUBSTITUTE(O7,"-",REPT(" ",LEN(O7))),LEN(O7))) -> G1 | N7: =TRIM(MID(SUBSTITUTE(O7,"-",REPT(" ",LEN(O7))),(2-1)*LEN(O7)+1,LEN(O7))) -> P1 | O7: {=IFERROR(INDEX($L$4:$L$5000,_xlfn.AGGREGATE(15,6,IF($L$4:$L$5000<>"",ROW($L$4:$L$5000)-ROW($L$4)+1,NA()),ROWS($O$4:O7))),"")} -> G1-P1-PP4 | P7: =IF(O7="","",IF(INDEX(TabPlayer2[Players],MATCH(P6,TabPlayer2[Players],0)+1)="",$B$4,INDEX(TabPlayer2[Players],MATCH(P6,TabPlayer2[Players],0)+1))) -> Player 04 | Q7: =IF(O7="","",M7&"-"&N7&"-"&P7) -> G1-P1-Player 04 | R7: =IF(TabResults[[#This Row],[Games-Periods-Players]]="","",1) -> 1
A8: =IF(A7="","",IF(A7+1<='Tables&Data'!$F$5,A7+1,"")) -> 2 | B8: ='Tables&Data'!B19 -> Player 05 | C8: =IF(C7="","",IF(C7+1<='Tables&Data'!$F$6,C7+1,"")) -> 5 | D8: =IF(C8="","","G"&C8) -> G5 | E8: =IF(E7="","",IF(E7+1<='Tables&Data'!$F$7,E7+1,"")) -> 5 | F8: =IF(E8="","","P"&E8) -> P5 | G8: =IF(G7="","",IF(G7+1<='Tables&Data'!$F$8,G7+1,"")) -> 5 | H8: =IF(G8="","","PP"&G8) -> PP5 | J8: =IF(ROW()-ROW($J$4)+1>COUNTA($D$4:$D$23)*COUNTA($F$4:$F$23),"",INDEX($D$4:$D$23,INT((ROW()-ROW($J$4))/COUNTA($F$4:$F$23)+1))&"-"&INDEX($F$4:$F$23,MOD(ROW()-ROW($J$4),COUNTA($F$4:$F$23))+1)) -> G1-P5 | K8: =IF(ROW()-ROW($K$4)+1>COUNTA($J$4:$J$5000)*COUNTA(TabPP[Players playing]),"",INDEX($J$4:$J$5000,INT((ROW()-ROW($K$4))/COUNTA(TabPP[Players playing])+1))&"-"&INDEX(TabPP[Players playing],MOD(ROW()-ROW($K$4),COUNTA(TabPP[Players playing]))+1)) -> G1-P1-PP5 | L8: =IF(LEN(K8)>=9,K8,"") -> G1-P1-PP5 | M8: =TRIM(LEFT(SUBSTITUTE(O8,"-",REPT(" ",LEN(O8))),LEN(O8))) -> G1 | N8: =TRIM(MID(SUBSTITUTE(O8,"-",REPT(" ",LEN(O8))),(2-1)*LEN(O8)+1,LEN(O8))) -> P1 | O8: {=IFERROR(INDEX($L$4:$L$5000,_xlfn.AGGREGATE(15,6,IF($L$4:$L$5000<>"",ROW($L$4:$L$5000)-ROW($L$4)+1,NA()),ROWS($O$4:O8))),"")} -> G1-P1-PP5 | P8: =IF(O8="","",IF(INDEX(TabPlayer2[Players],MATCH(P7,TabPlayer2[Players],0)+1)="",$B$4,INDEX(TabPlayer2[Players],MATCH(P7,TabPlayer2[Players],0)+1))) -> Player 05 | Q8: =IF(O8="","",M8&"-"&N8&"-"&P8) -> G1-P1-Player 05 | R8: =IF(TabResults[[#This Row],[Games-Periods-Players]]="","",1) -> 1
