Workbook

Sheet Roster - Matrix
B1: Game | C1: 1 | D1: 1 | E1: 1 | F1: 1 | G1: 1 | H1: 1 | I1: 1 | J1: 1 | K1: 1 | L1: =C1+1 -> 2 | M1: =D1+1 -> 2 | N1: =E1+1 -> 2 | O1: =F1+1 -> 2 | P1: =G1+1 -> 2 | Q1: =H1+1 -> 2 | R1: =I1+1 -> 2 | S1: =J1+1 -> 2 | ... BD1: =AU1+1 -> 6
B2: Period | C2: 1 | D2: 2 | E2: 3 | F2: 4 | G2: 5 | H2: 6 | I2: 7 | J2: 8 | K2: 9 | L2: =C2 -> 1 | M2: =D2 -> 2 | N2: =E2 -> 3 | O2: =F2 -> 4 | P2: =G2 -> 5 | Q2: =H2 -> 6 | R2: =I2 -> 7 | S2: =J2 -> 8 | ... BD2: =AU2 -> 9
B3: Player | C3: =C1&":"&C2 -> 1:1 | D3: =D1&":"&D2 -> 1:2 | E3: =E1&":"&E2 -> 1:3 | F3: =F1&":"&F2 -> 1:4 | G3: =G1&":"&G2 -> 1:5 | H3: =H1&":"&H2 -> 1:6 | I3: =I1&":"&I2 -> 1:7 | J3: =J1&":"&J2 -> 1:8 | ... BD3: =BD1&":"&BD2 -> 6:9 | BE3: Total periods
B4: Player 1 | C4: =COUNTIFS(RosterTable[Player],$B4,RosterTable[Game],C$1,RosterTable[Period'#],C$2) -> 1 | D4: =COUNTIFS(RosterTable[Player],$B4,RosterTable[Game],D$1,RosterTable[Period'#],D$2) -> 0 | E4: =COUNTIFS(RosterTable[Player],$B4,RosterTable[Game],E$1,RosterTable[Period'#],E$2) -> 1 | F4: =COUNTIFS(RosterTable[Player],$B4,RosterTable[Game],F$1,RosterTable[Period'#],F$2) -> 0 | G4: =COUNTIFS(RosterTable[Player],$B4,RosterTable[Game],G$1,RosterTable[Period'#],G$2) -> 1 | H4: =COUNTIFS(RosterTable[Player],$B4,RosterTable[Game],H$1,RosterTable[Period'#],H$2) -> 0 | I4: =COUNTIFS(RosterTable[Player],$B4,RosterTable[Game],I$1,RosterTable[Period'#],I$2) -> 0 | J4: =COUNTIFS(RosterTable[Player],$B4,RosterTable[Game],J$1,RosterTable[Period'#],J$2) -> 1 | ... BD4: =COUNTIFS(RosterTable[Player],$B4,RosterTable[Game],BD$1,RosterTable[Period'#],BD$2) -> 0 | BE4: =SUM('Roster - Matrix'!$C4:$BD4) -> 23
B5: Player 2 | C5: =COUNTIFS(RosterTable[Player],$B5,RosterTable[Game],C$1,RosterTable[Period'#],C$2) -> 1 | D5: =COUNTIFS(RosterTable[Player],$B5,RosterTable[Game],D$1,RosterTable[Period'#],D$2) -> 0 | E5: =COUNTIFS(RosterTable[Player],$B5,RosterTable[Game],E$1,RosterTable[Period'#],E$2) -> 1 | F5: =COUNTIFS(RosterTable[Player],$B5,RosterTable[Game],F$1,RosterTable[Period'#],F$2) -> 0 | G5: =COUNTIFS(RosterTable[Player],$B5,RosterTable[Game],G$1,RosterTable[Period'#],G$2) -> 0 | H5: =COUNTIFS(RosterTable[Player],$B5,RosterTable[Game],H$1,RosterTable[Period'#],H$2) -> 1 | I5: =COUNTIFS(RosterTable[Player],$B5,RosterTable[Game],I$1,RosterTable[Period'#],I$2) -> 0 | J5: =COUNTIFS(RosterTable[Player],$B5,RosterTable[Game],J$1,RosterTable[Period'#],J$2) -> 1 | ... BD5: =COUNTIFS(RosterTable[Player],$B5,RosterTable[Game],BD$1,RosterTable[Period'#],BD$2) -> 1 | BE5: =SUM('Roster - Matrix'!$C5:$BD5) -> 23
B6: Player 3 | C6: =COUNTIFS(RosterTable[Player],$B6,RosterTable[Game],C$1,RosterTable[Period'#],C$2) -> 1 | D6: =COUNTIFS(RosterTable[Player],$B6,RosterTable[Game],D$1,RosterTable[Period'#],D$2) -> 0 | E6: =COUNTIFS(RosterTable[Player],$B6,RosterTable[Game],E$1,RosterTable[Period'#],E$2) -> 1 | F6: =COUNTIFS(RosterTable[Player],$B6,RosterTable[Game],F$1,RosterTable[Period'#],F$2) -> 0 | G6: =COUNTIFS(RosterTable[Player],$B6,RosterTable[Game],G$1,RosterTable[Period'#],G$2) -> 0 | H6: =COUNTIFS(RosterTable[Player],$B6,RosterTable[Game],H$1,RosterTable[Period'#],H$2) -> 1 | I6: =COUNTIFS(RosterTable[Player],$B6,RosterTable[Game],I$1,RosterTable[Period'#],I$2) -> 0 | J6: =COUNTIFS(RosterTable[Player],$B6,RosterTable[Game],J$1,RosterTable[Period'#],J$2) -> 1 | ... BD6: =COUNTIFS(RosterTable[Player],$B6,RosterTable[Game],BD$1,RosterTable[Period'#],BD$2) -> 1 | BE6: =SUM('Roster - Matrix'!$C6:$BD6) -> 23
B7: Player 4 | C7: =COUNTIFS(RosterTable[Player],$B7,RosterTable[Game],C$1,RosterTable[Period'#],C$2) -> 1 | D7: =COUNTIFS(RosterTable[Player],$B7,RosterTable[Game],D$1,RosterTable[Period'#],D$2) -> 0 | E7: =COUNTIFS(RosterTable[Player],$B7,RosterTable[Game],E$1,RosterTable[Period'#],E$2) -> 0 | F7: =COUNTIFS(RosterTable[Player],$B7,RosterTable[Game],F$1,RosterTable[Period'#],F$2) -> 1 | G7: =COUNTIFS(RosterTable[Player],$B7,RosterTable[Game],G$1,RosterTable[Period'#],G$2) -> 0 | H7: =COUNTIFS(RosterTable[Player],$B7,RosterTable[Game],H$1,RosterTable[Period'#],H$2) -> 1 | I7: =COUNTIFS(RosterTable[Player],$B7,RosterTable[Game],I$1,RosterTable[Period'#],I$2) -> 0 | J7: =COUNTIFS(RosterTable[Player],$B7,RosterTable[Game],J$1,RosterTable[Period'#],J$2) -> 1 | ... BD7: =COUNTIFS(RosterTable[Player],$B7,RosterTable[Game],BD$1,RosterTable[Period'#],BD$2) -> 1 | BE7: =SUM('Roster - Matrix'!$C7:$BD7) -> 23
B8: Player 5 | C8: =COUNTIFS(RosterTable[Player],$B8,RosterTable[Game],C$1,RosterTable[Period'#],C$2) -> 1 | D8: =COUNTIFS(RosterTable[Player],$B8,RosterTable[Game],D$1,RosterTable[Period'#],D$2) -> 0 | E8: =COUNTIFS(RosterTable[Player],$B8,RosterTable[Game],E$1,RosterTable[Period'#],E$2) -> 0 | F8: =COUNTIFS(RosterTable[Player],$B8,RosterTable[Game],F$1,RosterTable[Period'#],F$2) -> 1 | G8: =COUNTIFS(RosterTable[Player],$B8,RosterTable[Game],G$1,RosterTable[Period'#],G$2) -> 0 | H8: =COUNTIFS(RosterTable[Player],$B8,RosterTable[Game],H$1,RosterTable[Period'#],H$2) -> 1 | I8: =COUNTIFS(RosterTable[Player],$B8,RosterTable[Game],I$1,RosterTable[Period'#],I$2) -> 0 | J8: =COUNTIFS(RosterTable[Player],$B8,RosterTable[Game],J$1,RosterTable[Period'#],J$2) -> 0 | ... BD8: =COUNTIFS(RosterTable[Player],$B8,RosterTable[Game],BD$1,RosterTable[Period'#],BD$2) -> 1 | BE8: =SUM('Roster - Matrix'!$C8:$BD8) -> 23
B9: Player 6 | C9: =COUNTIFS(RosterTable[Player],$B9,RosterTable[Game],C$1,RosterTable[Period'#],C$2) -> 0 | D9: =COUNTIFS(RosterTable[Player],$B9,RosterTable[Game],D$1,RosterTable[Period'#],D$2) -> 1 | E9: =COUNTIFS(RosterTable[Player],$B9,RosterTable[Game],E$1,RosterTable[Period'#],E$2) -> 0 | F9: =COUNTIFS(RosterTable[Player],$B9,RosterTable[Game],F$1,RosterTable[Period'#],F$2) -> 1 | G9: =COUNTIFS(RosterTable[Player],$B9,RosterTable[Game],G$1,RosterTable[Period'#],G$2) -> 0 | H9: =COUNTIFS(RosterTable[Player],$B9,RosterTable[Game],H$1,RosterTable[Period'#],H$2) -> 1 | I9: =COUNTIFS(RosterTable[Player],$B9,RosterTable[Game],I$1,RosterTable[Period'#],I$2) -> 0 | J9: =COUNTIFS(RosterTable[Player],$B9,RosterTable[Game],J$1,RosterTable[Period'#],J$2) -> 0 | ... BD9: =COUNTIFS(RosterTable[Player],$B9,RosterTable[Game],BD$1,RosterTable[Period'#],BD$2) -> 1 | BE9: =SUM('Roster - Matrix'!$C9:$BD9) -> 23
B10: Player 7 | C10: =COUNTIFS(RosterTable[Player],$B10,RosterTable[Game],C$1,RosterTable[Period'#],C$2) -> 0 | D10: =COUNTIFS(RosterTable[Player],$B10,RosterTable[Game],D$1,RosterTable[Period'#],D$2) -> 1 | E10: =COUNTIFS(RosterTable[Player],$B10,RosterTable[Game],E$1,RosterTable[Period'#],E$2) -> 0 | F10: =COUNTIFS(RosterTable[Player],$B10,RosterTable[Game],F$1,RosterTable[Period'#],F$2) -> 1 | G10: =COUNTIFS(RosterTable[Player],$B10,RosterTable[Game],G$1,RosterTable[Period'#],G$2) -> 0 | H10: =COUNTIFS(RosterTable[Player],$B10,RosterTable[Game],H$1,RosterTable[Period'#],H$2) -> 0 | I10: =COUNTIFS(RosterTable[Player],$B10,RosterTable[Game],I$1,RosterTable[Period'#],I$2) -> 1 | J10: =COUNTIFS(RosterTable[Player],$B10,RosterTable[Game],J$1,RosterTable[Period'#],J$2) -> 0 | ... BD10: =COUNTIFS(RosterTable[Player],$B10,RosterTable[Game],BD$1,RosterTable[Period'#],BD$2) -> 0 | BE10: =SUM('Roster - Matrix'!$C10:$BD10) -> 22
B11: Player 8 | C11: =COUNTIFS(RosterTable[Player],$B11,RosterTable[Game],C$1,RosterTable[Period'#],C$2) -> 0 | D11: =COUNTIFS(RosterTable[Player],$B11,RosterTable[Game],D$1,RosterTable[Period'#],D$2) -> 1 | E11: =COUNTIFS(RosterTable[Player],$B11,RosterTable[Game],E$1,RosterTable[Period'#],E$2) -> 0 | F11: =COUNTIFS(RosterTable[Player],$B11,RosterTable[Game],F$1,RosterTable[Period'#],F$2) -> 1 | G11: =COUNTIFS(RosterTable[Player],$B11,RosterTable[Game],G$1,RosterTable[Period'#],G$2) -> 0 | H11: =COUNTIFS(RosterTable[Player],$B11,RosterTable[Game],H$1,RosterTable[Period'#],H$2) -> 0 | I11: =COUNTIFS(RosterTable[Player],$B11,RosterTable[Game],I$1,RosterTable[Period'#],I$2) -> 1 | J11: =COUNTIFS(RosterTable[Player],$B11,RosterTable[Game],J$1,RosterTable[Period'#],J$2) -> 0 | ... BD11: =COUNTIFS(RosterTable[Player],$B11,RosterTable[Game],BD$1,RosterTable[Period'#],BD$2) -> 0 | BE11: =SUM('Roster - Matrix'!$C11:$BD11) -> 22
B12: Player 9 | C12: =COUNTIFS(RosterTable[Player],$B12,RosterTable[Game],C$1,RosterTable[Period'#],C$2) -> 0 | D12: =COUNTIFS(RosterTable[Player],$B12,RosterTable[Game],D$1,RosterTable[Period'#],D$2) -> 1 | E12: =COUNTIFS(RosterTable[Player],$B12,RosterTable[Game],E$1,RosterTable[Period'#],E$2) -> 0 | F12: =COUNTIFS(RosterTable[Player],$B12,RosterTable[Game],F$1,RosterTable[Period'#],F$2) -> 0 | G12: =COUNTIFS(RosterTable[Player],$B12,RosterTable[Game],G$1,RosterTable[Period'#],G$2) -> 1 | H12: =COUNTIFS(RosterTable[Player],$B12,RosterTable[Game],H$1,RosterTable[Period'#],H$2) -> 0 | I12: =COUNTIFS(RosterTable[Player],$B12,RosterTable[Game],I$1,RosterTable[Period'#],I$2) -> 1 | J12: =COUNTIFS(RosterTable[Player],$B12,RosterTable[Game],J$1,RosterTable[Period'#],J$2) -> 0 | ... BD12: =COUNTIFS(RosterTable[Player],$B12,RosterTable[Game],BD$1,RosterTable[Period'#],BD$2) -> 0 | BE12: =SUM('Roster - Matrix'!$C12:$BD12) -> 22
B13: Player 10 | C13: =COUNTIFS(RosterTable[Player],$B13,RosterTable[Game],C$1,RosterTable[Period'#],C$2) -> 0 | D13: =COUNTIFS(RosterTable[Player],$B13,RosterTable[Game],D$1,RosterTable[Period'#],D$2) -> 1 | E13: =COUNTIFS(RosterTable[Player],$B13,RosterTable[Game],E$1,RosterTable[Period'#],E$2) -> 0 | F13: =COUNTIFS(RosterTable[Player],$B13,RosterTable[Game],F$1,RosterTable[Period'#],F$2) -> 0 | G13: =COUNTIFS(RosterTable[Player],$B13,RosterTable[Game],G$1,RosterTable[Period'#],G$2) -> 1 | H13: =COUNTIFS(RosterTable[Player],$B13,RosterTable[Game],H$1,RosterTable[Period'#],H$2) -> 0 | I13: =COUNTIFS(RosterTable[Player],$B13,RosterTable[Game],I$1,RosterTable[Period'#],I$2) -> 1 | J13: =COUNTIFS(RosterTable[Player],$B13,RosterTable[Game],J$1,RosterTable[Period'#],J$2) -> 0 | ... BD13: =COUNTIFS(RosterTable[Player],$B13,RosterTable[Game],BD$1,RosterTable[Period'#],BD$2) -> 0 | BE13: =SUM('Roster - Matrix'!$C13:$BD13) -> 22
B14: Player 11 | C14: =COUNTIFS(RosterTable[Player],$B14,RosterTable[Game],C$1,RosterTable[Period'#],C$2) -> 0 | D14: =COUNTIFS(RosterTable[Player],$B14,RosterTable[Game],D$1,RosterTable[Period'#],D$2) -> 0 | E14: =COUNTIFS(RosterTable[Player],$B14,RosterTable[Game],E$1,RosterTable[Period'#],E$2) -> 1 | F14: =COUNTIFS(RosterTable[Player],$B14,RosterTable[Game],F$1,RosterTable[Period'#],F$2) -> 0 | G14: =COUNTIFS(RosterTable[Player],$B14,RosterTable[Game],G$1,RosterTable[Period'#],G$2) -> 1 | H14: =COUNTIFS(RosterTable[Player],$B14,RosterTable[Game],H$1,RosterTable[Period'#],H$2) -> 0 | I14: =COUNTIFS(RosterTable[Player],$B14,RosterTable[Game],I$1,RosterTable[Period'#],I$2) -> 1 | J14: =COUNTIFS(RosterTable[Player],$B14,RosterTable[Game],J$1,RosterTable[Period'#],J$2) -> 0 | ... BD14: =COUNTIFS(RosterTable[Player],$B14,RosterTable[Game],BD$1,RosterTable[Period'#],BD$2) -> 0 | BE14: =SUM('Roster - Matrix'!$C14:$BD14) -> 22
B15: Player 12 | C15: =COUNTIFS(RosterTable[Player],$B15,RosterTable[Game],C$1,RosterTable[Period'#],C$2) -> 0 | D15: =COUNTIFS(RosterTable[Player],$B15,RosterTable[Game],D$1,RosterTable[Period'#],D$2) -> 0 | E15: =COUNTIFS(RosterTable[Player],$B15,RosterTable[Game],E$1,RosterTable[Period'#],E$2) -> 1 | F15: =COUNTIFS(RosterTable[Player],$B15,RosterTable[Game],F$1,RosterTable[Period'#],F$2) -> 0 | G15: =COUNTIFS(RosterTable[Player],$B15,RosterTable[Game],G$1,RosterTable[Period'#],G$2) -> 1 | H15: =COUNTIFS(RosterTable[Player],$B15,RosterTable[Game],H$1,RosterTable[Period'#],H$2) -> 0 | I15: =COUNTIFS(RosterTable[Player],$B15,RosterTable[Game],I$1,RosterTable[Period'#],I$2) -> 0 | J15: =COUNTIFS(RosterTable[Player],$B15,RosterTable[Game],J$1,RosterTable[Period'#],J$2) -> 1 | ... BD15: =COUNTIFS(RosterTable[Player],$B15,RosterTable[Game],BD$1,RosterTable[Period'#],BD$2) -> 0 | BE15: =SUM('Roster - Matrix'!$C15:$BD15) -> 22
B17: Total players | C17: =SUM(C3:C16) -> 5 | D17: =SUM(D3:D16) -> 5 | E17: =SUM(E3:E16) -> 5 | F17: =SUM(F3:F16) -> 5 | G17: =SUM(G3:G16) -> 5 | H17: =SUM(H3:H16) -> 5 | I17: =SUM(I3:I16) -> 5 | J17: =SUM(J3:J16) -> 5 | ... BE17: =SUM(BE3:BE16) -> 270

Sheet Roster - Table
A1: Period Player sequence# | B1: Game | C1: PeriodCalc | D1: Period# | E1: PlayerCalc | F1: Player# | G1: Player
A2: 1 | B2: =ROUNDUP(RosterTable[[#This Row],[Period Player sequence'#]]/'Parameters & calculations'!$E$21,0) -> 1 | C2: =MOD(ROUNDUP(RosterTable[[#This Row],[Period Player sequence'#]]/'Parameters & calculations'!$C$8,0),'Parameters & calculations'!$C$7) -> 1 | D2: =IF(RosterTable[[#This Row],[PeriodCalc]]=0,'Parameters & calculations'!$C$7,RosterTable[[#This Row],[PeriodCalc]]) -> 1 | E2: =MOD(RosterTable[[#This Row],[Period Player sequence'#]],'Parameters & calculations'!$C$5) -> 1 | F2: =IF(RosterTable[[#This Row],[PlayerCalc]]=0,'Parameters & calculations'!$C$5,RosterTable[[#This Row],[PlayerCalc]]) -> 1 | G2: ="Player "&RosterTable[[#This Row],[Player'#]] -> Player 1
A3: 2 | B3: =ROUNDUP(RosterTable[[#This Row],[Period Player sequence'#]]/'Parameters & calculations'!$E$21,0) -> 1 | C3: =MOD(ROUNDUP(RosterTable[[#This Row],[Period Player sequence'#]]/'Parameters & calculations'!$C$8,0),'Parameters & calculations'!$C$7) -> 1 | D3: =IF(RosterTable[[#This Row],[PeriodCalc]]=0,'Parameters & calculations'!$C$7,RosterTable[[#This Row],[PeriodCalc]]) -> 1 | E3: =MOD(RosterTable[[#This Row],[Period Player sequence'#]],'Parameters & calculations'!$C$5) -> 2 | F3: =IF(RosterTable[[#This Row],[PlayerCalc]]=0,'Parameters & calculations'!$C$5,RosterTable[[#This Row],[PlayerCalc]]) -> 2 | G3: ="Player "&RosterTable[[#This Row],[Player'#]] -> Player 2
A4: 3 | B4: =ROUNDUP(RosterTable[[#This Row],[Period Player sequence'#]]/'Parameters & calculations'!$E$21,0) -> 1 | C4: =MOD(ROUNDUP(RosterTable[[#This Row],[Period Player sequence'#]]/'Parameters & calculations'!$C$8,0),'Parameters & calculations'!$C$7) -> 1 | D4: =IF(RosterTable[[#This Row],[PeriodCalc]]=0,'Parameters & calculations'!$C$7,RosterTable[[#This Row],[PeriodCalc]]) -> 1 | E4: =MOD(RosterTable[[#This Row],[Period Player sequence'#]],'Parameters & calculations'!$C$5) -> 3 | F4: =IF(RosterTable[[#This Row],[PlayerCalc]]=0,'Parameters & calculations'!$C$5,RosterTable[[#This Row],[PlayerCalc]]) -> 3 | G4: ="Player "&RosterTable[[#This Row],[Player'#]] -> Player 3
A5: 4 | B5: =ROUNDUP(RosterTable[[#This Row],[Period Player sequence'#]]/'Parameters & calculations'!$E$21,0) -> 1 | C5: =MOD(ROUNDUP(RosterTable[[#This Row],[Period Player sequence'#]]/'Parameters & calculations'!$C$8,0),'Parameters & calculations'!$C$7) -> 1 | D5: =IF(RosterTable[[#This Row],[PeriodCalc]]=0,'Parameters & calculations'!$C$7,RosterTable[[#This Row],[PeriodCalc]]) -> 1 | E5: =MOD(RosterTable[[#This Row],[Period Player sequence'#]],'Parameters & calculations'!$C$5) -> 4 | F5: =IF(RosterTable[[#This Row],[PlayerCalc]]=0,'Parameters & calculations'!$C$5,RosterTable[[#This Row],[PlayerCalc]]) -> 4 | G5: ="Player "&RosterTable[[#This Row],[Player'#]] -> Player 4
A6: 5 | B6: =ROUNDUP(RosterTable[[#This Row],[Period Player sequence'#]]/'Parameters & calculations'!$E$21,0) -> 1 | C6: =MOD(ROUNDUP(RosterTable[[#This Row],[Period Player sequence'#]]/'Parameters & calculations'!$C$8,0),'Parameters & calculations'!$C$7) -> 1 | D6: =IF(RosterTable[[#This Row],[PeriodCalc]]=0,'Parameters & calculations'!$C$7,RosterTable[[#This Row],[PeriodCalc]]) -> 1 | E6: =MOD(RosterTable[[#This Row],[Period Player sequence'#]],'Parameters & calculations'!$C$5) -> 5 | F6: =IF(RosterTable[[#This Row],[PlayerCalc]]=0,'Parameters & calculations'!$C$5,RosterTable[[#This Row],[PlayerCalc]]) -> 5 | G6: ="Player "&RosterTable[[#This Row],[Player'#]] -> Player 5
A7: 6 | B7: =ROUNDUP(RosterTable[[#This Row],[Period Player sequence'#]]/'Parameters & calculations'!$E$21,0) -> 1 | C7: =MOD(ROUNDUP(RosterTable[[#This Row],[Period Player sequence'#]]/'Parameters & calculations'!$C$8,0),'Parameters & calculations'!$C$7) -> 2 | D7: =IF(RosterTable[[#This Row],[PeriodCalc]]=0,'Parameters & calculations'!$C$7,RosterTable[[#This Row],[PeriodCalc]]) -> 2 | E7: =MOD(RosterTable[[#This Row],[Period Player sequence'#]],'Parameters & calculations'!$C$5) -> 6 | F7: =IF(RosterTable[[#This Row],[PlayerCalc]]=0,'Parameters & calculations'!$C$5,RosterTable[[#This Row],[PlayerCalc]]) -> 6 | G7: ="Player "&RosterTable[[#This Row],[Player'#]] -> Player 6
A8: 7 | B8: =ROUNDUP(RosterTable[[#This Row],[Period Player sequence'#]]/'Parameters & calculations'!$E$21,0) -> 1 | C8: =MOD(ROUNDUP(RosterTable[[#This Row],[Period Player sequence'#]]/'Parameters & calculations'!$C$8,0),'Parameters & calculations'!$C$7) -> 2 | D8: =IF(RosterTable[[#This Row],[PeriodCalc]]=0,'Parameters & calculations'!$C$7,RosterTable[[#This Row],[PeriodCalc]]) -> 2 | E8: =MOD(RosterTable[[#This Row],[Period Player sequence'#]],'Parameters & calculations'!$C$5) -> 7 | F8: =IF(RosterTable[[#This Row],[PlayerCalc]]=0,'Parameters & calculations'!$C$5,RosterTable[[#This Row],[PlayerCalc]]) -> 7 | G8: ="Player "&RosterTable[[#This Row],[Player'#]] -> Player 7
A9: 8 | B9: =ROUNDUP(RosterTable[[#This Row],[Period Player sequence'#]]/'Parameters & calculations'!$E$21,0) -> 1 | C9: =MOD(ROUNDUP(RosterTable[[#This Row],[Period Player sequence'#]]/'Parameters & calculations'!$C$8,0),'Parameters & calculations'!$C$7) -> 2 | D9: =IF(RosterTable[[#This Row],[PeriodCalc]]=0,'Parameters & calculations'!$C$7,RosterTable[[#This Row],[PeriodCalc]]) -> 2 | E9: =MOD(RosterTable[[#This Row],[Period Player sequence'#]],'Parameters & calculations'!$C$5) -> 8 | F9: =IF(RosterTable[[#This Row],[PlayerCalc]]=0,'Parameters & calculations'!$C$5,RosterTable[[#This Row],[PlayerCalc]]) -> 8 | G9: ="Player "&RosterTable[[#This Row],[Player'#]] -> Player 8
A10: 9 | B10: =ROUNDUP(RosterTable[[#This Row],[Period Player sequence'#]]/'Parameters & calculations'!$E$21,0) -> 1 | C10: =MOD(ROUNDUP(RosterTable[[#This Row],[Period Player sequence'#]]/'Parameters & calculations'!$C$8,0),'Parameters & calculations'!$C$7) -> 2 | D10: =IF(RosterTable[[#This Row],[PeriodCalc]]=0,'Parameters & calculations'!$C$7,RosterTable[[#This Row],[PeriodCalc]]) -> 2 | E10: =MOD(RosterTable[[#This Row],[Period Player sequence'#]],'Parameters & calculations'!$C$5) -> 9 | F10: =IF(RosterTable[[#This Row],[PlayerCalc]]=0,'Parameters & calculations'!$C$5,RosterTable[[#This Row],[PlayerCalc]]) -> 9 | G10: ="Player "&RosterTable[[#This Row],[Player'#]] -> Player 9
A11: 10 | B11: =ROUNDUP(RosterTable[[#This Row],[Period Player sequence'#]]/'Parameters & calculations'!$E$21,0) -> 1 | C11: =MOD(ROUNDUP(RosterTable[[#This Row],[Period Player sequence'#]]/'Parameters & calculations'!$C$8,0),'Parameters & calculations'!$C$7) -> 2 | D11: =IF(RosterTable[[#This Row],[PeriodCalc]]=0,'Parameters & calculations'!$C$7,RosterTable[[#This Row],[PeriodCalc]]) -> 2 | E11: =MOD(RosterTable[[#This Row],[Period Player sequence'#]],'Parameters & calculations'!$C$5) -> 10 | F11: =IF(RosterTable[[#This Row],[PlayerCalc]]=0,'Parameters & calculations'!$C$5,RosterTable[[#This Row],[PlayerCalc]]) -> 10 | G11: ="Player "&RosterTable[[#This Row],[Player'#]] -> Player 10
A12: 11 | B12: =ROUNDUP(RosterTable[[#This Row],[Period Player sequence'#]]/'Parameters & calculations'!$E$21,0) -> 1 | C12: =MOD(ROUNDUP(RosterTable[[#This Row],[Period Player sequence'#]]/'Parameters & calculations'!$C$8,0),'Parameters & calculations'!$C$7) -> 3 | D12: =IF(RosterTable[[#This Row],[PeriodCalc]]=0,'Parameters & calculations'!$C$7,RosterTable[[#This Row],[PeriodCalc]]) -> 3 | E12: =MOD(RosterTable[[#This Row],[Period Player sequence'#]],'Parameters & calculations'!$C$5) -> 11 | F12: =IF(RosterTable[[#This Row],[PlayerCalc]]=0,'Parameters & calculations'!$C$5,RosterTable[[#This Row],[PlayerCalc]]) -> 11 | G12: ="Player "&RosterTable[[#This Row],[Player'#]] -> Player 11
A13: 12 | B13: =ROUNDUP(RosterTable[[#This Row],[Period Player sequence'#]]/'Parameters & calculations'!$E$21,0) -> 1 | C13: =MOD(ROUNDUP(RosterTable[[#This Row],[Period Player sequence'#]]/'Parameters & calculations'!$C$8,0),'Parameters & calculations'!$C$7) -> 3 | D13: =IF(RosterTable[[#This Row],[PeriodCalc]]=0,'Parameters & calculations'!$C$7,RosterTable[[#This Row],[PeriodCalc]]) -> 3 | E13: =MOD(RosterTable[[#This Row],[Period Player sequence'#]],'Parameters & calculations'!$C$5) -> 0 | F13: =IF(RosterTable[[#This Row],[PlayerCalc]]=0,'Parameters & calculations'!$C$5,RosterTable[[#This Row],[PlayerCalc]]) -> 12 | G13: ="Player "&RosterTable[[#This Row],[Player'#]] -> Player 12
... A271: 270 | B271: =ROUNDUP(RosterTable[[#This Row],[Period Player sequence'#]]/'Parameters & calculations'!$E$21,0) -> 6 | C271: =MOD(ROUNDUP(RosterTable[[#This Row],[Period Player sequence'#]]/'Parameters & calculations'!$C$8,0),'Parameters & calculations'!$C$7) -> 0 | D271: =IF(RosterTable[[#This Row],[PeriodCalc]]=0,'Parameters & calculations'!$C$7,RosterTable[[#This Row],[PeriodCalc]]) -> 9 | E271: =MOD(RosterTable[[#This Row],[Period Player sequence'#]],'Parameters & calculations'!$C$5) -> 6 | F271: =IF(RosterTable[[#This Row],[PlayerCalc]]=0,'Parameters & calculations'!$C$5,RosterTable[[#This Row],[PlayerCalc]]) -> 6 | G271: ="Player "&RosterTable[[#This Row],[Player'#]] -> Player 6

Sheet Parameters & calculations
B2: Objective | C2: Give each player equal playing time throughout each game, or as close to equal as possible.
B4: Parameters
B5: Number of players (K) | C5: 12
B6: Number of games in season (G) | C6: 6
B7: Number of periods per game (P) | C7: 9
B8: Number of players per period (T) | C8: 5
B10: Other rule 1 | C10: There are no substitutions during a period.
B11: Other rule 2 | C11: The substitutions happen at the end of each period where some players are taken out of the game and others are put in.
B13: Calculations
B14: Ideal equal playing periods per player in each game
B15: Total number of player-periods per game (T*P) | C15: =C8*C7 -> 45
B16: Ideal equal playing periods per player in each game (T*P/K) | C16: =C15/C$5 -> 3.75 | F16: =C7/C16 -> 2.4 | G16: Period intervals
B17: Whole period calculations | D17: Number of players | E17: Number of player-periods | F17: Rotation Cycle
B18: Mininum number of periods per player | C18: =ROUNDDOWN(C16,0) -> 3 | D18: =C$5-D19 -> 3 | E18: =C18*D18 -> 9
B19: Maximum number of periods per player | C19: =ROUNDUP(C16,0) -> 4 | D19: =ROUND(C$5*C20,0) -> 9 | E19: =C19*D19 -> 36 | F19: =D19/D18 -> 3 | G19: Players / cycle
B20: Fractions above minimum | C20: =C16-C18 -> 0.75
B21: Total number of players | D21: =SUM(D18:D19) -> 12 | E21: =SUM(E18:E19) -> 45 | F21: =D21/F19 -> 4 | G21: Total cycles
B22: Check difference | D22: =C$5-D21 -> 0 | E22: =C15-E21 -> 0 | H22: Extras rotation table
H23: Player | I23: Initial extras | J23: Game 2 | K23: Game 3 | L23: Game 4 | M23: Game 5 | N23: Game 6
B24: Ideal equal playing periods per player in all games | H24: 1 | I24: =IF(AND(OR(ROUNDUP(H24/$F$19,0)=$F$21,MOD($H24,$F$19)<>0),SUM(I$23:I23)<$D$19),1,0) -> 1 | J24: =IF($H24=1,I35,I23) -> 1 | K24: =IF($H24=1,J35,J23) -> 1 | L24: =IF($H24=1,K35,K23) -> 1 | M24: =IF($H24=1,L35,L23) -> 0 | N24: =IF($H24=1,M35,M23) -> 1
B25: Total number of player-periods per all games (T*P*G) | C25: =C15*C6 -> 270 | H25: 2 | I25: =IF(AND(OR(ROUNDUP(H25/$F$19,0)=$F$21,MOD($H25,$F$19)<>0),SUM(I$23:I24)<$D$19),1,0) -> 1 | J25: =IF($H25=1,I36,I24) -> 1 | K25: =IF($H25=1,J36,J24) -> 1 | L25: =IF($H25=1,K36,K24) -> 1 | M25: =IF($H25=1,L36,L24) -> 1 | N25: =IF($H25=1,M36,M24) -> 0
B26: Ideal equal playing periods per player for all games (T*P*G/K) | C26: =C25/C$5 -> 22.5 | H26: 3 | I26: =IF(AND(OR(ROUNDUP(H26/$F$19,0)=$F$21,MOD($H26,$F$19)<>0),SUM(I$23:I25)<$D$19),1,0) -> 0 | J26: =IF($H26=1,I37,I25) -> 1 | K26: =IF($H26=1,J37,J25) -> 1 | L26: =IF($H26=1,K37,K25) -> 1 | M26: =IF($H26=1,L37,L25) -> 1 | N26: =IF($H26=1,M37,M25) -> 1
B27: Whole period calculations | D27: Number of players | E27: Number of player-periods | H27: 4 | I27: =IF(AND(OR(ROUNDUP(H27/$F$19,0)=$F$21,MOD($H27,$F$19)<>0),SUM(I$23:I26)<$D$19),1,0) -> 1 | J27: =IF($H27=1,I38,I26) -> 0 | K27: =IF($H27=1,J38,J26) -> 1 | L27: =IF($H27=1,K38,K26) -> 1 | M27: =IF($H27=1,L38,L26) -> 1 | N27: =IF($H27=1,M38,M26) -> 1
B28: Mininum number of periods per player | C28: =ROUNDDOWN(C26,0) -> 22 | D28: =C$5-D29 -> 6 | E28: =C28*D28 -> 132 | H28: 5 | I28: =IF(AND(OR(ROUNDUP(H28/$F$19,0)=$F$21,MOD($H28,$F$19)<>0),SUM(I$23:I27)<$D$19),1,0) -> 1 | J28: =IF($H28=1,I39,I27) -> 1 | K28: =IF($H28=1,J39,J27) -> 0 | L28: =IF($H28=1,K39,K27) -> 1 | M28: =IF($H28=1,L39,L27) -> 1 | N28: =IF($H28=1,M39,M27) -> 1
B29: Maximum number of periods per player | C29: =ROUNDUP(C26,0) -> 23 | D29: =ROUND(C$5*C30,0) -> 6 | E29: =C29*D29 -> 138 | H29: 6 | I29: =IF(AND(OR(ROUNDUP(H29/$F$19,0)=$F$21,MOD($H29,$F$19)<>0),SUM(I$23:I28)<$D$19),1,0) -> 0 | J29: =IF($H29=1,I40,I28) -> 1 | K29: =IF($H29=1,J40,J28) -> 1 | L29: =IF($H29=1,K40,K28) -> 0 | M29: =IF($H29=1,L40,L28) -> 1 | N29: =IF($H29=1,M40,M28) -> 1
B30: Fractions above minimum | C30: =C26-C28 -> 0.5 | H30: 7 | I30: =IF(AND(OR(ROUNDUP(H30/$F$19,0)=$F$21,MOD($H30,$F$19)<>0),SUM(I$23:I29)<$D$19),1,0) -> 1 | J30: =IF($H30=1,I41,I29) -> 0 | K30: =IF($H30=1,J41,J29) -> 1 | L30: =IF($H30=1,K41,K29) -> 1 | M30: =IF($H30=1,L41,L29) -> 0 | N30: =IF($H30=1,M41,M29) -> 1
B31: Total number of players | D31: =SUM(D28:D29) -> 12 | E31: =SUM(E28:E29) -> 270 | H31: 8 | I31: =IF(AND(OR(ROUNDUP(H31/$F$19,0)=$F$21,MOD($H31,$F$19)<>0),SUM(I$23:I30)<$D$19),1,0) -> 1 | J31: =IF($H31=1,I42,I30) -> 1 | K31: =IF($H31=1,J42,J30) -> 0 | L31: =IF($H31=1,K42,K30) -> 1 | M31: =IF($H31=1,L42,L30) -> 1 | N31: =IF($H31=1,M42,M30) -> 0
B32: Check difference | D32: =C$5-D31 -> 0 | E32: =C25-E31 -> 0 | H32: 9 | I32: =IF(AND(OR(ROUNDUP(H32/$F$19,0)=$F$21,MOD($H32,$F$19)<>0),SUM(I$23:I31)<$D$19),1,0) -> 0 | J32: =IF($H32=1,I43,I31) -> 1 | K32: =IF($H32=1,J43,J31) -> 1 | L32: =IF($H32=1,K43,K31) -> 0 | M32: =IF($H32=1,L43,L31) -> 1 | N32: =IF($H32=1,M43,M31) -> 1
H33: 10 | I33: =IF(AND(OR(ROUNDUP(H33/$F$19,0)=$F$21,MOD($H33,$F$19)<>0),SUM(I$23:I32)<$D$19),1,0) -> 1 | J33: =IF($H33=1,I44,I32) -> 0 | K33: =IF($H33=1,J44,J32) -> 1 | L33: =IF($H33=1,K44,K32) -> 1 | M33: =IF($H33=1,L44,L32) -> 0 | N33: =IF($H33=1,M44,M32) -> 1
B34: Allocations | H34: 11 | I34: =IF(AND(OR(ROUNDUP(H34/$F$19,0)=$F$21,MOD($H34,$F$19)<>0),SUM(I$23:I33)<$D$19),1,0) -> 1 | J34: =IF($H34=1,I45,I33) -> 1 | K34: =IF($H34=1,J45,J33) -> 0 | L34: =IF($H34=1,K45,K33) -> 1 | M34: =IF($H34=1,L45,L33) -> 1 | N34: =IF($H34=1,M45,M33) -> 0
B35: Game | C35: Player | D35: Base # periods/game | E35: Extra # periods/game | F35: Total # periods/game | G35: Cumulative # periods/season | H35: 12 | I35: =IF(AND(OR(ROUNDUP(H35/$F$19,0)=$F$21,MOD($H35,$F$19)<>0),SUM(I$23:I34)<$D$19),1,0) -> 1 | J35: =IF($H35=1,I46,I34) -> 1 | K35: =IF($H35=1,J46,J34) -> 1 | L35: =IF($H35=1,K46,K34) -> 0 | M35: =IF($H35=1,L46,L34) -> 1 | N35: =IF($H35=1,M46,M34) -> 1
B36: 1 | C36: 1 | D36: =$C$18 -> 3 | E36: =OFFSET($H$23,C36,B36) -> 1 | F36: =SUM(D36:E36) -> 4 | G36: =SUM(G24,F36) -> 4
B37: 1 | C37: 2 | D37: =$C$18 -> 3 | E37: =OFFSET($H$23,C37,B37) -> 1 | F37: =SUM(D37:E37) -> 4 | G37: =SUM(G25,F37) -> 4
B38: 1 | C38: 3 | D38: =$C$18 -> 3 | E38: =OFFSET($H$23,C38,B38) -> 0 | F38: =SUM(D38:E38) -> 3 | G38: =SUM(G26,F38) -> 3
B39: 1 | C39: 4 | D39: =$C$18 -> 3 | E39: =OFFSET($H$23,C39,B39) -> 1 | F39: =SUM(D39:E39) -> 4 | G39: =SUM(G27,F39) -> 4
B40: 1 | C40: 5 | D40: =$C$18 -> 3 | E40: =OFFSET($H$23,C40,B40) -> 1 | F40: =SUM(D40:E40) -> 4 | G40: =SUM(G28,F40) -> 4
B41: 1 | C41: 6 | D41: =$C$18 -> 3 | E41: =OFFSET($H$23,C41,B41) -> 0 | F41: =SUM(D41:E41) -> 3 | G41: =SUM(G29,F41) -> 3
B42: 1 | C42: 7 | D42: =$C$18 -> 3 | E42: =OFFSET($H$23,C42,B42) -> 1 | F42: =SUM(D42:E42) -> 4 | G42: =SUM(G30,F42) -> 4
B43: 1 | C43: 8 | D43: =$C$18 -> 3 | E43: =OFFSET($H$23,C43,B43) -> 1 | F43: =SUM(D43:E43) -> 4 | G43: =SUM(G31,F43) -> 4
B44: 1 | C44: 9 | D44: =$C$18 -> 3 | E44: =OFFSET($H$23,C44,B44) -> 0 | F44: =SUM(D44:E44) -> 3 | G44: =SUM(G32,F44) -> 3
B45: 1 | C45: 10 | D45: =$C$18 -> 3 | E45: =OFFSET($H$23,C45,B45) -> 1 | F45: =SUM(D45:E45) -> 4 | G45: =SUM(G33,F45) -> 4
B46: 1 | C46: 11 | D46: =$C$18 -> 3 | E46: =OFFSET($H$23,C46,B46) -> 1 | F46: =SUM(D46:E46) -> 4 | G46: =SUM(G34,F46) -> 4
B47: 1 | C47: 12 | D47: =$C$18 -> 3 | E47: =OFFSET($H$23,C47,B47) -> 1 | F47: =SUM(D47:E47) -> 4 | G47: =SUM(G35,F47) -> 4
B48: =B36+1 -> 2 | C48: 1 | D48: =$C$18 -> 3 | E48: =OFFSET($H$23,C48,B48) -> 1 | F48: =SUM(D48:E48) -> 4 | G48: =SUM(G36,F48) -> 8
B49: =B37+1 -> 2 | C49: 2 | D49: =$C$18 -> 3 | E49: =OFFSET($H$23,C49,B49) -> 1 | F49: =SUM(D49:E49) -> 4 | G49: =SUM(G37,F49) -> 8
B50: =B38+1 -> 2 | C50: 3 | D50: =$C$18 -> 3 | E50: =OFFSET($H$23,C50,B50) -> 1 | F50: =SUM(D50:E50) -> 4 | G50: =SUM(G38,F50) -> 7
B51: =B39+1 -> 2 | C51: 4 | D51: =$C$18 -> 3 | E51: =OFFSET($H$23,C51,B51) -> 0 | F51: =SUM(D51:E51) -> 3 | G51: =SUM(G39,F51) -> 7
B52: =B40+1 -> 2 | C52: 5 | D52: =$C$18 -> 3 | E52: =OFFSET($H$23,C52,B52) -> 1 | F52: =SUM(D52:E52) -> 4 | G52: =SUM(G40,F52) -> 8
B53: =B41+1 -> 2 | C53: 6 | D53: =$C$18 -> 3 | E53: =OFFSET($H$23,C53,B53) -> 1 | F53: =SUM(D53:E53) -> 4 | G53: =SUM(G41,F53) -> 7
B54: =B42+1 -> 2 | C54: 7 | D54: =$C$18 -> 3 | E54: =OFFSET($H$23,C54,B54) -> 0 | F54: =SUM(D54:E54) -> 3 | G54: =SUM(G42,F54) -> 7
B55: =B43+1 -> 2 | C55: 8 | D55: =$C$18 -> 3 | E55: =OFFSET($H$23,C55,B55) -> 1 | F55: =SUM(D55:E55) -> 4 | G55: =SUM(G43,F55) -> 8
B56: =B44+1 -> 2 | C56: 9 | D56: =$C$18 -> 3 | E56: =OFFSET($H$23,C56,B56) -> 1 | F56: =SUM(D56:E56) -> 4 | G56: =SUM(G44,F56) -> 7
B57: =B45+1 -> 2 | C57: 10 | D57: =$C$18 -> 3 | E57: =OFFSET($H$23,C57,B57) -> 0 | F57: =SUM(D57:E57) -> 3 | G57: =SUM(G45,F57) -> 7
B58: =B46+1 -> 2 | C58: 11 | D58: =$C$18 -> 3 | E58: =OFFSET($H$23,C58,B58) -> 1 | F58: =SUM(D58:E58) -> 4 | G58: =SUM(G46,F58) -> 8
B59: =B47+1 -> 2 | C59: 12 | D59: =$C$18 -> 3 | E59: =OFFSET($H$23,C59,B59) -> 1 | F59: =SUM(D59:E59) -> 4 | G59: =SUM(G47,F59) -> 8
... B107: =B95+1 -> 6 | C107: 12 | D107: =$C$18 -> 3 | E107: =OFFSET($H$23,C107,B107) -> 1 | F107: =SUM(D107:E107) -> 4 | G107: =SUM(G95,F107) -> 23
