Workbook
Name PlayerSelList: OFFSET(Lists!$D$7, 0, 0, Lists!$D$5, 1)
Name SelectedPositions: Sheet1!$A$19:$A$23
Name TeamPlayers: Sheet1!$E$9:$E$23

Sheet Sheet1
E3: TOTAL PLAYERS | F3: =COUNTA(TeamPlayers) -> 13
E4: SELECT
E5: INNINGS | F5: 6
E6: PLAYERS ON FIELD | F6: 6
A8: Periods | B8: Sequence | E8: PLAYER NAMES | H8: =IF($F$5>=A9,"Period"&A9,"") -> Period1 | I8: =IF($F$5>=A10,"Period"&A10,"") -> Period2 | J8: =IF($F$5>=A11,"Period"&A11,"") -> Period3 | K8: =IF($F$5>=A12,"Period"&A12,"") -> Period4 | L8: =IF($F$5>=A13,"Period"&A13,"") -> Period5 | M8: =IF($F$5>=A14,"Period"&A14,"") -> Period6 | N8: =IF($F$5>=A15,"Period"&A15,"") | O8: =IF($F$5>=A16,"Period"&A16,"") | P8: =IF($F$5>=A17,"Period"&A17,"")
A9: 1 | B9: =Sheet1!$F$6 -> 6 | E9: Player 1 | H9: {=INDEX(_xlfn._xlws.FILTER(PlayerSelList,PlayerSelList<>""),_xlfn.SEQUENCE(Sheet1!$B$9,1,1,1))} -> Jack Beanstalk | I9: {=INDEX(_xlfn._xlws.FILTER(PlayerSelList,PlayerSelList<>""),_xlfn.SEQUENCE(Sheet1!$B$9,1,Sheet1!B10,1))} -> Player 3 | J9: {=INDEX(_xlfn._xlws.FILTER(PlayerSelList,PlayerSelList<>""),_xlfn.SEQUENCE(Sheet1!$B$9,1,Sheet1!B11,1))} -> Player 9 | K9: {=INDEX(_xlfn._xlws.FILTER(PlayerSelList,PlayerSelList<>""),_xlfn.SEQUENCE(Sheet1!$B$9,1,Sheet1!B12,1))} -> Player 2 | L9: {=INDEX(_xlfn._xlws.FILTER(PlayerSelList,PlayerSelList<>""),_xlfn.SEQUENCE(Sheet1!$B$9,1,Sheet1!B13,1))} -> Player 8 | M9: {=IF(M8="","",INDEX(_xlfn._xlws.FILTER(PlayerSelList,PlayerSelList<>""),_xlfn.SEQUENCE(Sheet1!$B$9,1,Sheet1!B14,1)))} -> Player 15 | N9: {=IF(N8="","",INDEX(_xlfn._xlws.FILTER(PlayerSelList,PlayerSelList<>""),_xlfn.SEQUENCE(Sheet1!$B$9,1,Sheet1!B15,1)))} | O9: {=IF(O8="","",INDEX(_xlfn._xlws.FILTER(PlayerSelList,PlayerSelList<>""),_xlfn.SEQUENCE(Sheet1!$B$9,1,Sheet1!B16,1)))} | P9: {=IF(P8="","",INDEX(_xlfn._xlws.FILTER(PlayerSelList,PlayerSelList<>""),_xlfn.SEQUENCE(Sheet1!$B$9,1,Sheet1!B17,1)))}
A10: 2 | B10: =1+B9 -> 7 | E10: Player 2 | H10: Player 1 | I10: Player 4 | J10: Jack Beanstalk | K10: Player 3 | L10: Player 9 | M10: Player 2
A11: 3 | B11: =$B$9+B10 -> 13 | E11: Player 3 | H11: Player 10 | I11: Player 5 | J11: Player 1 | K11: Player 4 | L11: Jack Beanstalk | M11: Player 3
A12: 4 | B12: =$B$9+B11 -> 19 | E12: Player 4 | H12: Player 11 | I12: Player 6 | J12: Player 10 | K12: Player 5 | L12: Player 1 | M12: Player 4
A13: 5 | B13: =$B$9+B12 -> 25 | E13: Player 5 | H13: Player 15 | I13: Player 7 | J13: Player 11 | K13: Player 6 | L13: Player 10 | M13: Player 5
A14: 6 | B14: =$B$9+B13 -> 31 | E14: Player 6 | H14: Player 2 | I14: Player 8 | J14: Player 15 | K14: Player 7 | L14: Player 11 | M14: Player 6
A15: 7 | B15: =$B$9+B14 -> 37 | E15: Player 7
A16: 8 | B16: =$B$9+B15 -> 43 | E16: Player 8
A17: 9 | B17: =$B$9+B16 -> 49 | E17: Player 9
E18: Player 10
E19: Player 11
E20: Jack Beanstalk
E23: Player 15

Sheet Lists
C2: Filtered list derived from the Raw List | E2: Filtered List is used with INDEX-FILTER-SEQUENCE in Sheet1 to divide up the team evenly.
D4: ListLength
D5: =COUNTA(D7:D156) -> 130 | E5: used in Dynamic Named Range
C6: Raw | D6: Filtered
B7: 1 | C7: {=_xlfn._xlws.SORT(_xlfn.UNIQUE(TeamPlayers,1))} -> Jack Beanstalk | D7: {=_xlfn._xlws.FILTER(C7:C156,C7:C156<>0)} -> Jack Beanstalk | F7: '=INDEX(FILTER(data,data<>""),SEQUENCE(n,1,1,1))
B8: 2 | C8: Player 1 | D8: Player 1 | F8: formula used in Sheet1
B9: 3 | C9: Player 10 | D9: Player 10 | F9: Sequence(n = start of Filtered List, 1, step,1)
B10: 4 | C10: Player 11 | D10: Player 11 | F10: step = every x names
B11: 5 | C11: Player 15 | D11: Player 15
B12: 6 | C12: Player 2 | D12: Player 2
B13: 7 | C13: Player 3 | D13: Player 3 | F13: Something else that could be added in the future
B14: 8 | C14: Player 4 | D14: Player 4 | F14: pitcher (P), catcher (C), first base (1B), second base(2B), shortstop(SS), third base(3B), right field(RF), center field(CF), and left field(LF).
B15: 9 | C15: Player 5 | D15: Player 5
B16: 10 | C16: Player 6 | D16: Player 6
B17: 11 | C17: Player 7 | D17: Player 7
B18: 12 | C18: Player 8 | D18: Player 8
B19: 13 | C19: Player 9 | D19: Player 9
B20: 14 | C20: 0 | D20: Jack Beanstalk
B21: 15 | C21: 0 | D21: Player 1
B22: 16 | C22: =C7 -> Jack Beanstalk | D22: Player 10
B23: 17 | C23: =C8 -> Player 1 | D23: Player 11
B24: 18 | C24: =C9 -> Player 10 | D24: Player 15
B25: 19 | C25: =C10 -> Player 11 | D25: Player 2
B26: 20 | C26: =C11 -> Player 15 | D26: Player 3
B27: 21 | C27: =C12 -> Player 2 | D27: Player 4
B28: 22 | C28: =C13 -> Player 3 | D28: Player 5
B29: 23 | C29: =C14 -> Player 4 | D29: Player 6
B30: 24 | C30: =C15 -> Player 5 | D30: Player 7
B31: 25 | C31: =C16 -> Player 6 | D31: Player 8
B32: 26 | C32: =C17 -> Player 7 | D32: Player 9
B33: 27 | C33: =C18 -> Player 8 | D33: Jack Beanstalk
... B136: 130 | C136: =C121 -> Player 6 | D136: Player 9
B137: 131 | C137: =C122 -> Player 7
B138: 132 | C138: =C123 -> Player 8
B139: 133 | C139: =C124 -> Player 9
B140: 134 | C140: =C125 -> 0
B141: 135 | C141: =C126 -> 0
B142: 136 | C142: =C127 -> Jack Beanstalk
B143: 137 | C143: =C128 -> Player 1
B144: 138 | C144: =C129 -> Player 10
...
