Workbook
Name COGS: 'Income Statement'!$E$18
Name Gross_Profit: 'Income Statement'!$E$20
Name Inventory_Avail: 'Income Statement'!$D$16
Name Net_Income: 'Income Statement'!$E$58
Name Net_Sales: 'Income Statement'!$E$8
Name Op_Income: 'Income Statement'!$E$51
Name Operating_Income: 'Income Statement'!$E$51
Name Other_Income: 'Income Statement'!$E$56
Name rngCOGS: 'Income Statement'!$B$10:$E$20
Name rngCustomers: _xlfn.ANCHORARRAY(#REF!)
Name rngEndDate: Formatting!#REF!
Name rngExpenses: 'Income Statement'!$B$22:$E$49
Name rngIncome: 'Income Statement'!$B$51:$E$58
Name rngRepDV: 'Multiple Total Rows'!$R$3
Name rngReport: _xlfn.ANCHORARRAY(Formatting!#REF!)
Name rngRevenue: 'Income Statement'!$B$5:$E$8
Name rngStartDate: Formatting!#REF!
Name rngTest: Formatting!$H$4:$K$21
Name Total_Expenses: 'Income Statement'!$E$49

Sheet TOC
A1: 11212B3
B2: Table of Contents
B3: 1 | C3: Overview | F3: This Table of Contents was created in
B4: 2 | C4: Simple Example | F4: one click with the Tab Hound Add-in
B5: 3 | C5: Advanced Example | F5: learn more
B6: 4 | C6: Spill Range
B7: 5 | C7: Spill Operator
B8: 6 | C8: Filter
B9: 7 | C9: Filter Other Columns
B10: 8 | C10: Customer List
B11: 9 | C11: Filter Multiple Criteria - AND
B12: 10 | C12: AND Logic Explained
B13: 11 | C13: Filter Multiple Criteria - OR
B14: 12 | C14: OR Logic Explained
B15: 13 | C15: Unique
B16: 14 | C16: Unique by Column
B17: 15 | C17: Unique Exactly Once
... B49: 47 | C49: MS Help Articles
C50: Table of Contents

Sheet Overview
A1: Dynamic Array Functions & Formulas Overview
A2: Table of Contents
B3: What are Dynamic Arrays?
B4: Formulas that can return multiple results to multiple cells (arrays).
B5: This is called a Spill range, and automatically changes size as the source range changes (dynamic).
B7: The 6 New Functions
B8: 1 | C8: FILTER - allows you to filter a range of data based on criteria you define.
B9: 2 | C9: RANDARRAY - returns an array of random numbers.
B10: 3 | C10: SEQUENCE - allows you to generate a list of sequential numbers in an array, such as 1, 2, 3, 4.
B11: 4 | C11: SORT - sorts the contents of a range or array.
B12: 5 | C12: SORTBY - sorts based on the values in a corresponding range or array.
B13: 6 | C13: UNIQUE - returns a list of unique values in a list or range.
B15: Compatibility
B16: Only available for Microsoft/Office 365 subscribers.
B17: Not available on Excel 2019 or any earlier versions.
B18: Not backward compatible.
B19: Don't use dynamic array functions in a shared file with users on older versions of Excel.

Sheet Data Example
B1: Data Table
B4: Customer Name | C4: Product Name | D4: Unit Price
B5: Safeway | C5: Chocolate Cookies Mix | D5: 9
B6: Safeway | C6: Coffee | D6: 46
B7: Whole Foods | C7: Chocolate Cookies Mix | D7: 9.2
B8: Safeway | C8: Shipping Only | D8: 0
B9: Safeway | C9: Green Tea | D9: 2.99
B10: Smart & Final | C10: Soda | D10: 14
B11: Safeway | C11: Almonds | D11: 10
B12: Food 4 Less | C12: Dried Plums | D12: 3.5
B13: Safeway | C13: Coffee | D13: 46
B14: Raley's | C14: Mozzarella | D14: 34.8
B15: Whole Foods | C15: Curry Sauce | D15: 40
B16: Whole Foods | C16: Chocolate Cookies Mix | D16: 9.2
... B19: Stater Bros | C19: Curry Sauce | D19: 40

Sheet Edit Mode
B1: Enter and Edit Modes
B4: Customer Name | C4: Product Name | D4: Amount | E4: Shipping | F4: Discount | G4: Total
B5: Safeway | C5: Chocolate Cookies Mix | D5: 742 | E5: 66.82 | F5: 50 | G5: =D5+E5-F5 -> 758.82
B6: Safeway | C6: Coffee | D6: 790 | E6: 39.75 | F6: 0 | G6: =D6+E6-F6 -> 829.75
B7: Whole Foods | C7: Chocolate Cookies Mix | D7: 698 | E7: 16.35 | F7: 25 | G7: =D7+E7-F7 -> 689.35
B8: Safeway | C8: Shipping Only | D8: 209 | E8: 48.61 | F8: 0 | G8: =D8+E8-F8 -> 257.61
B9: Safeway | C9: Green Tea | D9: 863 | E9: 45.52 | F9: 0 | G9: =D9+E9-F9 -> 908.52
B10: Smart & Final | C10: Soda | D10: 404 | E10: 19.43 | F10: 50 | G10: =D10+E10-F10 -> 373.43
B11: Safeway | C11: Almonds | D11: 620 | E11: 68.56 | F11: 0 | G11: =D11+E11-F11 -> 688.56
B12: Food 4 Less | C12: Dried Plums | D12: 806 | E12: 73.13 | F12: 25 | G12: =D12+E12-F12 -> 854.13
B13: Safeway | C13: Coffee | D13: 401 | E13: 36.95 | F13: 0 | G13: =D13+E13-F13 -> 437.95
B14: Raley's | C14: Mozzarella | D14: 717 | E14: 44.41 | F14: 50 | G14: =D14+E14-F14 -> 711.41
B15: Whole Foods | C15: Curry Sauce | D15: 322 | E15: 45.97 | F15: 0 | G15: =D15+E15-F15 -> 367.97
B16: Whole Foods | C16: Chocolate Cookies Mix | D16: 730 | E16: 65.48 | F16: 0 | G16: =D16+E16-F16 -> 795.48
... B19: Stater Bros | C19: Curry Sauce | D19: 609 | E19: 43.96 | F19: 25 | G19: =D19+E19-F19 -> 627.96

Sheet Data Example (2)
B1: Data Table
B4: Customer Name | C4: Product Name | D4: Unit Price
B5: Safeway | C5: Chocolate Cookies Mix | D5: 9
B6: Safeway | C6: Coffee | D6: 46
B7: Whole Foods | C7: Chocolate Cookies Mix | D7: 9.2
B8: Safeway | C8: Shipping Only | D8: 0
B9: Safeway | C9: Green Tea | D9: 2.99
B10: Smart & Final | C10: Soda | D10: 14
B11: Safeway | C11: Almonds | D11: 10
B12: Food 4 Less | C12: Dried Plums | D12: 3.5
B13: Safeway | C13: Coffee | D13: 46
B14: Raley's | C14: Mozzarella | D14: 34.8
B15: Whole Foods | C15: Curry Sauce | D15: 40
B16: Whole Foods | C16: Chocolate Cookies Mix | D16: 9.2
... B19: Stater Bros | C19: Curry Sauce | D19: 40

Sheet Zoom
B1: Zoom
B4: Customer Name | C4: Product Name | D4: Amount | E4: Shipping | F4: Discount | G4: Total
B5: Safeway | C5: Chocolate Cookies Mix | D5: 742 | E5: 66.82 | F5: 50 | G5: =D5+E5 -> 808.82
B6: Safeway | C6: Coffee | D6: 790 | E6: 39.75 | F6: 0 | G6: =D6+E6 -> 829.75
B7: Whole Foods | C7: Chocolate Cookies Mix | D7: 698 | E7: 16.35 | F7: 25 | G7: =D7+E7 -> 714.35
B8: Safeway | C8: Shipping Only | D8: 209 | E8: 48.61 | F8: 0 | G8: =D8+E8 -> 257.61
B9: Safeway | C9: Green Tea | D9: 863 | E9: 45.52 | F9: 0 | G9: =D9+E9 -> 908.52
B10: Smart & Final | C10: Soda | D10: 404 | E10: 19.43 | F10: 50 | G10: =D10+E10 -> 423.43
B11: Safeway | C11: Almonds | D11: 620 | E11: 68.56 | F11: 0 | G11: =D11+E11 -> 688.56
B12: Food 4 Less | C12: Dried Plums | D12: 806 | E12: 73.13 | F12: 25 | G12: =D12+E12 -> 879.13
B13: Safeway | C13: Coffee | D13: 401 | E13: 36.95 | F13: 0 | G13: =D13+E13 -> 437.95
B14: Raley's | C14: Mozzarella | D14: 717 | E14: 44.41 | F14: 50 | G14: =D14+E14 -> 761.41
B15: Whole Foods | C15: Curry Sauce | D15: 322 | E15: 45.97 | F15: 0 | G15: =D15+E15 -> 367.97
B16: Whole Foods | C16: Chocolate Cookies Mix | D16: 730 | E16: 65.48 | F16: 0 | G16: =D16+E16 -> 795.48
... B19: Stater Bros | C19: Curry Sauce | D19: 609 | E19: 43.96 | F19: 25 | G19: =D19+E19 -> 652.96

Sheet Long Formula
B1: Long Formula
B4: Extract: Phone Number
B5: Scraped Data | C5: Phone Number
B6: Call us at 794-563-1752 or (869)731-0900 | C6: =IF(ISNUMBER(--(SUBSTITUTE(MID(TRIM(SUBSTITUTE(SUBSTITUTE(SUBSTITUTE(B6,"(",""),") ","-"),".","-")),SEARCH("???-???-????",TRIM(SUBSTITUTE(SUBSTITUTE(SUBSTITUTE(B6,"(",""),") ","-"),".","-"))),12),"-",""))),SUBSTITUTE(MID(TRIM(SUBSTITUTE(SUBSTITUTE(SUBSTITUTE(B6,"(",""),") ","-"),".","-")),SEARCH("???-???-????",TRIM(SUBSTITUTE(SUBSTITUTE(SUBSTITUTE(B6,"(",""),") ","-"),".","-"))),12),"-",""),"") -> 7945631752
B7: Call 24/7 at 572-355-3071 or (623) 848-9756 | C7: =IF(ISNUMBER(--(SUBSTITUTE(MID(TRIM(SUBSTITUTE(SUBSTITUTE(SUBSTITUTE(B7,"(",""),") ","-"),".","-")),SEARCH("???-???-????",TRIM(SUBSTITUTE(SUBSTITUTE(SUBSTITUTE(B7,"(",""),") ","-"),".","-"))),12),"-",""))),SUBSTITUTE(MID(TRIM(SUBSTITUTE(SUBSTITUTE(SUBSTITUTE(B7,"(",""),") ","-"),".","-")),SEARCH("???-???-????",TRIM(SUBSTITUTE(SUBSTITUTE(SUBSTITUTE(B7,"(",""),") ","-"),".","-"))),12),"-",""),"") -> 5723553071
B8: Please call us at your earliest convenience. | C8: =IF(ISNUMBER(--(SUBSTITUTE(MID(TRIM(SUBSTITUTE(SUBSTITUTE(SUBSTITUTE(B8,"(",""),") ","-"),".","-")),SEARCH("???-???-????",TRIM(SUBSTITUTE(SUBSTITUTE(SUBSTITUTE(B8,"(",""),") ","-"),".","-"))),12),"-",""))),SUBSTITUTE(MID(TRIM(SUBSTITUTE(SUBSTITUTE(SUBSTITUTE(B8,"(",""),") ","-"),".","-")),SEARCH("???-???-????",TRIM(SUBSTITUTE(SUBSTITUTE(SUBSTITUTE(B8,"(",""),") ","-"),".","-"))),12),"-",""),"")
B9: Reach us anytime: 887-150-9940 | C9: =IF(ISNUMBER(--(SUBSTITUTE(MID(TRIM(SUBSTITUTE(SUBSTITUTE(SUBSTITUTE(B9,"(",""),") ","-"),".","-")),SEARCH("???-???-????",TRIM(SUBSTITUTE(SUBSTITUTE(SUBSTITUTE(B9,"(",""),") ","-"),".","-"))),12),"-",""))),SUBSTITUTE(MID(TRIM(SUBSTITUTE(SUBSTITUTE(SUBSTITUTE(B9,"(",""),") ","-"),".","-")),SEARCH("???-???-????",TRIM(SUBSTITUTE(SUBSTITUTE(SUBSTITUTE(B9,"(",""),") ","-"),".","-"))),12),"-",""),"") -> 8871509940

Sheet Autofit
A1: Order ID | B1: Order Date | C1: Year-Month | D1: Quarter | E1: Customer ID | F1: Customer Name | G1: Rep ID | H1: Rep Name | I1: Category | J1: Unit Price | K1: Quantity | L1: Revenue | M1: Shipping Fee
A2: 1001 | B2: 45318 | C2: 2024-01 | D2: ="Q"&ROUNDUP(MONTH(Autofit!$B2)/3,0) -> Q1 | E2: 1 | F2: Dell | G2: 1 | H2: Elwyn Ellul | I2: Beverages | J2: 14 | K2: 49 | L2: 686 | M2: 66.542
A3: 1002 | B3: 45318 | C3: 2024-01 | D3: ="Q"&ROUNDUP(MONTH(Autofit!$B3)/3,0) -> Q1 | E3: 9 | F3: Merriam Webster | G3: 1 | H3: Elwyn Ellul | I3: Dried Fruit & Nuts | J3: 3.5 | K3: 47 | L3: 164.5 | M3: 16.6145
A4: 1083 | B4: 45394 | C4: 2024-04 | D4: ="Q"&ROUNDUP(MONTH(Autofit!$B4)/3,0) -> Q2 | E4: 9 | F4: Merriam Webster | G4: 1 | H4: Elwyn Ellul | I4: Beverages | J4: 46 | K4: 96 | L4: 4416 | M4: 428.352
A5: 1006 | B5: 45303 | C5: 2024-01 | D5: ="Q"&ROUNDUP(MONTH(Autofit!$B5)/3,0) -> Q1 | E5: 10 | F5: Trip Advisor | G5: 1 | H5: Elwyn Ellul | I5: Beverages | J5: 18 | K5: 81 | L5: 1458 | M5: 141.426
A6: 1007 | B6: 45303 | C6: 2024-01 | D6: ="Q"&ROUNDUP(MONTH(Autofit!$B6)/3,0) -> Q1 | E6: 8 | F6: List Manage | G6: 1 | H6: Elwyn Ellul | I6: Beverages | J6: 46 | K6: 44 | L6: 2024 | M6: 198.352
A7: 1082 | B7: 45394 | C7: 2024-04 | D7: ="Q"&ROUNDUP(MONTH(Autofit!$B7)/3,0) -> Q2 | E7: 8 | F7: List Manage | G7: 1 | H7: Elwyn Ellul | I7: Beverages | J7: 18 | K7: 74 | L7: 1332 | M7: 137.196
A8: 1011 | B8: 45294 | C8: 2024-01 | D8: ="Q"&ROUNDUP(MONTH(Autofit!$B8)/3,0) -> Q1 | E8: 4 | F8: Cornell | G8: 1 | H8: Elwyn Ellul | I8: Soups | J8: 9.65 | K8: 91 | L8: 878.15 | M8: 92.2057
A9: 1031 | B9: 45325 | C9: 2024-02 | D9: ="Q"&ROUNDUP(MONTH(Autofit!$B9)/3,0) -> Q1 | E9: 4 | F9: Cornell | G9: 1 | H9: Elwyn Ellul | I9: Condiments | J9: 10 | K9: 63 | L9: 630 | M9: 65.52
A10: 1100 | B10: 45415 | C10: 2024-05 | D10: ="Q"&ROUNDUP(MONTH(Autofit!$B10)/3,0) -> Q2 | E10: 4 | F10: Cornell | G10: 1 | H10: Elwyn Ellul | I10: Soups | J10: 9.65 | K10: 43 | L10: 414.95 | M10: 42.3249
A11: 1070 | B11: 45354 | C11: 2024-03 | D11: ="Q"&ROUNDUP(MONTH(Autofit!$B11)/3,0) -> Q1 | E11: 6 | F11: Tamu | G11: 1 | H11: Elwyn Ellul | I11: Condiments | J11: 10 | K11: 48 | L11: 480 | M11: 48
A12: 1087 | B12: 45385 | C12: 2024-04 | D12: ="Q"&ROUNDUP(MONTH(Autofit!$B12)/3,0) -> Q2 | E12: 6 | F12: Tamu | G12: 1 | H12: Elwyn Ellul | I12: Soups | J12: 9.65 | K12: 95 | L12: 916.75 | M12: 91.675
A13: 1032 | B13: 45325 | C13: 2024-02 | D13: ="Q"&ROUNDUP(MONTH(Autofit!$B13)/3,0) -> Q1 | E13: 7 | F13: Site Meter | G13: 1 | H13: Elwyn Ellul | I13: Sauces | J13: 40 | K13: 30 | L13: 1200 | M13: 120
... A302: 1395 | B302: 45635 | C302: 2024-12 | D302: ="Q"&ROUNDUP(MONTH(Autofit!$B302)/3,0) -> Q4 | E302: 9 | F302: Merriam Webster | G302: 9 | H302: Lazar Clineck | I302: Dairy Products | J302: 34.8 | K302: 69 | L302: 2401.2 | M302: 240.12

Sheet Select Ranges
B1: Select Ranges
B4: No. | C4: Name | D4: Phone | E4: Email

Sheet Shapes
B1: Shapes

Sheet Formatting
B1: Formatting
B4: Order Date | C4: Customer Name | D4: Product Name | E4: Unit Price | F4: Quantity
B5: 43101 | C5: Albertsons | D5: Chocolate Cookies Mix | E5: 9 | F5: 70
B6: 43102 | C6: Safeway | D6: Coffee | E6: 46 | F6: 190
B7: 43103 | C7: Whole Foods | D7: Chocolate Cookies Mix | E7: 9.2 | F7: 470
B8: 43104 | C8: Safeway | D8: Shipping Only | E8: 0 | F8: 0
B9: 43105 | C9: Save Mart | D9: Green Tea | E9: 2.99 | F9: 900
B10: 43106 | C10: Smart & Final | D10: Soda | E10: 14 | F10: 100
B11: 43107 | C11: Save Mart | D11: Almonds | E11: 10 | F11: 810
B12: 43108 | C12: Food 4 Less | D12: Dried Plums | E12: 3.5 | F12: 750
B13: 43109 | C13: Safeway | D13: Coffee | E13: 46 | F13: 920
B14: 43110 | C14: Raley's | D14: Mozzarella | E14: 34.8 | F14: 180
B15: 43111 | C15: Vallarta | D15: Curry Sauce | E15: 40 | F15: 810
B16: 43112 | C16: Whole Foods | D16: Chocolate Cookies Mix | E16: 9.2 | F16: 380
... B29: 43125 | C29: Save Mart | D29: Almond Biscuits Mix | E29: 9.2 | F29: 600

Sheet Simple Example
A1: Dynamic Arrays versus Ctrl+Shift+Enter Array Formulas
A2: Table of Contents
A4: Customer Name | C4: Unique List | D4: Sorted List | F4: Ctrl+Shift+Enter Array: Unique
A5: Whole Foods | C5: {=_xlfn.UNIQUE(A5:A19)} -> Whole Foods | F5: {=INDEX($A$5:$A$19,MATCH(0,COUNTIF($F$4:F4,$A$5:$A$19),0))} -> Whole Foods
A6: Safeway | C6: Safeway | F6: {=INDEX($A$5:$A$19,MATCH(0,COUNTIF($F$4:F5,$A$5:$A$19),0))} -> Safeway
A7: Safeway | C7: Smart & Final | F7: {=INDEX($A$5:$A$19,MATCH(0,COUNTIF($F$4:F6,$A$5:$A$19),0))} -> Smart & Final
A8: Safeway | C8: Save Mart | F8: {=INDEX($A$5:$A$19,MATCH(0,COUNTIF($F$4:F7,$A$5:$A$19),0))} -> Save Mart
A9: Whole Foods | C9: Food 4 Less | F9: {=INDEX($A$5:$A$19,MATCH(0,COUNTIF($F$4:F8,$A$5:$A$19),0))} -> Food 4 Less
A10: Smart & Final | C10: Raley's | F10: {=INDEX($A$5:$A$19,MATCH(0,COUNTIF($F$4:F9,$A$5:$A$19),0))} -> Raley's
A11: Save Mart | C11: Vallarta | F11: {=INDEX($A$5:$A$19,MATCH(0,COUNTIF($F$4:F10,$A$5:$A$19),0))} -> Vallarta
A12: Food 4 Less | C12: Stater Bros | F12: {=INDEX($A$5:$A$19,MATCH(0,COUNTIF($F$4:F11,$A$5:$A$19),0))} -> Stater Bros
A13: Safeway | F13: {=INDEX($A$5:$A$19,MATCH(0,COUNTIF($F$4:F12,$A$5:$A$19),0))} -> #N/A
A14: Raley's | F14: {=INDEX($A$5:$A$19,MATCH(0,COUNTIF($F$4:F13,$A$5:$A$19),0))} -> #N/A
A15: Vallarta
A16: Whole Foods
A17: Food 4 Less
A18: Save Mart
A19: Stater Bros

Sheet Advanced Example
A1: Summary Reports with Dynamic Arrays
A2: Table of Contents
B3: Category: | C3: Fruit & Veg
B4: Quarter: | C4: Q1
B6: Company | C6: {=TRANSPOSE(_xlfn._xlws.SORT(_xlfn.UNIQUE(_xlfn._xlws.FILTER(tblData[Year-Month],(tblData[Quarter]='Advanced Example'!C4)+(C4='Summary Lists'!D1),"Please select a quarter"))))} -> 2019-01 | D6: 2019-02 | E6: 2019-03
B7: {=_xlfn.UNIQUE(tblData[Company])} -> Dell | C7: {=SUMIFS(tblData[Revenue],tblData[Company],_xlfn.ANCHORARRAY(B7),tblData[Year-Month],_xlfn.ANCHORARRAY(C6),tblData[Category],IF(C3='Summary Lists'!B1,"*",C3))} -> 0 | D7: 0 | E7: 0
B8: Merriam Webster | C8: 0 | D8: 0 | E8: 0
B9: Trip Advisor | C9: 0 | D9: 0 | E9: 0
B10: List Manage | C10: 0 | D10: 0 | E10: 1014
B11: Cornell | C11: 0 | D11: 0 | E11: 0
B12: Tamu | C12: 0 | D12: 0 | E12: 0
B13: Site Meter | C13: 0 | D13: 0 | E13: 0
B14: Event Brite | C14: 0 | D14: 0 | E14: 0
B15: Xing | C15: 0 | D15: 0 | E15: 0
B16: Newsvine | C16: 0 | D16: 0 | E16: 0
B17: Network Solutions | C17: 0 | D17: 0 | E17: 0
B18: Stumble Upon | C18: 0 | D18: 0 | E18: 0

Sheet Spill Range
A1: Spill Ranges and SPILL Errors
A2: Table of Contents
A4: Customer Name | B4: Product Name | C4: Unit Price | E4: Unique List | G4: Filter | K4: Other Workbook
A5: Safeway | B5: Chocolate Cookies Mix | C5: 9 | E5: {=_xlfn.UNIQUE(tblCustomers[Customer Name])} -> Safeway | G5: {=_xlfn._xlws.FILTER(tblCustomers[],tblCustomers[Customer Name]="Vons","No results")} -> No results | K5: Safeway
A6: Safeway | B6: Coffee | C6: 46 | E6: Whole Foods | K6: Whole Foods
A7: Whole Foods | B7: Chocolate Cookies Mix | C7: 9.2 | E7: Smart & Final | K7: Smart & Final
A8: Safeway | B8: Shipping Only | C8: 0 | E8: Food 4 Less | K8: Food 4 Less
A9: Safeway | B9: Green Tea | C9: 2.99 | E9: Raley's | K9: Raley's
A10: Smart & Final | B10: Soda | C10: 14 | E10: Stater Bros | K10: Stater Bros
A11: Safeway | B11: Almonds | C11: 10
A12: Food 4 Less | B12: Dried Plums | C12: 3.5
A13: Safeway | B13: Coffee | C13: 46
A14: Raley's | B14: Mozzarella | C14: 34.8
A15: Whole Foods | B15: Curry Sauce | C15: 40
A16: Whole Foods | B16: Chocolate Cookies Mix | C16: 9.2
A17: Food 4 Less | B17: Chocolate Cookies Mix | C17: 9.2
A18: Safeway | B18: Cajun Seasoning | C18: 22
A19: Stater Bros | B19: Curry Sauce | C19: 40

Sheet Spill Operator
A1: The Spill Operator (Spill Range Reference)
A2: Table of Contents
A4: Customer Name | C4: Unique List | D4: Sorted List | E4: Count | G4: Drop-down List
A5: Whole Foods | C5: {=_xlfn.UNIQUE(tblCustomers2[Customer Name])} -> Whole Foods | D5: {=_xlfn._xlws.SORT(_xlfn.ANCHORARRAY(C5))} -> Food 4 Less | E5: =COUNTA(_xlfn.ANCHORARRAY(C5)) -> 7
A6: Safeway | C6: Safeway | D6: Raley's
A7: Safeway | C7: Smart & Final | D7: Safeway
A8: Safeway | C8: Save Mart | D8: Save Mart
A9: Whole Foods | C9: Food 4 Less | D9: Smart & Final
A10: Smart & Final | C10: Raley's | D10: Vallarta
A11: Save Mart | C11: Vallarta | D11: Whole Foods
A12: Food 4 Less
A13: Safeway
A14: Raley's
A15: Vallarta
A16: Whole Foods
A17: Food 4 Less

Sheet Filter
A1: The Filter Function
A2: Table of Contents
G3: Select Customer: | H3: Vons
A5: Order Date | B5: Customer Name | C5: Products | D5: Unit Price | E5: Quantity | G5: {=tblSalesFilter[#Headers]} -> Order Date | H5: Customer Name | I5: Products | J5: Unit Price | K5: Quantity
A6: 43101 | B6: Albertsons | C6: Chocolate Cookies Mix | D6: 9 | E6: 70 | G6: {=_xlfn._xlws.FILTER(tblSalesFilter[],tblSalesFilter[Customer Name]=$H$3,"No results")} -> 43115 | H6: Vons | I6: Dried Plums | J6: 3.5 | K6: 470
A7: 43101 | B7: Safeway | C7: Coffee | D7: 46 | E7: 190 | G7: 43117 | H7: Vons | I7: Dried Plums | J7: 3.5 | K7: 600
A8: 43101 | B8: Whole Foods | C8: Chocolate Cookies Mix | D8: 9.2 | E8: 470 | G8: 43125 | H8: Vons | I8: Soda | J8: 14 | K8: 490
A9: 43101 | B9: Safeway | C9: Shipping Only | D9: 0 | E9: 0 | G9: 43129 | H9: Vons | I9: Coffee | J9: 14 | K9: 190
A10: 43101 | B10: Save Mart | C10: Green Tea | D10: 2.99 | E10: 900 | G10: 43131 | H10: Vons | I10: Shipping Only | J10: 0 | K10: 0
A11: 43102 | B11: Smart & Final | C11: Soda | D11: 14 | E11: 100
A12: 43102 | B12: Save Mart | C12: Almonds | D12: 10 | E12: 810
A13: 43103 | B13: Food 4 Less | C13: Dried Plums | D13: 3.5 | E13: 750
A14: 43103 | B14: Safeway | C14: Coffee | D14: 46 | E14: 920
A15: 43104 | B15: Raley's | C15: Mozzarella | D15: 34.8 | E15: 180
A16: 43104 | B16: Vallarta | C16: Curry Sauce | D16: 40 | E16: 810
A17: 43104 | B17: Whole Foods | C17: Chocolate Cookies Mix | D17: 9.2 | E17: 380
A18: 43104 | B18: Food 4 Less | C18: Chocolate Cookies Mix | D18: 9.2 | E18: 880
A19: 43105 | B19: Save Mart | C19: Cajun Seasoning | D19: 22 | E19: 720
A20: 43106 | B20: Stater Bros | C20: Curry Sauce | D20: 40 | E20: 250
A21: 43106 | B21: Whole Foods | C21: Curry Sauce | D21: 40 | E21: 820
A22: 43106 | B22: Stater Bros | C22: Chocolate | D22: 12.75 | E22: 1000
... A85: 43131 | B85: Food 4 Less | C85: Dried Apples | D85: 53 | E85: 890

Sheet Filter Other Columns
A1: Filter Other Columns
A2: Table of Contents
G3: Select Customer: | H3: Costco
A5: Order Date | B5: Customer Name | C5: Product Name | D5: Unit Price | E5: Quantity | G5: Product Name | H5: Unit Price
A6: 43101 | B6: Albertsons | C6: Chocolate Cookies Mix | D6: 9 | E6: 70 | G6: {=_xlfn._xlws.FILTER(tblSalesFilter2[[Product Name]:[Unit Price]],tblSalesFilter2[Customer Name]=H3)} -> Curry Sauce | H6: 40
A7: 43101 | B7: Safeway | C7: Coffee | D7: 46 | E7: 190 | G7: Syrup | H7: 10
A8: 43101 | B8: Whole Foods | C8: Chocolate Cookies Mix | D8: 9.2 | E8: 470 | G8: Green Tea | H8: 2.99
A9: 43101 | B9: Safeway | C9: Shipping Only | D9: 0 | E9: 0 | G9: Clam Chowder | H9: 9.65
A10: 43101 | B10: Save Mart | C10: Green Tea | D10: 2.99 | E10: 900 | G10: Clam Chowder | H10: 9.65
A11: 43102 | B11: Smart & Final | C11: Soda | D11: 14 | E11: 100
A12: 43102 | B12: Save Mart | C12: Almonds | D12: 10 | E12: 810
A13: 43103 | B13: Food 4 Less | C13: Dried Plums | D13: 3.5 | E13: 750
A14: 43103 | B14: Safeway | C14: Coffee | D14: 46 | E14: 920
A15: 43104 | B15: Raley's | C15: Mozzarella | D15: 34.8 | E15: 180
A16: 43104 | B16: Vallarta | C16: Curry Sauce | D16: 40 | E16: 810
A17: 43104 | B17: Whole Foods | C17: Chocolate Cookies Mix | D17: 9.2 | E17: 380
A18: 43104 | B18: Food 4 Less | C18: Chocolate Cookies Mix | D18: 9.2 | E18: 880
A19: 43105 | B19: Save Mart | C19: Cajun Seasoning | D19: 22 | E19: 720
A20: 43106 | B20: Stater Bros | C20: Curry Sauce | D20: 40 | E20: 250
A21: 43106 | B21: Whole Foods | C21: Curry Sauce | D21: 40 | E21: 820
A22: 43106 | B22: Stater Bros | C22: Chocolate | D22: 12.75 | E22: 1000
... A85: 43131 | B85: Food 4 Less | C85: Dried Apples | D85: 53 | E85: 890

Sheet Customer List
A1: Customers
A2: {=_xlfn._xlws.SORT(_xlfn.UNIQUE(tblSalesFilter[Customer Name]))} -> Albertsons
A3: Costco
A4: Food 4 Less
A5: Foodsco
A6: Mission Foods
A7: Raley's
A8: Ralphs
A9: Safeway
A10: Save Mart
A11: Smart & Final
A12: Stater Bros
A13: Vallarta
A14: Vons
... A16: Whole Foods

Sheet AND Logic Explained
A1: The Filter Function with Multiple Criteria - AND Logic
A2: Table of Contents
A3: Quick guide:
A4: AND logic use * | J4: Filter between two dates:
A5: OR logic use + | J5: Start Date | K5: 43105
J6: End Date | K6: 43110
A8: Order Date | B8: Customer Name | C8: Product Name | D8: Unit Price | E8: Quantity | F8: Start Date | G8: End Date | H8: AND | J8: Order Date | K8: Customer Name | L8: Product Name | M8: Unit Price | N8: Quantity
A9: 43101 | B9: Albertsons | C9: Chocolate Cookies Mix | D9: 9 | E9: 70 | F9: =tblAND2[[#This Row],[Order Date]]>=$K$5 -> FALSE | G9: =tblAND2[[#This Row],[Order Date]]<=$K$6 -> TRUE | H9: =tblAND2[[#This Row],[Start Date]]*tblAND2[[#This Row],[End Date]] -> 0 | J9: {=_xlfn._xlws.FILTER(tblAND2[],(tblAND2[Order Date]>=K5)*(tblAND2[Order Date]<=K6))} -> 43105 | K9: Save Mart | L9: Green Tea | M9: 2.99 | N9: 900 | O9: TRUE | P9: TRUE | Q9: 1
A10: 43102 | B10: Safeway | C10: Coffee | D10: 46 | E10: 190 | F10: =tblAND2[[#This Row],[Order Date]]>=$K$5 -> FALSE | G10: =tblAND2[[#This Row],[Order Date]]<=$K$6 -> TRUE | H10: =tblAND2[[#This Row],[Start Date]]*tblAND2[[#This Row],[End Date]] -> 0 | J10: 43106 | K10: Smart & Final | L10: Soda | M10: 14 | N10: 100 | O10: TRUE | P10: TRUE | Q10: 1
A11: 43103 | B11: Whole Foods | C11: Chocolate Cookies Mix | D11: 9.2 | E11: 470 | F11: =tblAND2[[#This Row],[Order Date]]>=$K$5 -> FALSE | G11: =tblAND2[[#This Row],[Order Date]]<=$K$6 -> TRUE | H11: =tblAND2[[#This Row],[Start Date]]*tblAND2[[#This Row],[End Date]] -> 0 | J11: 43107 | K11: Save Mart | L11: Almonds | M11: 10 | N11: 810 | O11: TRUE | P11: TRUE | Q11: 1
A12: 43104 | B12: Safeway | C12: Shipping Only | D12: 0 | E12: 0 | F12: =tblAND2[[#This Row],[Order Date]]>=$K$5 -> FALSE | G12: =tblAND2[[#This Row],[Order Date]]<=$K$6 -> TRUE | H12: =tblAND2[[#This Row],[Start Date]]*tblAND2[[#This Row],[End Date]] -> 0 | J12: 43108 | K12: Food 4 Less | L12: Dried Plums | M12: 3.5 | N12: 750 | O12: TRUE | P12: TRUE | Q12: 1
A13: 43105 | B13: Save Mart | C13: Green Tea | D13: 2.99 | E13: 900 | F13: =tblAND2[[#This Row],[Order Date]]>=$K$5 -> TRUE | G13: =tblAND2[[#This Row],[Order Date]]<=$K$6 -> TRUE | H13: =tblAND2[[#This Row],[Start Date]]*tblAND2[[#This Row],[End Date]] -> 1 | J13: 43109 | K13: Safeway | L13: Coffee | M13: 46 | N13: 920 | O13: TRUE | P13: TRUE | Q13: 1
A14: 43106 | B14: Smart & Final | C14: Soda | D14: 14 | E14: 100 | F14: =tblAND2[[#This Row],[Order Date]]>=$K$5 -> TRUE | G14: =tblAND2[[#This Row],[Order Date]]<=$K$6 -> TRUE | H14: =tblAND2[[#This Row],[Start Date]]*tblAND2[[#This Row],[End Date]] -> 1 | J14: 43110 | K14: Raley's | L14: Mozzarella | M14: 34.8 | N14: 180 | O14: TRUE | P14: TRUE | Q14: 1
A15: 43107 | B15: Save Mart | C15: Almonds | D15: 10 | E15: 810 | F15: =tblAND2[[#This Row],[Order Date]]>=$K$5 -> TRUE | G15: =tblAND2[[#This Row],[Order Date]]<=$K$6 -> TRUE | H15: =tblAND2[[#This Row],[Start Date]]*tblAND2[[#This Row],[End Date]] -> 1
A16: 43108 | B16: Food 4 Less | C16: Dried Plums | D16: 3.5 | E16: 750 | F16: =tblAND2[[#This Row],[Order Date]]>=$K$5 -> TRUE | G16: =tblAND2[[#This Row],[Order Date]]<=$K$6 -> TRUE | H16: =tblAND2[[#This Row],[Start Date]]*tblAND2[[#This Row],[End Date]] -> 1
A17: 43109 | B17: Safeway | C17: Coffee | D17: 46 | E17: 920 | F17: =tblAND2[[#This Row],[Order Date]]>=$K$5 -> TRUE | G17: =tblAND2[[#This Row],[Order Date]]<=$K$6 -> TRUE | H17: =tblAND2[[#This Row],[Start Date]]*tblAND2[[#This Row],[End Date]] -> 1
A18: 43110 | B18: Raley's | C18: Mozzarella | D18: 34.8 | E18: 180 | F18: =tblAND2[[#This Row],[Order Date]]>=$K$5 -> TRUE | G18: =tblAND2[[#This Row],[Order Date]]<=$K$6 -> TRUE | H18: =tblAND2[[#This Row],[Start Date]]*tblAND2[[#This Row],[End Date]] -> 1
A19: 43111 | B19: Vallarta | C19: Curry Sauce | D19: 40 | E19: 810 | F19: =tblAND2[[#This Row],[Order Date]]>=$K$5 -> TRUE | G19: =tblAND2[[#This Row],[Order Date]]<=$K$6 -> FALSE | H19: =tblAND2[[#This Row],[Start Date]]*tblAND2[[#This Row],[End Date]] -> 0
A20: 43112 | B20: Whole Foods | C20: Chocolate Cookies Mix | D20: 9.2 | E20: 380 | F20: =tblAND2[[#This Row],[Order Date]]>=$K$5 -> TRUE | G20: =tblAND2[[#This Row],[Order Date]]<=$K$6 -> FALSE | H20: =tblAND2[[#This Row],[Start Date]]*tblAND2[[#This Row],[End Date]] -> 0
A21: 43113 | B21: Food 4 Less | C21: Chocolate Cookies Mix | D21: 9.2 | E21: 880 | F21: =tblAND2[[#This Row],[Order Date]]>=$K$5 -> TRUE | G21: =tblAND2[[#This Row],[Order Date]]<=$K$6 -> FALSE | H21: =tblAND2[[#This Row],[Start Date]]*tblAND2[[#This Row],[End Date]] -> 0
A22: 43114 | B22: Save Mart | C22: Cajun Seasoning | D22: 22 | E22: 720 | F22: =tblAND2[[#This Row],[Order Date]]>=$K$5 -> TRUE | G22: =tblAND2[[#This Row],[Order Date]]<=$K$6 -> FALSE | H22: =tblAND2[[#This Row],[Start Date]]*tblAND2[[#This Row],[End Date]] -> 0
A23: 43115 | B23: Stater Bros | C23: Curry Sauce | D23: 40 | E23: 250 | F23: =tblAND2[[#This Row],[Order Date]]>=$K$5 -> TRUE | G23: =tblAND2[[#This Row],[Order Date]]<=$K$6 -> FALSE | H23: =tblAND2[[#This Row],[Start Date]]*tblAND2[[#This Row],[End Date]] -> 0
A24: 43116 | B24: Whole Foods | C24: Curry Sauce | D24: 40 | E24: 820 | F24: =tblAND2[[#This Row],[Order Date]]>=$K$5 -> TRUE | G24: =tblAND2[[#This Row],[Order Date]]<=$K$6 -> FALSE | H24: =tblAND2[[#This Row],[Start Date]]*tblAND2[[#This Row],[End Date]] -> 0
A25: 43117 | B25: Stater Bros | C25: Chocolate | D25: 12.75 | E25: 1000 | F25: =tblAND2[[#This Row],[Order Date]]>=$K$5 -> TRUE | G25: =tblAND2[[#This Row],[Order Date]]<=$K$6 -> FALSE | H25: =tblAND2[[#This Row],[Start Date]]*tblAND2[[#This Row],[End Date]] -> 0
A26: 43118 | B26: Stater Bros | C26: Curry Sauce | D26: 40 | E26: 320 | F26: =tblAND2[[#This Row],[Order Date]]>=$K$5 -> TRUE | G26: =tblAND2[[#This Row],[Order Date]]<=$K$6 -> FALSE | H26: =tblAND2[[#This Row],[Start Date]]*tblAND2[[#This Row],[End Date]] -> 0
... A33: 43125 | B33: Save Mart | C33: Almond Biscuits Mix | D33: 9.2 | E33: 600 | F33: =tblAND2[[#This Row],[Order Date]]>=$K$5 -> TRUE | G33: =tblAND2[[#This Row],[Order Date]]<=$K$6 -> FALSE | H33: =tblAND2[[#This Row],[Start Date]]*tblAND2[[#This Row],[End Date]] -> 0

Sheet Filter Multiple Criteria - OR
A1: The Filter Function with Multiple Criteria - OR Logic
A2: Table of Contents
A3: Quick guide:
A4: AND logic use * | G4: Filter when EITHER is true:
A5: OR logic use + | G5: Customer: | H5: Albertsons
G6: Product: | H6: Coffee
A8: Order Date | B8: Customer Name | C8: Product Name | D8: Unit Price | E8: Quantity | G8: Order Date | H8: Customer Name | I8: Product Name | J8: Unit Price | K8: Quantity
A9: 43101 | B9: Albertsons | C9: Chocolate Cookies Mix | D9: 9 | E9: 70 | G9: {=_xlfn._xlws.FILTER(tblOR[],(tblOR[Customer Name]=$H$5)+(tblOR[Product Name]=$H$6))} -> 43101 | H9: Albertsons | I9: Chocolate Cookies Mix | J9: 9 | K9: 70
A10: 43101 | B10: Safeway | C10: Coffee | D10: 46 | E10: 190 | G10: 43101 | H10: Safeway | I10: Coffee | J10: 46 | K10: 190
A11: 43101 | B11: Whole Foods | C11: Chocolate Cookies Mix | D11: 9.2 | E11: 470 | G11: 43103 | H11: Safeway | I11: Coffee | J11: 46 | K11: 920
A12: 43101 | B12: Safeway | C12: Shipping Only | D12: 0 | E12: 0 | G12: 43107 | H12: Albertsons | I12: Lemonade | J12: 18 | K12: 640
A13: 43101 | B13: Save Mart | C13: Green Tea | D13: 2.99 | E13: 900 | G13: 43114 | H13: Albertsons | I13: Green Tea | J13: 2.99 | K13: 170
A14: 43102 | B14: Smart & Final | C14: Soda | D14: 14 | E14: 100 | G14: 43116 | H14: Mission Foods | I14: Coffee | J14: 46 | K14: 440
A15: 43102 | B15: Save Mart | C15: Almonds | D15: 10 | E15: 810 | G15: 43121 | H15: Wal-Mart | I15: Coffee | J15: 46 | K15: 640
A16: 43103 | B16: Food 4 Less | C16: Dried Plums | D16: 3.5 | E16: 750 | G16: 43122 | H16: Safeway | I16: Coffee | J16: 46 | K16: 550
A17: 43103 | B17: Safeway | C17: Coffee | D17: 46 | E17: 920 | G17: 43125 | H17: Albertsons | I17: Coffee | J17: 46 | K17: 820
A18: 43104 | B18: Raley's | C18: Mozzarella | D18: 34.8 | E18: 180 | G18: 43127 | H18: Albertsons | I18: Crab Meat | J18: 18.4 | K18: 880
A19: 43104 | B19: Vallarta | C19: Curry Sauce | D19: 40 | E19: 810 | G19: 43129 | H19: Vons | I19: Coffee | J19: 14 | K19: 190
A20: 43104 | B20: Whole Foods | C20: Chocolate Cookies Mix | D20: 9.2 | E20: 380 | G20: 43130 | H20: Mission Foods | I20: Coffee | J20: 46 | K20: 610
A21: 43104 | B21: Food 4 Less | C21: Chocolate Cookies Mix | D21: 9.2 | E21: 880
A22: 43105 | B22: Save Mart | C22: Cajun Seasoning | D22: 22 | E22: 720
A23: 43106 | B23: Stater Bros | C23: Curry Sauce | D23: 40 | E23: 250
A24: 43106 | B24: Whole Foods | C24: Curry Sauce | D24: 40 | E24: 820
A25: 43106 | B25: Stater Bros | C25: Chocolate | D25: 12.75 | E25: 1000
A26: 43106 | B26: Stater Bros | C26: Curry Sauce | D26: 40 | E26: 320
A27: 43107 | B27: Albertsons | C27: Lemonade | D27: 18 | E27: 640
A28: 43108 | B28: Food 4 Less | C28: Dried Pears | D28: 30 | E28: 810
A29: 43108 | B29: Whole Foods | C29: Chocolate | D29: 12.75 | E29: 360
A30: 43108 | B30: Whole Foods | C30: Shipping Only | D30: 0 | E30: 0
A31: 43108 | B31: Wal-Mart | C31: Shipping Only | D31: 0 | E31: 0
A32: 43108 | B32: Smart & Final | C32: Fruit Cocktail | D32: 39 | E32: 410
... A88: 43131 | B88: Food 4 Less | C88: Dried Apples | D88: 53 | E88: 890

Sheet OR Logic Explained
A1: The Filter Function with Multiple Criteria - OR Logic
A2: Table of Contents
A3: Quick guide:
A4: AND logic use * | J4: Filter when EITHER is true:
A5: OR logic use + | J5: Customer: | K5: Albertsons
J6: Product: | K6: Chocolate Cookies Mix
A8: Order Date | B8: Customer Name | C8: Product Name | D8: Unit Price | E8: Quantity | F8: Customer | G8: Product | H8: OR | J8: Order Date | K8: Customer Name | L8: Product Name | M8: Unit Price | N8: Quantity
A9: 43101 | B9: Albertsons | C9: Chocolate Cookies Mix | D9: 9 | E9: 70 | F9: =tblOR2[[#This Row],[Customer Name]]=$K$5 -> TRUE | G9: =tblOR2[[#This Row],[Product Name]]=$K$6 -> TRUE | H9: =tblOR2[[#This Row],[Customer]]+tblOR2[[#This Row],[Product]] -> 2 | J9: {=_xlfn._xlws.FILTER(tblOR2[],(tblOR2[Customer Name]=K5)+(tblOR2[Product Name]=K6))} -> 43101 | K9: Albertsons | L9: Chocolate Cookies Mix | M9: 9 | N9: 70 | O9: TRUE | P9: TRUE | Q9: 2
A10: 43101 | B10: Safeway | C10: Coffee | D10: 46 | E10: 190 | F10: =tblOR2[[#This Row],[Customer Name]]=$K$5 -> FALSE | G10: =tblOR2[[#This Row],[Product Name]]=$K$6 -> FALSE | H10: =tblOR2[[#This Row],[Customer]]+tblOR2[[#This Row],[Product]] -> 0 | J10: 43101 | K10: Whole Foods | L10: Chocolate Cookies Mix | M10: 9.2 | N10: 470 | O10: FALSE | P10: TRUE | Q10: 1
A11: 43101 | B11: Whole Foods | C11: Chocolate Cookies Mix | D11: 9.2 | E11: 470 | F11: =tblOR2[[#This Row],[Customer Name]]=$K$5 -> FALSE | G11: =tblOR2[[#This Row],[Product Name]]=$K$6 -> TRUE | H11: =tblOR2[[#This Row],[Customer]]+tblOR2[[#This Row],[Product]] -> 1 | J11: 43104 | K11: Whole Foods | L11: Chocolate Cookies Mix | M11: 9.2 | N11: 380 | O11: FALSE | P11: TRUE | Q11: 1
A12: 43101 | B12: Safeway | C12: Shipping Only | D12: 0 | E12: 0 | F12: =tblOR2[[#This Row],[Customer Name]]=$K$5 -> FALSE | G12: =tblOR2[[#This Row],[Product Name]]=$K$6 -> FALSE | H12: =tblOR2[[#This Row],[Customer]]+tblOR2[[#This Row],[Product]] -> 0 | J12: 43104 | K12: Food 4 Less | L12: Chocolate Cookies Mix | M12: 9.2 | N12: 880 | O12: FALSE | P12: TRUE | Q12: 1
A13: 43101 | B13: Save Mart | C13: Green Tea | D13: 2.99 | E13: 900 | F13: =tblOR2[[#This Row],[Customer Name]]=$K$5 -> FALSE | G13: =tblOR2[[#This Row],[Product Name]]=$K$6 -> FALSE | H13: =tblOR2[[#This Row],[Customer]]+tblOR2[[#This Row],[Product]] -> 0 | J13: 43107 | K13: Albertsons | L13: Lemonade | M13: 18 | N13: 640 | O13: TRUE | P13: FALSE | Q13: 1
A14: 43102 | B14: Smart & Final | C14: Soda | D14: 14 | E14: 100 | F14: =tblOR2[[#This Row],[Customer Name]]=$K$5 -> FALSE | G14: =tblOR2[[#This Row],[Product Name]]=$K$6 -> FALSE | H14: =tblOR2[[#This Row],[Customer]]+tblOR2[[#This Row],[Product]] -> 0 | J14: 43114 | K14: Albertsons | L14: Green Tea | M14: 2.99 | N14: 170 | O14: TRUE | P14: FALSE | Q14: 1
A15: 43102 | B15: Save Mart | C15: Almonds | D15: 10 | E15: 810 | F15: =tblOR2[[#This Row],[Customer Name]]=$K$5 -> FALSE | G15: =tblOR2[[#This Row],[Product Name]]=$K$6 -> FALSE | H15: =tblOR2[[#This Row],[Customer]]+tblOR2[[#This Row],[Product]] -> 0 | J15: 43125 | K15: Albertsons | L15: Coffee | M15: 46 | N15: 820 | O15: TRUE | P15: FALSE | Q15: 1
A16: 43103 | B16: Food 4 Less | C16: Dried Plums | D16: 3.5 | E16: 750 | F16: =tblOR2[[#This Row],[Customer Name]]=$K$5 -> FALSE | G16: =tblOR2[[#This Row],[Product Name]]=$K$6 -> FALSE | H16: =tblOR2[[#This Row],[Customer]]+tblOR2[[#This Row],[Product]] -> 0 | J16: 43127 | K16: Albertsons | L16: Crab Meat | M16: 18.4 | N16: 880 | O16: TRUE | P16: FALSE | Q16: 1
A17: 43103 | B17: Safeway | C17: Coffee | D17: 46 | E17: 920 | F17: =tblOR2[[#This Row],[Customer Name]]=$K$5 -> FALSE | G17: =tblOR2[[#This Row],[Product Name]]=$K$6 -> FALSE | H17: =tblOR2[[#This Row],[Customer]]+tblOR2[[#This Row],[Product]] -> 0
A18: 43104 | B18: Raley's | C18: Mozzarella | D18: 34.8 | E18: 180 | F18: =tblOR2[[#This Row],[Customer Name]]=$K$5 -> FALSE | G18: =tblOR2[[#This Row],[Product Name]]=$K$6 -> FALSE | H18: =tblOR2[[#This Row],[Customer]]+tblOR2[[#This Row],[Product]] -> 0
A19: 43104 | B19: Vallarta | C19: Curry Sauce | D19: 40 | E19: 810 | F19: =tblOR2[[#This Row],[Customer Name]]=$K$5 -> FALSE | G19: =tblOR2[[#This Row],[Product Name]]=$K$6 -> FALSE | H19: =tblOR2[[#This Row],[Customer]]+tblOR2[[#This Row],[Product]] -> 0
A20: 43104 | B20: Whole Foods | C20: Chocolate Cookies Mix | D20: 9.2 | E20: 380 | F20: =tblOR2[[#This Row],[Customer Name]]=$K$5 -> FALSE | G20: =tblOR2[[#This Row],[Product Name]]=$K$6 -> TRUE | H20: =tblOR2[[#This Row],[Customer]]+tblOR2[[#This Row],[Product]] -> 1
A21: 43104 | B21: Food 4 Less | C21: Chocolate Cookies Mix | D21: 9.2 | E21: 880 | F21: =tblOR2[[#This Row],[Customer Name]]=$K$5 -> FALSE | G21: =tblOR2[[#This Row],[Product Name]]=$K$6 -> TRUE | H21: =tblOR2[[#This Row],[Customer]]+tblOR2[[#This Row],[Product]] -> 1
A22: 43105 | B22: Save Mart | C22: Cajun Seasoning | D22: 22 | E22: 720 | F22: =tblOR2[[#This Row],[Customer Name]]=$K$5 -> FALSE | G22: =tblOR2[[#This Row],[Product Name]]=$K$6 -> FALSE | H22: =tblOR2[[#This Row],[Customer]]+tblOR2[[#This Row],[Product]] -> 0
A23: 43106 | B23: Stater Bros | C23: Curry Sauce | D23: 40 | E23: 250 | F23: =tblOR2[[#This Row],[Customer Name]]=$K$5 -> FALSE | G23: =tblOR2[[#This Row],[Product Name]]=$K$6 -> FALSE | H23: =tblOR2[[#This Row],[Customer]]+tblOR2[[#This Row],[Product]] -> 0
A24: 43106 | B24: Whole Foods | C24: Curry Sauce | D24: 40 | E24: 820 | F24: =tblOR2[[#This Row],[Customer Name]]=$K$5 -> FALSE | G24: =tblOR2[[#This Row],[Product Name]]=$K$6 -> FALSE | H24: =tblOR2[[#This Row],[Customer]]+tblOR2[[#This Row],[Product]] -> 0
A25: 43106 | B25: Stater Bros | C25: Chocolate | D25: 12.75 | E25: 1000 | F25: =tblOR2[[#This Row],[Customer Name]]=$K$5 -> FALSE | G25: =tblOR2[[#This Row],[Product Name]]=$K$6 -> FALSE | H25: =tblOR2[[#This Row],[Customer]]+tblOR2[[#This Row],[Product]] -> 0
A26: 43106 | B26: Stater Bros | C26: Curry Sauce | D26: 40 | E26: 320 | F26: =tblOR2[[#This Row],[Customer Name]]=$K$5 -> FALSE | G26: =tblOR2[[#This Row],[Product Name]]=$K$6 -> FALSE | H26: =tblOR2[[#This Row],[Customer]]+tblOR2[[#This Row],[Product]] -> 0
A27: 43107 | B27: Albertsons | C27: Lemonade | D27: 18 | E27: 640 | F27: =tblOR2[[#This Row],[Customer Name]]=$K$5 -> TRUE | G27: =tblOR2[[#This Row],[Product Name]]=$K$6 -> FALSE | H27: =tblOR2[[#This Row],[Customer]]+tblOR2[[#This Row],[Product]] -> 1
A28: 43108 | B28: Food 4 Less | C28: Dried Pears | D28: 30 | E28: 810 | F28: =tblOR2[[#This Row],[Customer Name]]=$K$5 -> FALSE | G28: =tblOR2[[#This Row],[Product Name]]=$K$6 -> FALSE | H28: =tblOR2[[#This Row],[Customer]]+tblOR2[[#This Row],[Product]] -> 0
... A88: 43131 | B88: Food 4 Less | C88: Dried Apples | D88: 53 | E88: 890 | F88: =tblOR2[[#This Row],[Customer Name]]=$K$5 -> FALSE | G88: =tblOR2[[#This Row],[Product Name]]=$K$6 -> FALSE | H88: =tblOR2[[#This Row],[Customer]]+tblOR2[[#This Row],[Product]] -> 0

Sheet Unique
A1: The Unique Function
A2: Table of Contents
A4: Customer Name | B4: Product Name | D4: Customer List | F4: Customer and Product List
A5: Albertsons | B5: Chocolate Cookies Mix | D5: {=_xlfn.UNIQUE(tblUnique[Customer Name])} -> Albertsons | F5: {=_xlfn.UNIQUE(tblUnique[])} -> Albertsons | G5: Chocolate Cookies Mix
A6: Food 4 Less | B6: Chocolate Cookies Mix | D6: Food 4 Less | F6: Food 4 Less | G6: Chocolate Cookies Mix
A7: Food 4 Less | B7: Chocolate Cookies Mix | D7: Costco | F7: Costco | G7: Clam Chowder
A8: Costco | B8: Clam Chowder | D8: Mission Foods | F8: Albertsons | G8: Coffee
A9: Costco | B9: Clam Chowder | D9: Vons | F9: Mission Foods | G9: Coffee
A10: Albertsons | B10: Coffee | D10: Foodsco | F10: Vons | G10: Coffee
A11: Albertsons | B11: Coffee | F11: Costco | G11: Curry Sauce
A12: Mission Foods | B12: Coffee | F12: Food 4 Less | G12: Gnocchi
A13: Mission Foods | B13: Coffee | F13: Albertsons | G13: Green Tea
A14: Vons | B14: Coffee | F14: Costco | G14: Green Tea
A15: Costco | B15: Curry Sauce | F15: Albertsons | G15: Lemonade
A16: Food 4 Less | B16: Gnocchi | F16: Mission Foods | G16: Lemonade
A17: Albertsons | B17: Green Tea | F17: Food 4 Less | G17: Long Grain Rice
A18: Costco | B18: Green Tea | F18: Food 4 Less | G18: Peanut Butter Biscuits
A19: Albertsons | B19: Lemonade | F19: Foodsco | G19: Peanut Butter Biscuits
A20: Mission Foods | B20: Lemonade | F20: Foodsco | G20: Scones
A21: Food 4 Less | B21: Long Grain Rice
A22: Food 4 Less | B22: Peanut Butter Biscuits
A23: Foodsco | B23: Peanut Butter Biscuits
A24: Foodsco | B24: Scones

Sheet Unique by Column
A1: Unique by Column
A2: Table of Contents
O3: Unique
B4: GL | C4: GL | D4: XL | E4: GL | F4: GL | G4: XL | H4: GL | I4: GL | J4: XL | K4: GL | L4: GL | M4: XL | O4: {=_xlfn.UNIQUE(B4:M5,TRUE)} -> GL | P4: XL | Q4: GL | R4: XL | S4: GL | T4: XL | U4: GL | V4: XL
B5: Jan | C5: =B5 -> Jan | D5: =C5 -> Jan | E5: Feb | F5: =E5 -> Feb | G5: =F5 -> Feb | H5: Mar | I5: =H5 -> Mar | J5: =I5 -> Mar | K5: Q1 | L5: =K5 -> Q1 | M5: =L5 -> Q1 | O5: Jan | P5: Jan | Q5: Feb | R5: Feb | S5: Mar | T5: Mar | U5: Q1 | V5: Q1
B6: Act | C6: Fcst | D6: Bdgt | E6: Act | F6: Fcst | G6: Bdgt | H6: Act | I6: Fcst | J6: Bdgt | K6: Act | L6: Fcst | M6: Bdgt
A7: Revenue:
A8: A Revenue | B8: 228342 | C8: 187240.44 | D8: 179750.82 | E8: 287765 | F8: 233089.65 | G8: 240082.34 | H8: 248975 | I8: 288811 | J8: 335020.76 | K8: 1605245.3 | L8: 1665714.3 | M8: 1813494.6
A9: B Revenue | B9: 225240 | C9: 184696.8 | D9: 156992.28 | E9: 265247 | F9: 217502.54 | G9: 250127.92 | H9: 244077 | I9: 231873.15 | J9: 220279.49 | K9: 1543883.5 | L9: 1550516.7 | M9: 1586099.4
A10: C Revenue | B10: 234400 | C10: 246120 | D10: 265809.6 | E10: 286708 | F10: 258037.2 | G10: 247715.71 | H10: 245760 | I10: 265420.8 | J10: 214990.85 | K10: 1784550.5 | L10: 1815571.3 | M10: 1784442.2
A11: Total Revenue | B11: =SUM(B8:B10) -> 687982 | C11: =SUM(C8:C10) -> 618057.24 | D11: =SUM(D8:D10) -> 602552.7 | E11: =SUM(E8:E10) -> 839720 | F11: =SUM(F8:F10) -> 708629.39 | G11: =SUM(G8:G10) -> 737925.97 | H11: =SUM(H8:H10) -> 738812 | I11: =SUM(I8:I10) -> 786104.95 | ... M11: =SUM(M8:M10) -> 5184036.1

Sheet Unique Exactly Once
A1: Unique Exactly Once
A2: Table of Contents
A4: Customer Name | B4: Product Name | D4: Customer List | F4: Customer and Product List
A5: Albertsons | B5: Chocolate Cookies Mix | D5: {=_xlfn.UNIQUE(tblUnique2[Customer Name],,TRUE)} -> Vons | F5: {=_xlfn.UNIQUE(tblUnique2[],,TRUE)} -> Albertsons | G5: Chocolate Cookies Mix
A6: Food 4 Less | B6: Chocolate Cookies Mix | F6: Vons | G6: Coffee
A7: Food 4 Less | B7: Chocolate Cookies Mix | F7: Costco | G7: Curry Sauce
A8: Costco | B8: Clam Chowder | F8: Food 4 Less | G8: Gnocchi
A9: Costco | B9: Clam Chowder | F9: Albertsons | G9: Green Tea
A10: Albertsons | B10: Coffee | F10: Costco | G10: Green Tea
A11: Albertsons | B11: Coffee | F11: Albertsons | G11: Lemonade
A12: Mission Foods | B12: Coffee | F12: Mission Foods | G12: Lemonade
A13: Mission Foods | B13: Coffee | F13: Food 4 Less | G13: Long Grain Rice
A14: Vons | B14: Coffee | F14: Food 4 Less | G14: Peanut Butter Biscuits
A15: Costco | B15: Curry Sauce | F15: Foodsco | G15: Peanut Butter Biscuits
A16: Food 4 Less | B16: Gnocchi | F16: Foodsco | G16: Scones
A17: Albertsons | B17: Green Tea
A18: Costco | B18: Green Tea
A19: Albertsons | B19: Lemonade
A20: Mission Foods | B20: Lemonade
A21: Food 4 Less | B21: Long Grain Rice
A22: Food 4 Less | B22: Peanut Butter Biscuits
A23: Foodsco | B23: Peanut Butter Biscuits
A24: Foodsco | B24: Scones

Sheet Distinct Count
A1: The Unique Function
A2: Table of Contents
A4: Customer Name | B4: Product Name | D4: Distinct Count
A5: Albertsons | B5: Chocolate Cookies Mix | D5: =COUNTA(_xlfn.UNIQUE(tblDistinct[Customer Name])) -> 6
A6: Albertsons | B6: Coffee
A7: Albertsons | B7: Coffee
A8: Albertsons | B8: Green Tea
A9: Albertsons | B9: Lemonade
A10: Costco | B10: Clam Chowder
A11: Costco | B11: Clam Chowder
A12: Costco | B12: Curry Sauce
A13: Costco | B13: Green Tea
A14: Food 4 Less | B14: Chocolate Cookies Mix
A15: Food 4 Less | B15: Chocolate Cookies Mix
A16: Food 4 Less | B16: Gnocchi
A17: Food 4 Less | B17: Long Grain Rice
... A24: Vons | B24: Coffee

Sheet Sort
A1: The Sort Function
A2: Table of Contents
A4: Customer | B4: Revenue | C4: Units | E4: Sorted List
A5: Albertsons | B5: 4971434 | C5: 8626715 | E5: {=_xlfn._xlws.SORT(tblSort[],2,-1)} -> Safeway | F5: 8413867 | G5: 18611602
A6: Safeway | B6: 8413867 | C6: 18611602 | E6: Food 4 Less | F6: 7100933 | G6: 11904232
A7: Whole Foods | B7: 4476681 | C7: 17347263 | E7: Smart & Final | F7: 6143522 | G7: 18194472
A8: Save Mart | B8: 4022113 | C8: 13875544 | E8: Stater Bros | F8: 6041675 | G8: 16587114
A9: Smart & Final | B9: 6143522 | C9: 18194472 | E9: Raley's | F9: 5386024 | G9: 5549635
A10: Food 4 Less | B10: 7100933 | C10: 11904232 | E10: Albertsons | F10: 4971434 | G10: 8626715
A11: Raley's | B11: 5386024 | C11: 5549635 | E11: Whole Foods | F11: 4476681 | G11: 17347263
A12: Vallarta | B12: 1898432 | C12: 9422227 | E12: Save Mart | F12: 4022113 | G12: 13875544
A13: Stater Bros | B13: 6041675 | C13: 16587114 | E13: Vallarta | F13: 1898432 | G13: 9422227
K23: Sort by Column
B24: Product 3 | C24: Product 2 | D24: Product 4 | E24: Product 1 | F24: Product 5 | G24: Product 7 | H24: Product 6 | K24: {=_xlfn._xlws.SORT(B24:H33,1,1,TRUE)} -> Product 1 | L24: Product 2 | M24: Product 3 | N24: Product 4 | O24: Product 5 | P24: Product 6 | Q24: Product 7
A25: Albertsons | B25: 7766655 | C25: 425831 | D25: 4019104 | E25: 946175 | F25: 8291830 | G25: 1780045 | H25: 4024533 | J25: Albertsons | K25: 946175 | L25: 425831 | M25: 7766655 | N25: 4019104 | O25: 8291830 | P25: 4024533 | Q25: 1780045
A26: Safeway | B26: 2249277 | C26: 5612981 | D26: 4699191 | E26: 5858479 | F26: 7935882 | G26: 5197902 | H26: 234590 | J26: Safeway | K26: 5858479 | L26: 5612981 | M26: 2249277 | N26: 4699191 | O26: 7935882 | P26: 234590 | Q26: 5197902
A27: Whole Foods | B27: 1170144 | C27: 6400329 | D27: 1902014 | E27: 9609647 | F27: 2905040 | G27: 5255713 | H27: 8266118 | J27: Whole Foods | K27: 9609647 | L27: 6400329 | M27: 1170144 | N27: 1902014 | O27: 2905040 | P27: 8266118 | Q27: 5255713
A28: Save Mart | B28: 6531463 | C28: 5608768 | D28: 9919043 | E28: 3714610 | F28: 4312777 | G28: 9081552 | H28: 9540735 | J28: Save Mart | K28: 3714610 | L28: 5608768 | M28: 6531463 | N28: 9919043 | O28: 4312777 | P28: 9540735 | Q28: 9081552
A29: Smart & Final | B29: 8713733 | C29: 3766799 | D29: 2288511 | E29: 4081295 | F29: 4154308 | G29: 3755405 | H29: 5201036 | J29: Smart & Final | K29: 4081295 | L29: 3766799 | M29: 8713733 | N29: 2288511 | O29: 4154308 | P29: 5201036 | Q29: 3755405
A30: Food 4 Less | B30: 7352020 | C30: 7652727 | D30: 1140726 | E30: 5713571 | F30: 8923651 | G30: 335286 | H30: 6869857 | J30: Food 4 Less | K30: 5713571 | L30: 7652727 | M30: 7352020 | N30: 1140726 | O30: 8923651 | P30: 6869857 | Q30: 335286
A31: Raley's | B31: 9148465 | C31: 7835838 | D31: 6486460 | E31: 6381243 | F31: 442588 | G31: 2081996 | H31: 9119324 | J31: Raley's | K31: 6381243 | L31: 7835838 | M31: 9148465 | N31: 6486460 | O31: 442588 | P31: 9119324 | Q31: 2081996
A32: Vallarta | B32: 9262592 | C32: 4335937 | D32: 2711563 | E32: 2482522 | F32: 454787 | G32: 997792 | H32: 3722103 | J32: Vallarta | K32: 2482522 | L32: 4335937 | M32: 9262592 | N32: 2711563 | O32: 454787 | P32: 3722103 | Q32: 997792
A33: Stater Bros | B33: 517634 | C33: 7496737 | D33: 4818464 | E33: 2812645 | F33: 4181927 | G33: 6679862 | H33: 9352995 | J33: Stater Bros | K33: 2812645 | L33: 7496737 | M33: 517634 | N33: 4818464 | O33: 4181927 | P33: 9352995 | Q33: 6679862

Sheet SortBy
A1: The SortBy Function
A2: Table of Contents
G3: Sort By Multiple Columns
A4: Order Date | B4: Product Name | C4: Unit Price | D4: Quantity | E4: Revenue | G4: {=tblSortBy[#Headers]} -> Order Date | H4: Product Name | I4: Unit Price | J4: Quantity | K4: Revenue
A5: 43106 | B5: Almond Biscuits Mix | C5: 9.2 | D5: 600 | E5: =tblSortBy[[#This Row],[Unit Price]]*tblSortBy[[#This Row],[Quantity]] -> 5520 | G5: {=_xlfn.SORTBY(tblSortBy[],tblSortBy[Order Date],1,tblSortBy[Revenue],-1)} -> 43101 | H5: Coffee | I5: 46 | J5: 190 | K5: 8740
A6: 43102 | B6: Almonds | C6: 10 | D6: 810 | E6: =tblSortBy[[#This Row],[Unit Price]]*tblSortBy[[#This Row],[Quantity]] -> 8100 | G6: 43101 | H6: Chocolate Cookies Mix | I6: 9.2 | J6: 470 | K6: 4324
A7: 43103 | B7: Cajun Seasoning | C7: 22 | D7: 720 | E7: =tblSortBy[[#This Row],[Unit Price]]*tblSortBy[[#This Row],[Quantity]] -> 15840 | G7: 43101 | H7: Chocolate Cookies Mix | I7: 9 | J7: 70 | K7: 630
A8: 43104 | B8: Chocolate | C8: 12.75 | D8: 1000 | E8: =tblSortBy[[#This Row],[Unit Price]]*tblSortBy[[#This Row],[Quantity]] -> 12750 | G8: 43101 | H8: Shipping Only | I8: 0 | J8: 0 | K8: 0
A9: 43104 | B9: Chocolate | C9: 12.75 | D9: 360 | E9: =tblSortBy[[#This Row],[Unit Price]]*tblSortBy[[#This Row],[Quantity]] -> 4590 | G9: 43102 | H9: Coffee | I9: 46 | J9: 920 | K9: 42320
A10: 43101 | B10: Chocolate Cookies Mix | C10: 9 | D10: 70 | E10: =tblSortBy[[#This Row],[Unit Price]]*tblSortBy[[#This Row],[Quantity]] -> 630 | G10: 43102 | H10: Curry Sauce | I10: 40 | J10: 810 | K10: 32400
A11: 43101 | B11: Chocolate Cookies Mix | C11: 9.2 | D11: 470 | E11: =tblSortBy[[#This Row],[Unit Price]]*tblSortBy[[#This Row],[Quantity]] -> 4324 | G11: 43102 | H11: Almonds | I11: 10 | J11: 810 | K11: 8100
A12: 43103 | B12: Chocolate Cookies Mix | C12: 9.2 | D12: 380 | E12: =tblSortBy[[#This Row],[Unit Price]]*tblSortBy[[#This Row],[Quantity]] -> 3496 | G12: 43102 | H12: Mozzarella | I12: 34.8 | J12: 180 | K12: 6264
A13: 43103 | B13: Chocolate Cookies Mix | C13: 9.2 | D13: 880 | E13: =tblSortBy[[#This Row],[Unit Price]]*tblSortBy[[#This Row],[Quantity]] -> 8096 | G13: 43102 | H13: Green Tea | I13: 2.99 | J13: 900 | K13: 2691
A14: 43101 | B14: Coffee | C14: 46 | D14: 190 | E14: =tblSortBy[[#This Row],[Unit Price]]*tblSortBy[[#This Row],[Quantity]] -> 8740 | G14: 43102 | H14: Dried Plums | I14: 3.5 | J14: 750 | K14: 2625
A15: 43102 | B15: Coffee | C15: 46 | D15: 920 | E15: =tblSortBy[[#This Row],[Unit Price]]*tblSortBy[[#This Row],[Quantity]] -> 42320 | G15: 43102 | H15: Soda | I15: 14 | J15: 100 | K15: 1400
A16: 43102 | B16: Curry Sauce | C16: 40 | D16: 810 | E16: =tblSortBy[[#This Row],[Unit Price]]*tblSortBy[[#This Row],[Quantity]] -> 32400 | G16: 43103 | H16: Curry Sauce | I16: 40 | J16: 820 | K16: 32800
A17: 43103 | B17: Curry Sauce | C17: 40 | D17: 250 | E17: =tblSortBy[[#This Row],[Unit Price]]*tblSortBy[[#This Row],[Quantity]] -> 10000 | G17: 43103 | H17: Cajun Seasoning | I17: 22 | J17: 720 | K17: 15840
... A29: 43102 | B29: Soda | C29: 14 | D29: 100 | E29: =tblSortBy[[#This Row],[Unit Price]]*tblSortBy[[#This Row],[Quantity]] -> 1400 | G29: 43106 | H29: Almond Biscuits Mix | I29: 9.2 | J29: 600 | K29: 5520

Sheet SortBy Excl Cols
A1: SortBy Exclude Columns
A2: Table of Contents
G3: Sort By Multiple Columns
A4: Order ID | B4: Product Name | C4: Unit Price | D4: Quantity | E4: Revenue | G4: Product Name | H4: Unit Price
A5: 100048 | B5: Almond Biscuits Mix | C5: 9.2 | D5: 600 | E5: =tblSortByExcl[[#This Row],[Unit Price]]*tblSortByExcl[[#This Row],[Quantity]] -> 5520 | G5: {=_xlfn.SORTBY(tblSortByExcl[[Product Name]:[Unit Price]],tblSortByExcl[Order ID])} -> Chocolate Cookies Mix | H5: 9
A6: 100029 | B6: Almonds | C6: 10 | D6: 810 | E6: =tblSortByExcl[[#This Row],[Unit Price]]*tblSortByExcl[[#This Row],[Quantity]] -> 8100 | G6: Chocolate Cookies Mix | H6: 9.2
A7: 100036 | B7: Cajun Seasoning | C7: 22 | D7: 720 | E7: =tblSortByExcl[[#This Row],[Unit Price]]*tblSortByExcl[[#This Row],[Quantity]] -> 15840 | G7: Coffee | H7: 46
A8: 100041 | B8: Chocolate | C8: 12.75 | D8: 1000 | E8: =tblSortByExcl[[#This Row],[Unit Price]]*tblSortByExcl[[#This Row],[Quantity]] -> 12750 | G8: Shipping Only | H8: 0
A9: 100042 | B9: Chocolate | C9: 12.75 | D9: 360 | E9: =tblSortByExcl[[#This Row],[Unit Price]]*tblSortByExcl[[#This Row],[Quantity]] -> 4590 | G9: Almonds | H9: 10
A10: 100025 | B10: Chocolate Cookies Mix | C10: 9 | D10: 70 | E10: =tblSortByExcl[[#This Row],[Unit Price]]*tblSortByExcl[[#This Row],[Quantity]] -> 630 | G10: Coffee | H10: 46
A11: 100026 | B11: Chocolate Cookies Mix | C11: 9.2 | D11: 470 | E11: =tblSortByExcl[[#This Row],[Unit Price]]*tblSortByExcl[[#This Row],[Quantity]] -> 4324 | G11: Curry Sauce | H11: 40
A12: 100037 | B12: Chocolate Cookies Mix | C12: 9.2 | D12: 380 | E12: =tblSortByExcl[[#This Row],[Unit Price]]*tblSortByExcl[[#This Row],[Quantity]] -> 3496 | G12: Dried Plums | H12: 3.5
A13: 100038 | B13: Chocolate Cookies Mix | C13: 9.2 | D13: 880 | E13: =tblSortByExcl[[#This Row],[Unit Price]]*tblSortByExcl[[#This Row],[Quantity]] -> 8096 | G13: Green Tea | H13: 2.99
A14: 100027 | B14: Coffee | C14: 46 | D14: 190 | E14: =tblSortByExcl[[#This Row],[Unit Price]]*tblSortByExcl[[#This Row],[Quantity]] -> 8740 | G14: Mozzarella | H14: 34.8
A15: 100030 | B15: Coffee | C15: 46 | D15: 920 | E15: =tblSortByExcl[[#This Row],[Unit Price]]*tblSortByExcl[[#This Row],[Quantity]] -> 42320 | G15: Soda | H15: 14
A16: 100031 | B16: Curry Sauce | C16: 40 | D16: 810 | E16: =tblSortByExcl[[#This Row],[Unit Price]]*tblSortByExcl[[#This Row],[Quantity]] -> 32400 | G16: Cajun Seasoning | H16: 22
A17: 100039 | B17: Curry Sauce | C17: 40 | D17: 250 | E17: =tblSortByExcl[[#This Row],[Unit Price]]*tblSortByExcl[[#This Row],[Quantity]] -> 10000 | G17: Chocolate Cookies Mix | H17: 9.2
... A29: 100035 | B29: Soda | C29: 14 | D29: 100 | E29: =tblSortByExcl[[#This Row],[Unit Price]]*tblSortByExcl[[#This Row],[Quantity]] -> 1400 | G29: Fruit Cocktail | H29: 39

Sheet Sequence Basics
A1: The Sequence Function
A2: Table of Contents
A3: Sequence Numbers
A4: {=TRANSPOSE(_xlfn.SEQUENCE(2,10,20,2))} -> 20 | B4: 40
A5: 22 | B5: 42
A6: 24 | B6: 44
A7: 26 | B7: 46
A8: 28 | B8: 48
A9: 30 | B9: 50
A10: 32 | B10: 52
A11: 34 | B11: 54
A12: 36 | B12: 56
A13: 38 | B13: 58

Sheet Sequence Letters Dates
A1: The Sequence Function Letters and Dates
A2: Table of Contents
C3: Start Date | D3: 43831
C4: End Date | D4: 43838
A5: Sequence of Letters | D5: Sequence of Dates
A6: {=CHAR(_xlfn.SEQUENCE(26,,97))} -> a | D6: {=_xlfn.SEQUENCE(D4-D3+1,,D3)} -> 43831
A7: b | D7: 43832
A8: c | D8: 43833
A9: d | D9: 43834
A10: e | D10: 43835
A11: f | D11: 43836
A12: g | D12: 43837
A13: h | D13: 43838
A14: i
A15: j
A16: k
A17: l
A18: m
A19: n
A20: o
A21: p
A22: q
A23: r
A24: s
A25: t
... A31: z

Sheet RandArray
A1: The RandArray Function
A2: Table of Contents
A3: List of Random Numbers | C3: Random Sequence | E3: Name | G3: Random List
A4: {=_xlfn.RANDARRAY(10,1,100,1000,TRUE)} -> 184 | C4: {=_xlfn.SORTBY(_xlfn.SEQUENCE(10),_xlfn.RANDARRAY(10))} -> 8 | E4: Laney Harradine | G4: {=_xlfn.SORTBY(tblRand[Name],_xlfn.RANDARRAY(COUNTA(tblRand[Name])))} -> Rutledge Mousby
A5: 154 | C5: 7 | E5: Noella Jurn | G5: Arri Lie
A6: 124 | C6: 10 | E6: Rutledge Mousby | G6: Leyla Clewarth
A7: 496 | C7: 4 | E7: Leyla Clewarth | G7: Colver Baybutt
A8: 161 | C8: 5 | E8: Christina Brierton | G8: Andrea Longcaster
A9: 379 | C9: 1 | E9: Arri Lie | G9: Jarib Insoll
A10: 783 | C10: 9 | E10: Phillis Batcock | G10: Christina Brierton
A11: 313 | C11: 6 | E11: Clarance Butler | G11: Noella Jurn
A12: 782 | C12: 3 | E12: Andrea Longcaster | G12: Phillis Batcock
A13: 286 | C13: 2 | E13: Mabelle Pace | G13: Laney Harradine
E14: Colver Baybutt | G14: Catie Leinster
E15: Jarib Insoll | G15: Mabelle Pace
E16: Catie Leinster | G16: Clarance Butler

Sheet Data Validation
A1: Data Validation
A2: Table of Contents
A4: Category | B4: Product Name | C4: Price | E4: Unique List | G4: Category: | H4: Beer
A5: Coffee | B5: Black | C5: 1 | E5: {=_xlfn._xlws.SORT(_xlfn.UNIQUE(tblDV[Category]))} -> Beer
A6: Coffee | B6: Latte | C6: 2.75 | E6: Coffee | G6: Products | H6: Price
A7: Coffee | B7: Cappuccino | C7: 2.75 | E7: Other | G7: {=_xlfn._xlws.FILTER(tblDV[[Product Name]:[Price]],tblDV[Category]=H4,"Select a Category")} -> IPA | H7: 5
A8: Coffee | B8: Americano | C8: 2.95 | E8: Tea | G8: Lager | H8: 4
A9: Coffee | B9: Espresso | C9: 3.5 | E9: Wine | G9: Stout | H9: 6
A10: Coffee | B10: Macchiato | C10: 4.5
A11: Coffee | B11: Flat White | C11: 2.95
A12: Tea | B12: Earl Grey | C12: 1.95
A13: Tea | B13: Chai | C13: 1.95
A14: Tea | B14: Chamomile | C14: 1.75
A15: Tea | B15: Matcha | C15: 2.25
A16: Tea | B16: Hibiscus | C16: 2.5
A17: Other | B17: Lemonade | C17: 2
A18: Other | B18: Sparkling Water | C18: 1.75
A19: Wine | B19: Cabernet | C19: 8
A20: Wine | B20: Merlot | C20: 6
A21: Wine | B21: Chardonay | C21: 6.5
... A25: Beer | B25: Stout | C25: 6

Sheet Summary Report Example
A1: Summary Reports with Dynamic Arrays
A2: Table of Contents
B4: Company | C4: {=TRANSPOSE(_xlfn._xlws.SORT(_xlfn.UNIQUE(tblData[Year-Month])))} -> 2019-01 | D4: 2019-02 | E4: 2019-03 | F4: 2019-04 | G4: 2019-05 | H4: 2019-06 | I4: 2019-07 | J4: 2019-08 | K4: 2019-09 | L4: 2019-10 | M4: 2019-11 | N4: 2019-12
B5: {=_xlfn.UNIQUE(tblData[Company])} -> Dell | C5: {=SUMIFS(tblData[Revenue],tblData[Company],_xlfn.ANCHORARRAY(B5),tblData[Year-Month],_xlfn.ANCHORARRAY(C4))} -> 686 | D5: 0 | E5: 2192.4 | F5: 943.12 | G5: 2231.7 | H5: 2645 | I5: 2021.8 | J5: 1982.85 | K5: 3144 | L5: 3236.4 | M5: 2228.35 | N5: 5787.55
B6: Merriam Webster | C6: 763.75 | D6: 0 | E6: 1072.5 | F6: 4526.4 | G6: 0 | H6: 5563 | I6: 0 | J6: 496.8 | K6: 2573.6 | L6: 548.25 | M6: 1177.6 | N6: 8164.19
B7: Trip Advisor | C7: 6806.8 | D7: 1318 | E7: 460 | F7: 1321.37 | G7: 3684.65 | H7: 1473.4 | I7: 5060.5 | J7: 2014.75 | K7: 4826.4 | L7: 5101.6 | M7: 2622 | N7: 2933.2
B8: List Manage | C8: 4463.2 | D8: 0 | E8: 1564 | F8: 1888.65 | G8: 763.2 | H8: 6322.5 | I8: 0 | J8: 2595.75 | K8: 3132.4 | L8: 548.25 | M8: 0 | N8: 4918.95
B9: Cornell | C9: 878.15 | D9: 2005.25 | E9: 4585.8 | F9: 0 | G9: 1651.8 | H9: 3152 | I9: 1512.05 | J9: 1540.77 | K9: 656.2 | L9: 3956 | M9: 1035.2 | N9: 3659.59
B10: Tamu | C10: 1111.5 | D10: 1637.75 | E10: 480 | F10: 916.75 | G10: 2047.85 | H10: 5222.6 | I10: 718.45 | J10: 4581.35 | K10: 0 | L10: 4342.08 | M10: 443.9 | N10: 2688
B11: Site Meter | C11: 1234.1 | D11: 4636 | E11: 3300 | F11: 1058.25 | G11: 3389.2 | H11: 6491.2 | I11: 7328.35 | J11: 0 | K11: 4285.3 | L11: 1283.45 | M11: 1350 | N11: 5685.2
B12: Event Brite | C12: 1198.5 | D12: 0 | E12: 986 | F12: 4416 | G12: 4740 | H12: 2142 | I12: 1739.6 | J12: 1287 | K12: 3328.4 | L12: 7190.4 | M12: 135.1 | N12: 1431
B13: Xing | C13: 1693.2 | D13: 1280 | E13: 0 | F13: 0 | G13: 5352 | H13: 3512.4 | I13: 1516 | J13: 0 | K13: 3950.15 | L13: 6594.9 | M13: 3683.25 | N13: 6494.9
B14: Newsvine | C14: 868.35 | D14: 0 | E14: 8935.2 | F14: 0 | G14: 768.6 | H14: 0 | I14: 1104 | J14: 0 | K14: 0 | L14: 3963.68 | M14: 5088.4 | N14: 4647.2
B15: Network Solutions | C15: 0 | D15: 3107.3 | E15: 0 | F15: 0 | G15: 2724.55 | H15: 2335.5 | I15: 1189.5 | J15: 2396.77 | K15: 936 | L15: 120 | M15: 3698.35 | N15: 4406.4
B16: Stumble Upon | C16: 0 | D16: 2880 | E16: 4142 | F16: 0 | G16: 1599 | H16: 1520 | I16: 1601.6 | J16: 4038 | K16: 0 | L16: 4576 | M16: 174.8 | N16: 736

Sheet Summary Report Practice
A1: Summary Reports with Dynamic Arrays
A2: Table of Contents
B4: Company | C4: {=TRANSPOSE(_xlfn._xlws.SORT(_xlfn.UNIQUE(tblData[Year-Month])))} -> 2019-01 | D4: 2019-02 | E4: 2019-03 | F4: 2019-04 | G4: 2019-05 | H4: 2019-06 | I4: 2019-07 | J4: 2019-08 | K4: 2019-09 | L4: 2019-10 | M4: 2019-11 | N4: 2019-12
B5: {=_xlfn.UNIQUE(tblData[Company])} -> Dell | C5: {=SUMIFS(tblData[Revenue],tblData[Company],_xlfn.ANCHORARRAY(B5),tblData[Year-Month],_xlfn.ANCHORARRAY(C4))} -> 686 | D5: 0 | E5: 2192.4 | F5: 943.12 | G5: 2231.7 | H5: 2645 | I5: 2021.8 | J5: 1982.85 | K5: 3144 | L5: 3236.4 | M5: 2228.35 | N5: 5787.55
B6: Merriam Webster | C6: 763.75 | D6: 0 | E6: 1072.5 | F6: 4526.4 | G6: 0 | H6: 5563 | I6: 0 | J6: 496.8 | K6: 2573.6 | L6: 548.25 | M6: 1177.6 | N6: 8164.19
B7: Trip Advisor | C7: 6806.8 | D7: 1318 | E7: 460 | F7: 1321.37 | G7: 3684.65 | H7: 1473.4 | I7: 5060.5 | J7: 2014.75 | K7: 4826.4 | L7: 5101.6 | M7: 2622 | N7: 2933.2
B8: List Manage | C8: 4463.2 | D8: 0 | E8: 1564 | F8: 1888.65 | G8: 763.2 | H8: 6322.5 | I8: 0 | J8: 2595.75 | K8: 3132.4 | L8: 548.25 | M8: 0 | N8: 4918.95
B9: Cornell | C9: 878.15 | D9: 2005.25 | E9: 4585.8 | F9: 0 | G9: 1651.8 | H9: 3152 | I9: 1512.05 | J9: 1540.77 | K9: 656.2 | L9: 3956 | M9: 1035.2 | N9: 3659.59
B10: Tamu | C10: 1111.5 | D10: 1637.75 | E10: 480 | F10: 916.75 | G10: 2047.85 | H10: 5222.6 | I10: 718.45 | J10: 4581.35 | K10: 0 | L10: 4342.08 | M10: 443.9 | N10: 2688
B11: Site Meter | C11: 1234.1 | D11: 4636 | E11: 3300 | F11: 1058.25 | G11: 3389.2 | H11: 6491.2 | I11: 7328.35 | J11: 0 | K11: 4285.3 | L11: 1283.45 | M11: 1350 | N11: 5685.2
B12: Event Brite | C12: 1198.5 | D12: 0 | E12: 986 | F12: 4416 | G12: 4740 | H12: 2142 | I12: 1739.6 | J12: 1287 | K12: 3328.4 | L12: 7190.4 | M12: 135.1 | N12: 1431
B13: Xing | C13: 1693.2 | D13: 1280 | E13: 0 | F13: 0 | G13: 5352 | H13: 3512.4 | I13: 1516 | J13: 0 | K13: 3950.15 | L13: 6594.9 | M13: 3683.25 | N13: 6494.9
B14: Newsvine | C14: 868.35 | D14: 0 | E14: 8935.2 | F14: 0 | G14: 768.6 | H14: 0 | I14: 1104 | J14: 0 | K14: 0 | L14: 3963.68 | M14: 5088.4 | N14: 4647.2
B15: Network Solutions | C15: 0 | D15: 3107.3 | E15: 0 | F15: 0 | G15: 2724.55 | H15: 2335.5 | I15: 1189.5 | J15: 2396.77 | K15: 936 | L15: 120 | M15: 3698.35 | N15: 4406.4
B16: Stumble Upon | C16: 0 | D16: 2880 | E16: 4142 | F16: 0 | G16: 1599 | H16: 1520 | I16: 1601.6 | J16: 4038 | K16: 0 | L16: 4576 | M16: 174.8 | N16: 736

Sheet Data
A1: Source Data
A2: Table of Contents
A3: Order ID | B3: Order Date | C3: Year-Month | D3: Quarter | E3: Customer ID | F3: Rep ID | G3: Category | H3: Unit Price | I3: Quantity | J3: Revenue | K3: Shipping Fee | L3: Company | M3: Contact Name | N3: Contact Email | O3: Contact Phone | P3: Contact Time Zone
