Workbook

Sheet 1
B1: 1. Drop the Anchor
F3: December 31, 2022 Data
B4: Ticker | C4: Price ($) | F4: Ticker | G4: Company Name | H4: Price ($)
B5: AAL | C5: =VLOOKUP(B5,$F$5:$H$21,3,FALSE) -> 12.72 | F5: AAAU | G5: GOLDMAN SACHS PHYSICAL GOLD ETF | H5: 18.09
B6: AAAU | C6: =VLOOKUP(B6,$F$5:$H$21,3,FALSE) -> 18.09 | F6: AADI | G6: AADI BIOSCIENCE INC | H6: 12.83
B7: TECH | C7: =VLOOKUP(B7,$F$5:$H$21,3,FALSE) -> 82.88 | F7: AAL | G7: AMERICAN AIRLINES GROUP INC | H7: 12.72
B8: ETSY | C8: =VLOOKUP(B8,$F$5:$H$21,3,FALSE) -> 119.78 | F8: AEE | G8: AMEREN CORP | H8: 88.92
B9: TXN | C9: =VLOOKUP(B9,$F$5:$H$21,3,FALSE) -> 165.22 | F9: AMGN | G9: AMGEN INC | H9: 262.64
B10: AEE | C10: =VLOOKUP(B10,$F$5:$H$21,3,FALSE) -> 88.92 | F10: BLCO | G10: BAUSCH & LOMB CORP | H10: 15.51
B11: AMGN | C11: =VLOOKUP(B11,$F$5:$H$21,3,FALSE) -> 262.64 | F11: CAH | G11: CARDINAL HEALTH INC | H11: 76.87
B12: KEY | C12: =VLOOKUP(B12,$F$5:$H$21,3,FALSE) -> 17.42 | F12: EQR | G12: EQUITY RESIDENTIAL | H12: 59
B13: HCA | C13: =VLOOKUP(B13,$F$5:$H$21,3,FALSE) -> 239.96 | F13: ETSY | G13: ETSY INC | H13: 119.78
B14: AADI | C14: =VLOOKUP(B14,$F$5:$H$21,3,FALSE) -> 12.83 | F14: HCA | G14: H C A HEALTHCARE INC | H14: 239.96
B15: PRU | C15: =VLOOKUP(B15,$F$5:$H$21,3,FALSE) -> 99.46 | F15: KEY | G15: KEYCORP NEW | H15: 17.42
F16: PNC | G16: P N C FINANCIAL SERVICES GRP INC | H16: 157.94
F17: PRU | G17: PRUDENTIAL FINANCIAL INC | H17: 99.46
F18: TECH | G18: BIO TECHNE CORP | H18: 82.88
F19: TXN | G19: TEXAS INSTRUMENTS INC | H19: 165.22
F20: ZUMZ | G20: ZUMIEZ INC | H20: 21.74
F21: ZYNE | G21: ZYNERBA PHARMACEUTICALS INC | H21: 0.53

Sheet 2
B1: 2. Exact Match
D3: FALSE | F3: December 31, 2022 Data
B4: Ticker | C4: Price ($) | D4: Price ($) | F4: Ticker | G4: Company Name | H4: Price ($)
B5: AAL | C5: =VLOOKUP(B5,$F$5:$H$21,3,FALSE) -> 12.72 | D5: =_xlfn.XLOOKUP(B5,$F$5:$F$21,$H$5:$H$21) -> 12.72 | F5: ZYNE | G5: ZYNERBA PHARMACEUTICALS INC | H5: 0.53
B6: AAAU | C6: =VLOOKUP(B6,$F$5:$H$21,3,FALSE) -> 18.09 | D6: =_xlfn.XLOOKUP(B6,$F$5:$F$21,$H$5:$H$21) -> 18.09 | F6: AAL | G6: AMERICAN AIRLINES GROUP INC | H6: 12.72
B7: TECH | C7: =VLOOKUP(B7,$F$5:$H$21,3,FALSE) -> 82.88 | D7: =_xlfn.XLOOKUP(B7,$F$5:$F$21,$H$5:$H$21) -> 82.88 | F7: AADI | G7: AADI BIOSCIENCE INC | H7: 12.83
B8: ETSY | C8: =VLOOKUP(B8,$F$5:$H$21,3,FALSE) -> 119.78 | D8: =_xlfn.XLOOKUP(B8,$F$5:$F$21,$H$5:$H$21) -> 119.78 | F8: BLCO | G8: BAUSCH & LOMB CORP | H8: 15.51
B9: TXN | C9: =VLOOKUP(B9,$F$5:$H$21,3,FALSE) -> 165.22 | D9: =_xlfn.XLOOKUP(B9,$F$5:$F$21,$H$5:$H$21) -> 165.22 | F9: KEY | G9: KEYCORP NEW | H9: 17.42
B10: AEE | C10: =VLOOKUP(B10,$F$5:$H$21,3,FALSE) -> 88.92 | D10: =_xlfn.XLOOKUP(B10,$F$5:$F$21,$H$5:$H$21) -> 88.92 | F10: AAAU | G10: GOLDMAN SACHS PHYSICAL GOLD ETF | H10: 18.09
B11: AMGN | C11: =VLOOKUP(B11,$F$5:$H$21,3,FALSE) -> 262.64 | D11: =_xlfn.XLOOKUP(B11,$F$5:$F$21,$H$5:$H$21) -> 262.64 | F11: ZUMZ | G11: ZUMIEZ INC | H11: 21.74
B12: KEY | C12: =VLOOKUP(B12,$F$5:$H$21,3,FALSE) -> 17.42 | D12: =_xlfn.XLOOKUP(B12,$F$5:$F$21,$H$5:$H$21) -> 17.42 | F12: EQR | G12: EQUITY RESIDENTIAL | H12: 59
B13: HCA | C13: =VLOOKUP(B13,$F$5:$H$21,3,FALSE) -> 239.96 | D13: =_xlfn.XLOOKUP(B13,$F$5:$F$21,$H$5:$H$21) -> 239.96 | F13: CAH | G13: CARDINAL HEALTH INC | H13: 76.87
B14: AADI | C14: =VLOOKUP(B14,$F$5:$H$21,3,FALSE) -> 12.83 | D14: =_xlfn.XLOOKUP(B14,$F$5:$F$21,$H$5:$H$21) -> 12.83 | F14: TECH | G14: BIO TECHNE CORP | H14: 82.88
B15: PRU | C15: =VLOOKUP(B15,$F$5:$H$21,3,FALSE) -> 99.46 | D15: =_xlfn.XLOOKUP(B15,$F$5:$F$21,$H$5:$H$21) -> 99.46 | F15: AEE | G15: AMEREN CORP | H15: 88.92
F16: PRU | G16: PRUDENTIAL FINANCIAL INC | H16: 99.46
F17: ETSY | G17: ETSY INC | H17: 119.78
F18: PNC | G18: P N C FINANCIAL SERVICES GRP INC | H18: 157.94
F19: TXN | G19: TEXAS INSTRUMENTS INC | H19: 165.22
F20: HCA | G20: H C A HEALTHCARE INC | H20: 239.96
F21: AMGN | G21: AMGEN INC | H21: 262.64

Sheet 3
B1: 3. The Invisible Error
D3: TRUE | G3: December 31, 2022 Data
B4: Ticker | C4: Price ($) | D4: TRIM | G4: Ticker | H4: Company Name | I4: Price ($)
B5: AAL | C5: =VLOOKUP(B5,$G$5:$I$21,3,FALSE) -> 12.72 | D5: =TRIM(B5) -> AAL | G5: AAAU | H5: GOLDMAN SACHS PHYSICAL GOLD ETF | I5: 18.09
B6: AAAU | C6: =VLOOKUP(B6,$G$5:$I$21,3,FALSE) -> 18.09 | D6: =TRIM(B6) -> AAAU | G6: AADI | H6: AADI BIOSCIENCE INC | I6: 12.83
B7: TECH | C7: =VLOOKUP(B7,$G$5:$I$21,3,FALSE) -> 82.88 | D7: =TRIM(B7) -> TECH | G7: AAL | H7: AMERICAN AIRLINES GROUP INC | I7: 12.72
B8: ETSY | C8: =VLOOKUP(B8,$G$5:$I$21,3,FALSE) -> 119.78 | D8: =TRIM(B8) -> ETSY | G8: AEE | H8: AMEREN CORP | I8: 88.92
B9: TXN | C9: =VLOOKUP(B9,$G$5:$I$21,3,FALSE) -> 165.22 | D9: =TRIM(B9) -> TXN | G9: AMGN | H9: AMGEN INC | I9: 262.64
B10: AEE | C10: =VLOOKUP(B10,$G$5:$I$21,3,FALSE) -> 88.92 | D10: =TRIM(B10) -> AEE | G10: BLCO | H10: BAUSCH & LOMB CORP | I10: 15.51
B11: AMGN | C11: =VLOOKUP(B11,$G$5:$I$21,3,FALSE) -> 262.64 | D11: =TRIM(B11) -> AMGN | G11: CAH | H11: CARDINAL HEALTH INC | I11: 76.87
B12: KEY | C12: =VLOOKUP(B12,$G$5:$I$21,3,FALSE) -> 17.42 | D12: =TRIM(B12) -> KEY | G12: EQR | H12: EQUITY RESIDENTIAL | I12: 59
B13: HCA | C13: =VLOOKUP(B13,$G$5:$I$21,3,FALSE) -> 239.96 | D13: =TRIM(B13) -> HCA | G13: ETSY | H13: ETSY INC | I13: 119.78
B14: AADI | C14: =VLOOKUP(B14,$G$5:$I$21,3,FALSE) -> 12.83 | D14: =TRIM(B14) -> AADI | G14: HCA | H14: H C A HEALTHCARE INC | I14: 239.96
B15: PRU | C15: =VLOOKUP(B15,$G$5:$I$21,3,FALSE) -> 99.46 | D15: =TRIM(B15) -> PRU | G15: KEY | H15: KEYCORP NEW | I15: 17.42
G16: PNC | H16: P N C FINANCIAL SERVICES GRP INC | I16: 157.94
G17: PRU | H17: PRUDENTIAL FINANCIAL INC | I17: 99.46
G18: TECH | H18: BIO TECHNE CORP | I18: 82.88
G19: TXN | H19: TEXAS INSTRUMENTS INC | I19: 165.22
G20: ZUMZ | H20: ZUMIEZ INC | I20: 21.74
G21: ZYNE | H21: ZYNERBA PHARMACEUTICALS INC | I21: 0.53

Sheet 4
B1: 4. Write Naked VLOOKUPS First
F3: December 31, 2022 Data
B4: Ticker | C4: Price ($) | F4: Ticker | G4: Company Name | H4: Price ($)
B5: AAAU | C5: =IFERROR(VLOOKUP(B5,$F$5:$H$21,3,FALSE),"") -> 18.09 | F5: AAAU | G5: GOLDMAN SACHS PHYSICAL GOLD ETF | H5: 18.09
B6: AAL | C6: =IFERROR(VLOOKUP(B6,$F$5:$H$21,3,FALSE),"") -> 12.72 | F6: AAL | G6: AMERICAN AIRLINES GROUP INC | H6: 12.72
B7: ACB | C7: =IFERROR(VLOOKUP(B7,$F$5:$H$21,3,FALSE),"") | F7: AEE | G7: AMEREN CORP | H7: 88.92
B8: AEE | C8: =IFERROR(VLOOKUP(B8,$F$5:$H$21,3,FALSE),"") -> 88.92 | F8: APEI | G8: AMERICAN PUBLIC EDUCATION INC | H8: 12.29
B9: ETSY | C9: =IFERROR(VLOOKUP(B9,$F$5:$H$21,3,FALSE),"") -> 119.78 | F9: CHCO | G9: CITY HOLDING CO | H9: 93.09
B10: ONB | C10: =IFERROR(VLOOKUP(B10,$F$5:$H$21,3,FALSE),"") -> 17.98 | F10: ESOA | G10: ENERGY SERVICES OF AMERICA CORP | H10: 2.57
B11: TECH | C11: =IFERROR(VLOOKUP(B11,$F$5:$H$21,3,FALSE),"") -> 82.88 | F11: ETSY | G11: ETSY INC | H11: 119.78
B12: TXN | C12: =IFERROR(VLOOKUP(B12,$F$5:$H$21,3,FALSE),"") -> 165.22 | F12: MVBF | G12: M V B FINANCIAL CORP | H12: 22.02
B13: AADI | C13: =IFERROR(VLOOKUP(B13,$F$5:$H$21,3,FALSE),"") | F13: OARK | G13: TIDAL TRUST II | H13: 18.19
B14: PRU | C14: =IFERROR(VLOOKUP(B14,$F$5:$H$21,3,FALSE),"") | F14: ONB | G14: OLD NATIONAL BANCORP | H14: 17.98
F15: SECD | G15: TIDAL TRUST II | H15: 19.91
F16: SMMF | G16: SUMMIT FINANCIAL GROUP INC | H16: 24.89
F17: TECH | G17: BIO TECHNE CORP | H17: 82.88
F18: TSLY | G18: TIDAL TRUST II | H18: 14.63
F19: TXN | G19: TEXAS INSTRUMENTS INC | H19: 165.22
F20: UBSI | G20: UNITED BANKSHARES INC | H20: 40.49
F21: WSBC | G21: WESBANCO INC | H21: 36.98

Sheet 5
B1: 5.VLOOKUP vs INDEX MATCH vs XLOOKUP
D2: FALSE | E2: FALSE
C3: VLOOKUP | D3: INDEX MATCH | E3: XLOOKUP | H3: December 31, 2022 Data
B4: Ticker | C4: Price ($) | D4: Price ($) | E4: Price ($) | H4: Ticker | I4: Company Name | J4: Price ($)
B5: AAL | C5: =VLOOKUP(B5,$H$5:$J$8828,3,FALSE) -> 12.72 | D5: =INDEX($J$5:$J$8828,MATCH(B5,$H$5:$H$8828,0)) -> 12.72 | E5: =_xlfn.XLOOKUP(B5,$H$5:$H$8828,$J$5:$J$8828) -> 12.72 | H5: A | I5: AGILENT TECHNOLOGIES INC | J5: 149.65
B6: AAAU | C6: =VLOOKUP(B6,$H$5:$J$8828,3,FALSE) -> 18.09 | D6: =INDEX($J$5:$J$8828,MATCH(B6,$H$5:$H$8828,0)) -> 18.09 | E6: =_xlfn.XLOOKUP(B6,$H$5:$H$8828,$J$5:$J$8828) -> 18.09 | H6: AA | I6: ALCOA CORP | J6: 45.47
B7: TECH | C7: =VLOOKUP(B7,$H$5:$J$8828,3,FALSE) -> 82.88 | D7: =INDEX($J$5:$J$8828,MATCH(B7,$H$5:$H$8828,0)) -> 82.88 | E7: =_xlfn.XLOOKUP(B7,$H$5:$H$8828,$J$5:$J$8828) -> 82.88 | H7: AAAU | I7: GOLDMAN SACHS PHYSICAL GOLD ETF | J7: 18.09
B8: ETSY | C8: =VLOOKUP(B8,$H$5:$J$8828,3,FALSE) -> 119.78 | D8: =INDEX($J$5:$J$8828,MATCH(B8,$H$5:$H$8828,0)) -> 119.78 | E8: =_xlfn.XLOOKUP(B8,$H$5:$H$8828,$J$5:$J$8828) -> 119.78 | H8: AAC | I8: ARES ACQUISITION CORP | J8: 10.07
B9: TXN | C9: =VLOOKUP(B9,$H$5:$J$8828,3,FALSE) -> 165.22 | D9: =INDEX($J$5:$J$8828,MATCH(B9,$H$5:$H$8828,0)) -> 165.22 | E9: =_xlfn.XLOOKUP(B9,$H$5:$H$8828,$J$5:$J$8828) -> 165.22 | H9: AACG | I9: A T A CREATIVITY GLOBAL | J9: 1.27
B10: AEE | C10: =VLOOKUP(B10,$H$5:$J$8828,3,FALSE) -> 88.92 | D10: =INDEX($J$5:$J$8828,MATCH(B10,$H$5:$H$8828,0)) -> 88.92 | E10: =_xlfn.XLOOKUP(B10,$H$5:$H$8828,$J$5:$J$8828) -> 88.92 | H10: AACI | I10: ARMADA ACQUISITION CORP I | J10: 10.12
B11: AMGN | C11: =VLOOKUP(B11,$H$5:$J$8828,3,FALSE) -> 262.64 | D11: =INDEX($J$5:$J$8828,MATCH(B11,$H$5:$H$8828,0)) -> 262.64 | E11: =_xlfn.XLOOKUP(B11,$H$5:$H$8828,$J$5:$J$8828) -> 262.64 | H11: AADI | I11: AADI BIOSCIENCE INC | J11: 12.83
B12: KEY | C12: =VLOOKUP(B12,$H$5:$J$8828,3,FALSE) -> 17.42 | D12: =INDEX($J$5:$J$8828,MATCH(B12,$H$5:$H$8828,0)) -> 17.42 | E12: =_xlfn.XLOOKUP(B12,$H$5:$H$8828,$J$5:$J$8828) -> 17.42 | H12: AADR | I12: ADVISORSHARES TRUST | J12: 47.76
B13: CAH | C13: =VLOOKUP(B13,$H$5:$J$8828,3,FALSE) -> 76.87 | D13: =INDEX($J$5:$J$8828,MATCH(B13,$H$5:$H$8828,0)) -> 76.87 | E13: =_xlfn.XLOOKUP(B13,$H$5:$H$8828,$J$5:$J$8828) -> 76.87 | H13: AAIC | I13: ARLINGTON ASSET INVESTMENT CORP | J13: 2.93
B14: AA | C14: =VLOOKUP(B14,$H$5:$J$8828,3,FALSE) -> 45.47 | D14: =INDEX($J$5:$J$8828,MATCH(B14,$H$5:$H$8828,0)) -> 45.47 | E14: =_xlfn.XLOOKUP(B14,$H$5:$H$8828,$J$5:$J$8828) -> 45.47 | H14: AAL | I14: AMERICAN AIRLINES GROUP INC | J14: 12.72
B15: HCA | C15: =VLOOKUP(B15,$H$5:$J$8828,3,FALSE) -> 239.96 | D15: =INDEX($J$5:$J$8828,MATCH(B15,$H$5:$H$8828,0)) -> 239.96 | E15: =_xlfn.XLOOKUP(B15,$H$5:$H$8828,$J$5:$J$8828) -> 239.96 | H15: AAMC | I15: ALTISOURCE ASSET MANAGEMENT CORP | J15: 11.91
B16: PNC | C16: =VLOOKUP(B16,$H$5:$J$8828,3,FALSE) -> 157.94 | D16: =INDEX($J$5:$J$8828,MATCH(B16,$H$5:$H$8828,0)) -> 157.94 | E16: =_xlfn.XLOOKUP(B16,$H$5:$H$8828,$J$5:$J$8828) -> 157.94 | H16: AAME | I16: ATLANTIC AMERICAN CORP | J16: 2.34
... B21: ZBRA | C21: =VLOOKUP(B21,$H$5:$J$8828,3,FALSE) -> 256.41 | D21: =INDEX($J$5:$J$8828,MATCH(B21,$H$5:$H$8828,0)) -> 256.41 | E21: =_xlfn.XLOOKUP(B21,$H$5:$H$8828,$J$5:$J$8828) -> 256.41 | H21: AAPB | I21: GRANITESHARES E T F TRUST | J21: 15.38
H22: AAPL | I22: APPLE INC | J22: 129.93
H23: AAPU | I23: DIREXION SHARES E T F TRUST | J23: 16.65
H24: AAT | I24: AMERICAN ASSETS TRUST INC | J24: 26.5
H25: AAU | I25: ALMADEN MINERALS LTD | J25: 0.24
H26: AAWW | I26: ATLAS AIR WORLDWIDE HOLDINGS INC | J26: 100.8
H27: AAXJ | I27: ISHARES TRUST | J27: 64.79
H28: AB | I28: ALLIANCEBERNSTEIN HOLDING L P | J28: 34.37
H29: ABB | I29: A B B LTD | J29: 30.46
H30: ABBV | I30: ABBVIE INC | J30: 161.61
H31: ABC | I31: AMERISOURCEBERGEN CORP | J31: 165.71
H32: ABCB | I32: AMERIS BANCORP | J32: 47.14
H33: ABCL | I33: ABCELLERA BIOLOGICS INC | J33: 10.13
... H8828: ZYXI | I8828: ZYNEX INC | J8828: 13.91

Sheet 6
B1: 6. Keyboard Shortcuts
F3: December 31, 2022 Data
B4: Ticker | C4: Price ($) | F4: Ticker | G4: Company Name | H4: State | I4: Shares Outstanding | J4: Price ($)
B5: AAL | C5: =VLOOKUP(B5,$F$5:$J$8828,5,FALSE) -> 12.72 | F5: A | G5: AGILENT TECHNOLOGIES INC | H5: CA | I5: 296072000 | J5: 149.65
B6: AAAU | C6: =VLOOKUP(B6,$F$5:$J$8828,5,FALSE) -> 18.09 | F6: AA | G6: ALCOA CORP | H6: PA | I6: 176937000 | J6: 45.47
B7: TECH | C7: =VLOOKUP(B7,$F$5:$J$8828,5,FALSE) -> 82.88 | F7: AAAU | G7: GOLDMAN SACHS PHYSICAL GOLD ETF | H7: NY | I7: 23350000 | J7: 18.09
B8: ETSY | C8: =VLOOKUP(B8,$F$5:$J$8828,5,FALSE) -> 119.78 | F8: AAC | G8: ARES ACQUISITION CORP | H8: NY | I8: 100000000 | J8: 10.07
B9: TXN | C9: =VLOOKUP(B9,$F$5:$J$8828,5,FALSE) -> 165.22 | F9: AACG | G9: A T A CREATIVITY GLOBAL | I9: 11869000 | J9: 1.27
B10: AEE | C10: =VLOOKUP(B10,$F$5:$J$8828,5,FALSE) -> 88.92 | F10: AACI | G10: ARMADA ACQUISITION CORP I | I10: 20710000 | J10: 10.12
B11: AMGN | C11: =VLOOKUP(B11,$F$5:$J$8828,5,FALSE) -> 262.64 | F11: AADI | G11: AADI BIOSCIENCE INC | H11: CA | I11: 24435000 | J11: 12.83
B12: KEY | C12: =VLOOKUP(B12,$F$5:$J$8828,5,FALSE) -> 17.42 | F12: AADR | G12: ADVISORSHARES TRUST | H12: MD | I12: 705000 | J12: 47.76
B13: CAH | C13: =VLOOKUP(B13,$F$5:$J$8828,5,FALSE) -> 76.87 | F13: AAIC | G13: ARLINGTON ASSET INVESTMENT CORP | H13: VA | I13: 28367000 | J13: 2.93
B14: AA | C14: =VLOOKUP(B14,$F$5:$J$8828,5,FALSE) -> 45.47 | F14: AAL | G14: AMERICAN AIRLINES GROUP INC | H14: TX | I14: 650642000 | J14: 12.72
B15: HCA | C15: =VLOOKUP(B15,$F$5:$J$8828,5,FALSE) -> 239.96 | F15: AAMC | G15: ALTISOURCE ASSET MANAGEMENT CORP | H15: VI | I15: 1777000 | J15: 11.91
B16: PNC | C16: =VLOOKUP(B16,$F$5:$J$8828,5,FALSE) -> 157.94 | F16: AAME | G16: ATLANTIC AMERICAN CORP | H16: GA | I16: 20407000 | J16: 2.34
B17: AADI | C17: =VLOOKUP(B17,$F$5:$J$8828,5,FALSE) -> 12.83 | F17: AAN | G17: AARONS CO INC | H17: GA | I17: 30780000 | J17: 11.95
B18: PRU | C18: =VLOOKUP(B18,$F$5:$J$8828,5,FALSE) -> 99.46 | F18: AAOI | G18: APPLIED OPTOELECTRONICS INC | H18: TX | I18: 29053000 | J18: 1.89
B19: EQR | C19: =VLOOKUP(B19,$F$5:$J$8828,5,FALSE) -> 59 | F19: AAON | G19: AAON INC | H19: OK | I19: 53425000 | J19: 50.21
B20: FLT | C20: =VLOOKUP(B20,$F$5:$J$8828,5,FALSE) -> 183.68 | F20: AAP | G20: ADVANCE AUTO PARTS INC | H20: NC | I20: 59254000 | J20: 147.03
B21: ZBRA | C21: =VLOOKUP(B21,$F$5:$J$8828,5,FALSE) -> 256.41 | F21: AAPB | G21: GRANITESHARES E T F TRUST | H21: NY | I21: 40000 | J21: 15.38
F22: AAPL | G22: APPLE INC | H22: CA | I22: 15842407000 | J22: 129.93
F23: AAPU | G23: DIREXION SHARES E T F TRUST | H23: NY | I23: 500000 | J23: 16.65
F24: AAT | G24: AMERICAN ASSETS TRUST INC | H24: CA | I24: 60528000 | J24: 26.5
F25: AAU | G25: ALMADEN MINERALS LTD | H25: BC | I25: 137221000 | J25: 0.24
F26: AAWW | G26: ATLAS AIR WORLDWIDE HOLDINGS INC | H26: NY | I26: 28542000 | J26: 100.8
F27: AAXJ | G27: ISHARES TRUST | H27: CA | I27: 42200000 | J27: 64.79
F28: AB | G28: ALLIANCEBERNSTEIN HOLDING L P | H28: TN | I28: 100401000 | J28: 34.37
F29: ABB | G29: A B B LTD | I29: 150513000 | J29: 30.46
F30: ABBV | G30: ABBVIE INC | H30: IL | I30: 1768481000 | J30: 161.61
F31: ABC | G31: AMERISOURCEBERGEN CORP | H31: PA | I31: 205669000 | J31: 165.71
F32: ABCB | G32: AMERIS BANCORP | H32: GA | I32: 69369000 | J32: 47.14
F33: ABCL | G33: ABCELLERA BIOLOGICS INC | H33: BC | I33: 286852000 | J33: 10.13
F34: ABCM | G34: ABCAM PLC | I34: 213886000 | J34: 15.56
F35: ABEO | G35: ABEONA THERAPEUTICS INC | H35: NY | I35: 17720000 | J35: 3.08
F36: ABEQ | G36: UNIFIED SERIES TRUST | H36: FL | I36: 3125000 | J36: 27.83
F37: ABEV | G37: AMBEV SA | I37: 1237191000 | J37: 2.72
F38: ABG | G38: ASBURY AUTOMOTIVE GROUP INC | H38: GA | I38: 22133000 | J38: 179.25
F39: ABGI | G39: A B G ACQUISITION CORP I | I39: 15566000 | J39: 10.09
F40: ABIO | G40: ARCA BIOPHARMA INC | H40: CO | I40: 14410000 | J40: 2.37
F41: ABM | G41: A B M INDUSTRIES INC | H41: NY | I41: 65601000 | J41: 44.42
...

Sheet 7
B1: 7. Avoid Formula Stuffing
B3: What is the stock's percentage return?
B4: The period-1 return is (P1 + D1 - P0)/P0, where P0 is the starting price, P1 is the ending price, and D1 is the dividend paid during period 1.
D6: FALSE | K6: P0 | N6: P1 | Q6: D1
B7: Ticker | C7: Return % | D7: P0 | E7: P1 | F7: D1 | G7: Return % | J7: 2022 | M7: 2023 | P7: Dividends 2023
B8: AAAU | C8: =(VLOOKUP(B8,'7'!$M$9:$N$26,2,FALSE)+IFERROR(VLOOKUP(B8,'7'!$P$9:$Q$20,2,FALSE),0)-VLOOKUP(B8,'7'!$J$9:$K$24,2,FALSE))/VLOOKUP(B8,'7'!$J$9:$K$24,2,FALSE) -> 0.12935323 | D8: =VLOOKUP(B8,'7'!$J$9:$K$24,2,FALSE) -> 18.09 | E8: =VLOOKUP(B8,'7'!$M$9:$N$26,2,FALSE) -> 20.43 | F8: =IFERROR(VLOOKUP(B8,'7'!$P$9:$Q$20,2,FALSE),0) -> 0 | G8: =(E8+F8-D8)/D8 -> 0.12935323 | J8: Ticker | K8: Price ($) | M8: Ticker | N8: Price ($) | P8: Ticker | Q8: Dividends ($)
B9: AAL | C9: =(VLOOKUP(B9,'7'!$M$9:$N$26,2,FALSE)+IFERROR(VLOOKUP(B9,'7'!$P$9:$Q$20,2,FALSE),0)-VLOOKUP(B9,'7'!$J$9:$K$24,2,FALSE))/VLOOKUP(B9,'7'!$J$9:$K$24,2,FALSE) -> 0.080188679 | D9: =VLOOKUP(B9,'7'!$J$9:$K$24,2,FALSE) -> 12.72 | E9: =VLOOKUP(B9,'7'!$M$9:$N$26,2,FALSE) -> 13.74 | F9: =IFERROR(VLOOKUP(B9,'7'!$P$9:$Q$20,2,FALSE),0) -> 0 | G9: =(E9+F9-D9)/D9 -> 0.080188679 | J9: AAL | K9: 12.72 | M9: AA | N9: 34 | P9: TXN | Q9: 5.02
B10: CHCO | C10: =(VLOOKUP(B10,'7'!$M$9:$N$26,2,FALSE)+IFERROR(VLOOKUP(B10,'7'!$P$9:$Q$20,2,FALSE),0)-VLOOKUP(B10,'7'!$J$9:$K$24,2,FALSE))/VLOOKUP(B10,'7'!$J$9:$K$24,2,FALSE) -> 0.21301966 | D10: =VLOOKUP(B10,'7'!$J$9:$K$24,2,FALSE) -> 93.09 | E10: =VLOOKUP(B10,'7'!$M$9:$N$26,2,FALSE) -> 110.26 | F10: =IFERROR(VLOOKUP(B10,'7'!$P$9:$Q$20,2,FALSE),0) -> 2.66 | G10: =(E10+F10-D10)/D10 -> 0.21301966 | J10: TXN | K10: 165.22 | M10: AAL | N10: 13.74 | P10: AEE | Q10: 2.52
B11: AEE | C11: =(VLOOKUP(B11,'7'!$M$9:$N$26,2,FALSE)+IFERROR(VLOOKUP(B11,'7'!$P$9:$Q$20,2,FALSE),0)-VLOOKUP(B11,'7'!$J$9:$K$24,2,FALSE))/VLOOKUP(B11,'7'!$J$9:$K$24,2,FALSE) -> -0.15811966 | D11: =VLOOKUP(B11,'7'!$J$9:$K$24,2,FALSE) -> 88.92 | E11: =VLOOKUP(B11,'7'!$M$9:$N$26,2,FALSE) -> 72.34 | F11: =IFERROR(VLOOKUP(B11,'7'!$P$9:$Q$20,2,FALSE),0) -> 2.52 | G11: =(E11+F11-D11)/D11 -> -0.15811966 | J11: AAAU | K11: 18.09 | M11: TXN | N11: 170.46 | P11: TECH | Q11: 0.32
B12: ETSY | C12: =(VLOOKUP(B12,'7'!$M$9:$N$26,2,FALSE)+IFERROR(VLOOKUP(B12,'7'!$P$9:$Q$20,2,FALSE),0)-VLOOKUP(B12,'7'!$J$9:$K$24,2,FALSE))/VLOOKUP(B12,'7'!$J$9:$K$24,2,FALSE) -> -0.3233428 | D12: =VLOOKUP(B12,'7'!$J$9:$K$24,2,FALSE) -> 119.78 | E12: =VLOOKUP(B12,'7'!$M$9:$N$26,2,FALSE) -> 81.05 | F12: =IFERROR(VLOOKUP(B12,'7'!$P$9:$Q$20,2,FALSE),0) -> 0 | G12: =(E12+F12-D12)/D12 -> -0.3233428 | J12: ETSY | K12: 119.78 | M12: AAAU | N12: 20.43 | P12: MVBF | Q12: 0.68
B13: ONB | C13: =(VLOOKUP(B13,'7'!$M$9:$N$26,2,FALSE)+IFERROR(VLOOKUP(B13,'7'!$P$9:$Q$20,2,FALSE),0)-VLOOKUP(B13,'7'!$J$9:$K$24,2,FALSE))/VLOOKUP(B13,'7'!$J$9:$K$24,2,FALSE) -> -0.029477197 | D13: =VLOOKUP(B13,'7'!$J$9:$K$24,2,FALSE) -> 17.98 | E13: =VLOOKUP(B13,'7'!$M$9:$N$26,2,FALSE) -> 16.89 | F13: =IFERROR(VLOOKUP(B13,'7'!$P$9:$Q$20,2,FALSE),0) -> 0.56 | G13: =(E13+F13-D13)/D13 -> -0.029477197 | J13: AEE | K13: 88.92 | M13: ETSY | N13: 81.05 | P13: SMMF | Q13: 0.84
B14: TECH | C14: =(VLOOKUP(B14,'7'!$M$9:$N$26,2,FALSE)+IFERROR(VLOOKUP(B14,'7'!$P$9:$Q$20,2,FALSE),0)-VLOOKUP(B14,'7'!$J$9:$K$24,2,FALSE))/VLOOKUP(B14,'7'!$J$9:$K$24,2,FALSE) -> -0.06515444 | D14: =VLOOKUP(B14,'7'!$J$9:$K$24,2,FALSE) -> 82.88 | E14: =VLOOKUP(B14,'7'!$M$9:$N$26,2,FALSE) -> 77.16 | F14: =IFERROR(VLOOKUP(B14,'7'!$P$9:$Q$20,2,FALSE),0) -> 0.32 | G14: =(E14+F14-D14)/D14 -> -0.06515444 | J14: TECH | K14: 82.88 | M14: AEE | N14: 72.34 | P14: CHCO | Q14: 2.66
B15: TXN | C15: =(VLOOKUP(B15,'7'!$M$9:$N$26,2,FALSE)+IFERROR(VLOOKUP(B15,'7'!$P$9:$Q$20,2,FALSE),0)-VLOOKUP(B15,'7'!$J$9:$K$24,2,FALSE))/VLOOKUP(B15,'7'!$J$9:$K$24,2,FALSE) -> 0.062099019 | D15: =VLOOKUP(B15,'7'!$J$9:$K$24,2,FALSE) -> 165.22 | E15: =VLOOKUP(B15,'7'!$M$9:$N$26,2,FALSE) -> 170.46 | F15: =IFERROR(VLOOKUP(B15,'7'!$P$9:$Q$20,2,FALSE),0) -> 5.02 | G15: =(E15+F15-D15)/D15 -> 0.062099019 | J15: MVBF | K15: 22.02 | M15: TECH | N15: 77.16 | P15: ESOA | Q15: 0.11
J16: SMMF | K16: 24.89 | M16: MVBF | N16: 22.56 | P16: WSBC | Q16: 1.41
J17: CHCO | K17: 93.09 | M17: SMMF | N17: 30.69 | P17: UBSI | Q17: 1.45
J18: ESOA | K18: 2.57 | M18: CHCO | N18: 110.26 | P18: OARK | Q18: 6.55
J19: APEI | K19: 12.29 | M19: ESOA | N19: 5.98 | P19: ONB | Q19: 0.56
J20: WSBC | K20: 36.98 | M20: APEI | N20: 9.65 | P20: TSLY | Q20: 9.12
J21: UBSI | K21: 40.49 | M21: WSBC | N21: 31.37
J22: OARK | K22: 18.19 | M22: UBSI | N22: 37.55
J23: ONB | K23: 17.98 | M23: OARK | N23: 14.55
J24: TSLY | K24: 14.63 | M24: ONB | N24: 16.89
M25: ZEPP | N25: 1.42
M26: TSLY | N26: 11.93

Sheet Stock Data
B1: Case Data
