Workbook
Name Personal_Info: #REF!
Name rngBubbleLabel: _xlfn.ANCHORARRAY('Table Arrays'!$X$6)
Name rngBubbleX: _xlfn.ANCHORARRAY('Table Arrays'!$U$6)
Name rngBubbleY: _xlfn.ANCHORARRAY('Table Arrays'!$V$6)
Name rngNameList: _xlfn.ANCHORARRAY(Lists!$C$2)
Name rngRandSort: _xlfn.ANCHORARRAY('Admin - Seating Chart'!$C$12)
Name rngSeatNames: _xlfn.ANCHORARRAY('Table Arrays'!$S$6)
Name rngSeatNums: _xlfn.ANCHORARRAY('Table Arrays'!$R$6)
Name rngSeatPos: _xlfn.ANCHORARRAY('Table Arrays'!$P$6)
Name rngSeatsPerTable: 'Admin - Seating Chart'!$B$4
Name rngTotalCols: 'Table Arrays'!$C$14
Name rngTotalRows: 'Table Arrays'!$C$13

Sheet Welcome

Sheet Name List
A1: ID | B1: Full Name | C1: First Name | D1: Last Name | E1: Email | F1: Phone | G1: Gender | H1: Birthdate | I1: Absences | J1: GPA | K1: Group | L1: Group Order | M1: Row | N1: Seat in Row | O1: Seat No.
A2: 14757 | B2: Glyn Crockley | C2: Glyn | D2: Crockley | E2: gcrockley12@weibo.com | F2: 976-410-6678 | G2: Male | H2: 36622 | I2: 14 | J2: 1.31 | K2: Group 34 | L2: =_xlfn.XMATCH(tblNameList[[#This Row],[Group]],INDEX(_xlfn.ANCHORARRAY('Admin - Groups'!$D$9),,1)) -> 1 | M2: =VLOOKUP(tblNameList[[#This Row],[Group]],_xlfn.ANCHORARRAY('Admin - Groups'!$D$9):'Admin - Groups'!$G$9,4,FALSE) -> 1 | N2: =COUNTIF(tblNameList[[#Headers],[Row]]:tblNameList[[#This Row],[Row]],tblNameList[[#This Row],[Row]]) -> 1 | O2: =((tblNameList[[#This Row],[Row]]-1)*'Admin - Seating Chart'!$B$4)+tblNameList[[#This Row],[Seat in Row]] -> 1
A3: 21240 | B3: Jeannine Stiff | C3: Jeannine | D3: Stiff | E3: jstiff1p@spiegel.de | F3: 810-288-4757 | G3: Female | H3: 37022 | I3: 21 | J3: 1.59 | K3: Group 34 | L3: =_xlfn.XMATCH(tblNameList[[#This Row],[Group]],INDEX(_xlfn.ANCHORARRAY('Admin - Groups'!$D$9),,1)) -> 1 | M3: =VLOOKUP(tblNameList[[#This Row],[Group]],_xlfn.ANCHORARRAY('Admin - Groups'!$D$9):'Admin - Groups'!$G$9,4,FALSE) -> 1 | N3: =COUNTIF(tblNameList[[#Headers],[Row]]:tblNameList[[#This Row],[Row]],tblNameList[[#This Row],[Row]]) -> 2 | O3: =((tblNameList[[#This Row],[Row]]-1)*'Admin - Seating Chart'!$B$4)+tblNameList[[#This Row],[Seat in Row]] -> 2
A4: 22393 | B4: Imelda Dellar | C4: Imelda | D4: Dellar | E4: idellar20@tuttocitta.it | F4: 563-955-0805 | G4: Female | H4: 37099 | I4: 20 | J4: 1.68 | K4: Group 34 | L4: =_xlfn.XMATCH(tblNameList[[#This Row],[Group]],INDEX(_xlfn.ANCHORARRAY('Admin - Groups'!$D$9),,1)) -> 1 | M4: =VLOOKUP(tblNameList[[#This Row],[Group]],_xlfn.ANCHORARRAY('Admin - Groups'!$D$9):'Admin - Groups'!$G$9,4,FALSE) -> 1 | N4: =COUNTIF(tblNameList[[#Headers],[Row]]:tblNameList[[#This Row],[Row]],tblNameList[[#This Row],[Row]]) -> 3 | O4: =((tblNameList[[#This Row],[Row]]-1)*'Admin - Seating Chart'!$B$4)+tblNameList[[#This Row],[Seat in Row]] -> 3
A5: 11498 | B5: Sansone McShane | C5: Sansone | D5: McShane | E5: smcshanex@google.ca | F5: 269-924-1840 | G5: Male | H5: 37838 | I5: 5 | J5: 2.22 | K5: Group 09 | L5: =_xlfn.XMATCH(tblNameList[[#This Row],[Group]],INDEX(_xlfn.ANCHORARRAY('Admin - Groups'!$D$9),,1)) -> 2 | M5: =VLOOKUP(tblNameList[[#This Row],[Group]],_xlfn.ANCHORARRAY('Admin - Groups'!$D$9):'Admin - Groups'!$G$9,4,FALSE) -> 1 | N5: =COUNTIF(tblNameList[[#Headers],[Row]]:tblNameList[[#This Row],[Row]],tblNameList[[#This Row],[Row]]) -> 4 | O5: =((tblNameList[[#This Row],[Row]]-1)*'Admin - Seating Chart'!$B$4)+tblNameList[[#This Row],[Seat in Row]] -> 4
A6: 14456 | B6: Granny Silversmid | C6: Granny | D6: Silversmid | E6: gsilversmidh@ucoz.com | F6: 241-802-5757 | G6: Male | H6: 37602 | I6: 0 | J6: 2.46 | K6: Group 29 | L6: =_xlfn.XMATCH(tblNameList[[#This Row],[Group]],INDEX(_xlfn.ANCHORARRAY('Admin - Groups'!$D$9),,1)) -> 3 | M6: =VLOOKUP(tblNameList[[#This Row],[Group]],_xlfn.ANCHORARRAY('Admin - Groups'!$D$9):'Admin - Groups'!$G$9,4,FALSE) -> 1 | N6: =COUNTIF(tblNameList[[#Headers],[Row]]:tblNameList[[#This Row],[Row]],tblNameList[[#This Row],[Row]]) -> 5 | O6: =((tblNameList[[#This Row],[Row]]-1)*'Admin - Seating Chart'!$B$4)+tblNameList[[#This Row],[Seat in Row]] -> 5
A7: 32853 | B7: Leonid Pashenkov | C7: Leonid | D7: Pashenkov | E7: lpashenkov2f@bigcartel.com | F7: 305-556-0275 | G7: Male | H7: 36810 | I7: 6 | J7: 1.13 | K7: Group 29 | L7: =_xlfn.XMATCH(tblNameList[[#This Row],[Group]],INDEX(_xlfn.ANCHORARRAY('Admin - Groups'!$D$9),,1)) -> 3 | M7: =VLOOKUP(tblNameList[[#This Row],[Group]],_xlfn.ANCHORARRAY('Admin - Groups'!$D$9):'Admin - Groups'!$G$9,4,FALSE) -> 1 | N7: =COUNTIF(tblNameList[[#Headers],[Row]]:tblNameList[[#This Row],[Row]],tblNameList[[#This Row],[Row]]) -> 6 | O7: =((tblNameList[[#This Row],[Row]]-1)*'Admin - Seating Chart'!$B$4)+tblNameList[[#This Row],[Seat in Row]] -> 6
A8: 37191 | B8: Kip Bartoszewicz | C8: Kip | D8: Bartoszewicz | E8: kbartoszewicz2r@spotify.com | F8: 416-200-5920 | G8: Male | H8: 35771 | I8: 22 | J8: 2.06 | K8: Group 29 | L8: =_xlfn.XMATCH(tblNameList[[#This Row],[Group]],INDEX(_xlfn.ANCHORARRAY('Admin - Groups'!$D$9),,1)) -> 3 | M8: =VLOOKUP(tblNameList[[#This Row],[Group]],_xlfn.ANCHORARRAY('Admin - Groups'!$D$9):'Admin - Groups'!$G$9,4,FALSE) -> 1 | N8: =COUNTIF(tblNameList[[#Headers],[Row]]:tblNameList[[#This Row],[Row]],tblNameList[[#This Row],[Row]]) -> 7 | O8: =((tblNameList[[#This Row],[Row]]-1)*'Admin - Seating Chart'!$B$4)+tblNameList[[#This Row],[Seat in Row]] -> 7
A9: 18137 | B9: Drusi Molesworth | C9: Drusi | D9: Molesworth | E9: dmolesworthb@va.gov | F9: 199-723-4525 | G9: Female | H9: 38048 | I9: 21 | J9: 1.73 | K9: Group 27 | L9: =_xlfn.XMATCH(tblNameList[[#This Row],[Group]],INDEX(_xlfn.ANCHORARRAY('Admin - Groups'!$D$9),,1)) -> 4 | M9: =VLOOKUP(tblNameList[[#This Row],[Group]],_xlfn.ANCHORARRAY('Admin - Groups'!$D$9):'Admin - Groups'!$G$9,4,FALSE) -> 2 | N9: =COUNTIF(tblNameList[[#Headers],[Row]]:tblNameList[[#This Row],[Row]],tblNameList[[#This Row],[Row]]) -> 1 | O9: =((tblNameList[[#This Row],[Row]]-1)*'Admin - Seating Chart'!$B$4)+tblNameList[[#This Row],[Seat in Row]] -> 9
A10: 39074 | B10: Kerwin Annott | C10: Kerwin | D10: Annott | E10: kannott1d@webs.com | F10: 922-840-2775 | G10: Male | H10: 36227 | I10: 17 | J10: 2.54 | K10: Group 27 | L10: =_xlfn.XMATCH(tblNameList[[#This Row],[Group]],INDEX(_xlfn.ANCHORARRAY('Admin - Groups'!$D$9),,1)) -> 4 | M10: =VLOOKUP(tblNameList[[#This Row],[Group]],_xlfn.ANCHORARRAY('Admin - Groups'!$D$9):'Admin - Groups'!$G$9,4,FALSE) -> 2 | N10: =COUNTIF(tblNameList[[#Headers],[Row]]:tblNameList[[#This Row],[Row]],tblNameList[[#This Row],[Row]]) -> 2 | O10: =((tblNameList[[#This Row],[Row]]-1)*'Admin - Seating Chart'!$B$4)+tblNameList[[#This Row],[Seat in Row]] -> 10
A11: 31659 | B11: Herb Topp | C11: Herb | D11: Topp | E11: htopp1e@google.com.hk | F11: 836-596-7129 | G11: Male | H11: 35892 | I11: 1 | J11: 3.62 | K11: Group 27 | L11: =_xlfn.XMATCH(tblNameList[[#This Row],[Group]],INDEX(_xlfn.ANCHORARRAY('Admin - Groups'!$D$9),,1)) -> 4 | M11: =VLOOKUP(tblNameList[[#This Row],[Group]],_xlfn.ANCHORARRAY('Admin - Groups'!$D$9):'Admin - Groups'!$G$9,4,FALSE) -> 2 | N11: =COUNTIF(tblNameList[[#Headers],[Row]]:tblNameList[[#This Row],[Row]],tblNameList[[#This Row],[Row]]) -> 3 | O11: =((tblNameList[[#This Row],[Row]]-1)*'Admin - Seating Chart'!$B$4)+tblNameList[[#This Row],[Seat in Row]] -> 11
A12: 31603 | B12: Janina Sumpter | C12: Janina | D12: Sumpter | E12: jsumpter15@canalblog.com | F12: 891-992-3861 | G12: Female | H12: 36588 | I12: 13 | J12: 4 | K12: Group 03 | L12: =_xlfn.XMATCH(tblNameList[[#This Row],[Group]],INDEX(_xlfn.ANCHORARRAY('Admin - Groups'!$D$9),,1)) -> 5 | M12: =VLOOKUP(tblNameList[[#This Row],[Group]],_xlfn.ANCHORARRAY('Admin - Groups'!$D$9):'Admin - Groups'!$G$9,4,FALSE) -> 2 | N12: =COUNTIF(tblNameList[[#Headers],[Row]]:tblNameList[[#This Row],[Row]],tblNameList[[#This Row],[Row]]) -> 4 | O12: =((tblNameList[[#This Row],[Row]]-1)*'Admin - Seating Chart'!$B$4)+tblNameList[[#This Row],[Seat in Row]] -> 12
A13: 24509 | B13: Andrey Wickerson | C13: Andrey | D13: Wickerson | E13: awickersonn@istockphoto.com | F13: 160-854-9136 | G13: Male | H13: 35569 | I13: 21 | J13: 3.98 | K13: Group 24 | L13: =_xlfn.XMATCH(tblNameList[[#This Row],[Group]],INDEX(_xlfn.ANCHORARRAY('Admin - Groups'!$D$9),,1)) -> 6 | M13: =VLOOKUP(tblNameList[[#This Row],[Group]],_xlfn.ANCHORARRAY('Admin - Groups'!$D$9):'Admin - Groups'!$G$9,4,FALSE) -> 2 | N13: =COUNTIF(tblNameList[[#Headers],[Row]]:tblNameList[[#This Row],[Row]],tblNameList[[#This Row],[Row]]) -> 5 | O13: =((tblNameList[[#This Row],[Row]]-1)*'Admin - Seating Chart'!$B$4)+tblNameList[[#This Row],[Seat in Row]] -> 13
... A91: 24405 | B91: Honor Pearmine | C91: Honor | D91: Pearmine | E91: hpearmine24@ucoz.com | F91: 790-775-5829 | G91: Female | H91: 37820 | I91: 20 | J91: 2.83 | K91: Group 37 | L91: =_xlfn.XMATCH(tblNameList[[#This Row],[Group]],INDEX(_xlfn.ANCHORARRAY('Admin - Groups'!$D$9),,1)) -> 36 | M91: =VLOOKUP(tblNameList[[#This Row],[Group]],_xlfn.ANCHORARRAY('Admin - Groups'!$D$9):'Admin - Groups'!$G$9,4,FALSE) -> 12 | N91: =COUNTIF(tblNameList[[#Headers],[Row]]:tblNameList[[#This Row],[Row]],tblNameList[[#This Row],[Row]]) -> 7 | O91: =((tblNameList[[#This Row],[Row]]-1)*'Admin - Seating Chart'!$B$4)+tblNameList[[#This Row],[Seat in Row]] -> 95

Sheet Names Data Type
A1: Personal Info | B1: ID | C1: Row | D1: Seat in Row | E1: Seat No. | F1: Full Name | G1: First Name | H1: Last Name | I1: Email | J1: Phone | K1: Gender | L1: Birthdate | M1: Absences | N1: GPA | O1: Group | P1: Group Order
A2: #VALUE! | B2: 14757 | C2: 1 | D2: 1 | E2: 1 | F2: Glyn Crockley | G2: Glyn | H2: Crockley | I2: gcrockley12@weibo.com | J2: 976-410-6678 | K2: Male | L2: 36622 | M2: 14 | N2: 1.31 | O2: Group 34 | P2: 1
A3: #VALUE! | B3: 21240 | C3: 1 | D3: 2 | E3: 2 | F3: Jeannine Stiff | G3: Jeannine | H3: Stiff | I3: jstiff1p@spiegel.de | J3: 810-288-4757 | K3: Female | L3: 37022 | M3: 21 | N3: 1.59 | O3: Group 34 | P3: 1
A4: #VALUE! | B4: 22393 | C4: 1 | D4: 3 | E4: 3 | F4: Imelda Dellar | G4: Imelda | H4: Dellar | I4: idellar20@tuttocitta.it | J4: 563-955-0805 | K4: Female | L4: 37099 | M4: 20 | N4: 1.68 | O4: Group 34 | P4: 1
A5: #VALUE! | B5: 11498 | C5: 1 | D5: 4 | E5: 4 | F5: Sansone McShane | G5: Sansone | H5: McShane | I5: smcshanex@google.ca | J5: 269-924-1840 | K5: Male | L5: 37838 | M5: 5 | N5: 2.22 | O5: Group 09 | P5: 2
A6: #VALUE! | B6: 14456 | C6: 1 | D6: 5 | E6: 5 | F6: Granny Silversmid | G6: Granny | H6: Silversmid | I6: gsilversmidh@ucoz.com | J6: 241-802-5757 | K6: Male | L6: 37602 | M6: 0 | N6: 2.46 | O6: Group 29 | P6: 3
A7: #VALUE! | B7: 32853 | C7: 1 | D7: 6 | E7: 6 | F7: Leonid Pashenkov | G7: Leonid | H7: Pashenkov | I7: lpashenkov2f@bigcartel.com | J7: 305-556-0275 | K7: Male | L7: 36810 | M7: 6 | N7: 1.13 | O7: Group 29 | P7: 3
A8: #VALUE! | B8: 37191 | C8: 1 | D8: 7 | E8: 7 | F8: Kip Bartoszewicz | G8: Kip | H8: Bartoszewicz | I8: kbartoszewicz2r@spotify.com | J8: 416-200-5920 | K8: Male | L8: 35771 | M8: 22 | N8: 2.06 | O8: Group 29 | P8: 3
A9: #VALUE! | B9: 18137 | C9: 2 | D9: 1 | E9: 9 | F9: Drusi Molesworth | G9: Drusi | H9: Molesworth | I9: dmolesworthb@va.gov | J9: 199-723-4525 | K9: Female | L9: 38048 | M9: 21 | N9: 1.73 | O9: Group 27 | P9: 4
A10: #VALUE! | B10: 39074 | C10: 2 | D10: 2 | E10: 10 | F10: Kerwin Annott | G10: Kerwin | H10: Annott | I10: kannott1d@webs.com | J10: 922-840-2775 | K10: Male | L10: 36227 | M10: 17 | N10: 2.54 | O10: Group 27 | P10: 4
A11: #VALUE! | B11: 31659 | C11: 2 | D11: 3 | E11: 11 | F11: Herb Topp | G11: Herb | H11: Topp | I11: htopp1e@google.com.hk | J11: 836-596-7129 | K11: Male | L11: 35892 | M11: 1 | N11: 3.62 | O11: Group 27 | P11: 4
A12: #VALUE! | B12: 31603 | C12: 2 | D12: 4 | E12: 12 | F12: Janina Sumpter | G12: Janina | H12: Sumpter | I12: jsumpter15@canalblog.com | J12: 891-992-3861 | K12: Female | L12: 36588 | M12: 13 | N12: 4 | O12: Group 03 | P12: 5
A13: #VALUE! | B13: 24509 | C13: 2 | D13: 5 | E13: 13 | F13: Andrey Wickerson | G13: Andrey | H13: Wickerson | I13: awickersonn@istockphoto.com | J13: 160-854-9136 | K13: Male | L13: 35569 | M13: 21 | N13: 3.98 | O13: Group 24 | P13: 6
... A91: #VALUE! | B91: 24405 | C91: 12 | D91: 7 | E91: 95 | F91: Honor Pearmine | G91: Honor | H91: Pearmine | I91: hpearmine24@ucoz.com | J91: 790-775-5829 | K91: Female | L91: 37820 | M91: 20 | N91: 2.83 | O91: Group 37 | P91: 36

Sheet Admin - Seating Chart
A1: Admin - Seating Chart
A3: Total Headcount | B3: =COUNTA(tblNameList[Full Name]) -> 90
A4: Seats per row/table | B4: 8
A5: Rows/tables | B5: =ROUNDUP(B3/B4,0) -> 12
A7: Sort By | B7: Last Name | C7: =IF(B8="Random","'Admin - Seating Chart'!C11#","Names_Data_Type["&B7&"]") -> Names_Data_Type[Last Name]
A8: Sort Order | B8: Ascending | C8: =IF(B8="Ascending",1,-1) -> 1
F10: Seating Chart
C11: Random Sort Order | F11: {=_xlfn.SEQUENCE(,B4)} -> 1 | G11: 2 | H11: 3 | I11: 4 | J11: 5 | K11: 6 | L11: 7 | M11: 8
C12: {=_xlfn.RANDARRAY(B3)} -> 0.53386234 | E12: {=_xlfn.SEQUENCE(B5)} -> 1 | F12: {=IFERROR(INDEX(_xlfn.SORTBY(Names_Data_Type[Personal Info],INDIRECT(C7),C8),_xlfn.SEQUENCE(B5,B4)),"")} -> #VALUE! | G12: #VALUE! | H12: #VALUE! | I12: #VALUE! | J12: #VALUE! | K12: #VALUE! | L12: #VALUE! | M12: #VALUE!
C13: 0.2837056 | E13: 2 | F13: #VALUE! | G13: #VALUE! | H13: #VALUE! | I13: #VALUE! | J13: #VALUE! | K13: #VALUE! | L13: #VALUE! | M13: #VALUE!
C14: 0.12407177 | E14: 3 | F14: #VALUE! | G14: #VALUE! | H14: #VALUE! | I14: #VALUE! | J14: #VALUE! | K14: #VALUE! | L14: #VALUE! | M14: #VALUE!
C15: 0.21552984 | E15: 4 | F15: #VALUE! | G15: #VALUE! | H15: #VALUE! | I15: #VALUE! | J15: #VALUE! | K15: #VALUE! | L15: #VALUE! | M15: #VALUE!
C16: 0.28133897 | E16: 5 | F16: #VALUE! | G16: #VALUE! | H16: #VALUE! | I16: #VALUE! | J16: #VALUE! | K16: #VALUE! | L16: #VALUE! | M16: #VALUE!
C17: 0.094682186 | E17: 6 | F17: #VALUE! | G17: #VALUE! | H17: #VALUE! | I17: #VALUE! | J17: #VALUE! | K17: #VALUE! | L17: #VALUE! | M17: #VALUE!
C18: 0.3515067 | E18: 7 | F18: #VALUE! | G18: #VALUE! | H18: #VALUE! | I18: #VALUE! | J18: #VALUE! | K18: #VALUE! | L18: #VALUE! | M18: #VALUE!
C19: 0.28851356 | E19: 8 | F19: #VALUE! | G19: #VALUE! | H19: #VALUE! | I19: #VALUE! | J19: #VALUE! | K19: #VALUE! | L19: #VALUE! | M19: #VALUE!
C20: 0.22090544 | E20: 9 | F20: #VALUE! | G20: #VALUE! | H20: #VALUE! | I20: #VALUE! | J20: #VALUE! | K20: #VALUE! | L20: #VALUE! | M20: #VALUE!
C21: 0.18621451 | E21: 10 | F21: #VALUE! | G21: #VALUE! | H21: #VALUE! | I21: #VALUE! | J21: #VALUE! | K21: #VALUE! | L21: #VALUE! | M21: #VALUE!
C22: 0.65201296 | E22: 11 | F22: #VALUE! | G22: #VALUE! | H22: #VALUE! | I22: #VALUE! | J22: #VALUE! | K22: #VALUE! | L22: #VALUE! | M22: #VALUE!
C23: 0.42632444 | E23: 12 | F23: #VALUE! | G23: #VALUE!
C24: 0.55293141
C25: 0.83345898
C26: 0.53008107
C27: 0.8878824
C28: 0.56635305
C29: 0.1786699
C30: 0.66695263
C31: 0.89575515
C32: 0.74821935
C33: 0.44595699
C34: 0.0048039585
C35: 0.035190223
... C101: 0.45946307

Sheet Admin - Tables
A1: Admin - Tables
A3: Seats per table | B3: =rngSeatsPerTable -> 8
A4: Spacer between tables | B4: 2
A5: # of Tables Wide | B5: 4
A6: # of Tables Deep | B6: 3
A7: Total Tables | B7: =B5*B6 -> 12
D10: Seating Chart
D12: {=SUMIF(rngSeatPos,_xlfn.SEQUENCE(rngTotalRows,rngTotalCols),rngSeatNums)} -> 0 | E12: 0 | F12: 0 | G12: 1 | H12: 0 | I12: 0 | J12: 0 | K12: 0 | L12: 0 | M12: 0 | N12: 0 | O12: 0 | P12: 9 | Q12: 0 | R12: 0 | S12: 0 | T12: 0 | U12: 0 | V12: 0 | W12: 0 | X12: 0 | Y12: 17 | Z12: 0 | AA12: 0 | AB12: 0 | AC12: 0 | AD12: 0 | AE12: 0 | AF12: 0 | AG12: 0 | AH12: 25 | AI12: 0 | AJ12: 0 | AK12: 0
D13: 0 | E13: 8 | F13: 0 | G13: 0 | H13: 0 | I13: 2 | J13: 0 | K13: 0 | L13: 0 | M13: 0 | N13: 16 | O13: 0 | P13: 0 | Q13: 0 | R13: 10 | S13: 0 | T13: 0 | U13: 0 | V13: 0 | W13: 24 | X13: 0 | Y13: 0 | Z13: 0 | AA13: 18 | AB13: 0 | AC13: 0 | AD13: 0 | AE13: 0 | AF13: 32 | AG13: 0 | AH13: 0 | AI13: 0 | AJ13: 26 | AK13: 0
D14: 0 | E14: 0 | F14: 0 | G14: 0 | H14: 0 | I14: 0 | J14: 0 | K14: 0 | L14: 0 | M14: 0 | N14: 0 | O14: 0 | P14: 0 | Q14: 0 | R14: 0 | S14: 0 | T14: 0 | U14: 0 | V14: 0 | W14: 0 | X14: 0 | Y14: 0 | Z14: 0 | AA14: 0 | AB14: 0 | AC14: 0 | AD14: 0 | AE14: 0 | AF14: 0 | AG14: 0 | AH14: 0 | AI14: 0 | AJ14: 0 | AK14: 0
D15: 7 | E15: 0 | F15: 0 | G15: 0 | H15: 0 | I15: 0 | J15: 3 | K15: 0 | L15: 0 | M15: 15 | N15: 0 | O15: 0 | P15: 0 | Q15: 0 | R15: 0 | S15: 11 | T15: 0 | U15: 0 | V15: 23 | W15: 0 | X15: 0 | Y15: 0 | Z15: 0 | AA15: 0 | AB15: 19 | AC15: 0 | AD15: 0 | AE15: 31 | AF15: 0 | AG15: 0 | AH15: 0 | AI15: 0 | AJ15: 0 | AK15: 27
D16: 0 | E16: 0 | F16: 0 | G16: 0 | H16: 0 | I16: 0 | J16: 0 | K16: 0 | L16: 0 | M16: 0 | N16: 0 | O16: 0 | P16: 0 | Q16: 0 | R16: 0 | S16: 0 | T16: 0 | U16: 0 | V16: 0 | W16: 0 | X16: 0 | Y16: 0 | Z16: 0 | AA16: 0 | AB16: 0 | AC16: 0 | AD16: 0 | AE16: 0 | AF16: 0 | AG16: 0 | AH16: 0 | AI16: 0 | AJ16: 0 | AK16: 0
D17: 0 | E17: 6 | F17: 0 | G17: 0 | H17: 0 | I17: 4 | J17: 0 | K17: 0 | L17: 0 | M17: 0 | N17: 14 | O17: 0 | P17: 0 | Q17: 0 | R17: 12 | S17: 0 | T17: 0 | U17: 0 | V17: 0 | W17: 22 | X17: 0 | Y17: 0 | Z17: 0 | AA17: 20 | AB17: 0 | AC17: 0 | AD17: 0 | AE17: 0 | AF17: 30 | AG17: 0 | AH17: 0 | AI17: 0 | AJ17: 28 | AK17: 0
D18: 0 | E18: 0 | F18: 0 | G18: 5 | H18: 0 | I18: 0 | J18: 0 | K18: 0 | L18: 0 | M18: 0 | N18: 0 | O18: 0 | P18: 13 | Q18: 0 | R18: 0 | S18: 0 | T18: 0 | U18: 0 | V18: 0 | W18: 0 | X18: 0 | Y18: 21 | Z18: 0 | AA18: 0 | AB18: 0 | AC18: 0 | AD18: 0 | AE18: 0 | AF18: 0 | AG18: 0 | AH18: 29 | AI18: 0 | AJ18: 0 | AK18: 0
D19: 0 | E19: 0 | F19: 0 | G19: 0 | H19: 0 | I19: 0 | J19: 0 | K19: 0 | L19: 0 | M19: 0 | N19: 0 | O19: 0 | P19: 0 | Q19: 0 | R19: 0 | S19: 0 | T19: 0 | U19: 0 | V19: 0 | W19: 0 | X19: 0 | Y19: 0 | Z19: 0 | AA19: 0 | AB19: 0 | AC19: 0 | AD19: 0 | AE19: 0 | AF19: 0 | AG19: 0 | AH19: 0 | AI19: 0 | AJ19: 0 | AK19: 0
D20: 0 | E20: 0 | F20: 0 | G20: 0 | H20: 0 | I20: 0 | J20: 0 | K20: 0 | L20: 0 | M20: 0 | N20: 0 | O20: 0 | P20: 0 | Q20: 0 | R20: 0 | S20: 0 | T20: 0 | U20: 0 | V20: 0 | W20: 0 | X20: 0 | Y20: 0 | Z20: 0 | AA20: 0 | AB20: 0 | AC20: 0 | AD20: 0 | AE20: 0 | AF20: 0 | AG20: 0 | AH20: 0 | AI20: 0 | AJ20: 0 | AK20: 0
D21: 0 | E21: 0 | F21: 0 | G21: 33 | H21: 0 | I21: 0 | J21: 0 | K21: 0 | L21: 0 | M21: 0 | N21: 0 | O21: 0 | P21: 41 | Q21: 0 | R21: 0 | S21: 0 | T21: 0 | U21: 0 | V21: 0 | W21: 0 | X21: 0 | Y21: 49 | Z21: 0 | AA21: 0 | AB21: 0 | AC21: 0 | AD21: 0 | AE21: 0 | AF21: 0 | AG21: 0 | AH21: 57 | AI21: 0 | AJ21: 0 | AK21: 0
D22: 0 | E22: 40 | F22: 0 | G22: 0 | H22: 0 | I22: 34 | J22: 0 | K22: 0 | L22: 0 | M22: 0 | N22: 48 | O22: 0 | P22: 0 | Q22: 0 | R22: 42 | S22: 0 | T22: 0 | U22: 0 | V22: 0 | W22: 56 | X22: 0 | Y22: 0 | Z22: 0 | AA22: 50 | AB22: 0 | AC22: 0 | AD22: 0 | AE22: 0 | AF22: 64 | AG22: 0 | AH22: 0 | AI22: 0 | AJ22: 58 | AK22: 0
D23: 0 | E23: 0 | F23: 0 | G23: 0 | H23: 0 | I23: 0 | J23: 0 | K23: 0 | L23: 0 | M23: 0 | N23: 0 | O23: 0 | P23: 0 | Q23: 0 | R23: 0 | S23: 0 | T23: 0 | U23: 0 | V23: 0 | W23: 0 | X23: 0 | Y23: 0 | Z23: 0 | AA23: 0 | AB23: 0 | AC23: 0 | AD23: 0 | AE23: 0 | AF23: 0 | AG23: 0 | AH23: 0 | AI23: 0 | AJ23: 0 | AK23: 0
D24: 39 | E24: 0 | F24: 0 | G24: 0 | H24: 0 | I24: 0 | J24: 35 | K24: 0 | L24: 0 | M24: 47 | N24: 0 | O24: 0 | P24: 0 | Q24: 0 | R24: 0 | S24: 43 | T24: 0 | U24: 0 | V24: 55 | W24: 0 | X24: 0 | Y24: 0 | Z24: 0 | AA24: 0 | AB24: 51 | AC24: 0 | AD24: 0 | AE24: 63 | AF24: 0 | AG24: 0 | AH24: 0 | AI24: 0 | AJ24: 0 | AK24: 59
... D36: 0 | E36: 0 | F36: 0 | G36: 69 | H36: 0 | I36: 0 | J36: 0 | K36: 0 | L36: 0 | M36: 0 | N36: 0 | O36: 0 | P36: 77 | Q36: 0 | R36: 0 | S36: 0 | T36: 0 | U36: 0 | V36: 0 | W36: 0 | X36: 0 | Y36: 85 | Z36: 0 | AA36: 0 | AB36: 0 | AC36: 0 | AD36: 0 | AE36: 0 | AF36: 0 | AG36: 0 | AH36: 93 | AI36: 0 | AJ36: 0 | AK36: 0

Sheet Attendee - Seating Chart
B1: Dropdown link | C1: 31
B2: Name | C2: {=INDEX(_xlfn.ANCHORARRAY(Lists!C2),C1)} -> #VALUE!
B3: ID: | C3: {=_FV(C2,"ID")} -> 29064
B4: Row: | C4: {=_xlfn.XLOOKUP(C2,_xlfn.ANCHORARRAY(Lists!F2),_xlfn.ANCHORARRAY(Lists!H2))} -> 4
B5: Seat: | C5: =_xlfn.XMATCH(C2,_xlfn.ANCHORARRAY(Lists!F2)) -> 31
B6: Event: | C6: Data Analysis 101
B7: Host: | C7: Professor Carrie
B11: ="Welcome to "&C6 -> Welcome to Data Analysis 101
B12: ="with "&C7 -> with Professor Carrie
B14: Here is your first assignment!
B16: Step 1:
B17: Select your name from the dropdown
B18: to view your seat number.
B19: List is in alphabetical order by last name.
K20: Row
B21: Step 2: | K21: {=_xlfn.SEQUENCE('Admin - Seating Chart'!B5)} -> 1 | L21: {=_xlfn.SEQUENCE('Admin - Seating Chart'!$B$5,'Admin - Seating Chart'!$B$4)} -> 1 | M21: 2 | N21: 3 | O21: 4 | P21: 5 | Q21: 6 | R21: 7 | S21: 8
B22: Snap a pic of this screen with your phone. | K22: 2 | L22: 9 | M22: 10 | N22: 11 | O22: 12 | P22: 13 | Q22: 14 | R22: 15 | S22: 16
K23: 3 | L23: 17 | M23: 18 | N23: 19 | O23: 20 | P23: 21 | Q23: 22 | R23: 23 | S23: 24
B24: Step 3: | K24: 4 | L24: 25 | M24: 26 | N24: 27 | O24: 28 | P24: 29 | Q24: 30 | R24: 31 | S24: 32
B25: Take your seat & get ready to learn! | K25: 5 | L25: 33 | M25: 34 | N25: 35 | O25: 36 | P25: 37 | Q25: 38 | R25: 39 | S25: 40
K26: 6 | L26: 41 | M26: 42 | N26: 43 | O26: 44 | P26: 45 | Q26: 46 | R26: 47 | S26: 48
K27: 7 | L27: 49 | M27: 50 | N27: 51 | O27: 52 | P27: 53 | Q27: 54 | R27: 55 | S27: 56
K28: 8 | L28: 57 | M28: 58 | N28: 59 | O28: 60 | P28: 61 | Q28: 62 | R28: 63 | S28: 64
K29: 9 | L29: 65 | M29: 66 | N29: 67 | O29: 68 | P29: 69 | Q29: 70 | R29: 71 | S29: 72
K30: 10 | L30: 73 | M30: 74 | N30: 75 | O30: 76 | P30: 77 | Q30: 78 | R30: 79 | S30: 80
K31: 11 | L31: 81 | M31: 82 | N31: 83 | O31: 84 | P31: 85 | Q31: 86 | R31: 87 | S31: 88
K32: 12 | L32: 89 | M32: 90 | N32: 91 | O32: 92 | P32: 93 | Q32: 94 | R32: 95 | S32: 96

Sheet Attendee - Tables
C2: ="Welcome to "&'Attendee - Tables Setup'!$C$7 -> Welcome to Our Reception
C3: Here's how to find your seat.
C5: Step 1: | I5: {=SUMIF(rngSeatPos,_xlfn.SEQUENCE(rngTotalRows,rngTotalCols),rngSeatNums)} -> 0 | J5: 0 | K5: 0 | L5: 1 | M5: 0 | N5: 0 | O5: 0 | P5: 0 | Q5: 0 | R5: 0 | S5: 0 | T5: 0 | U5: 9 | V5: 0 | W5: 0 | X5: 0 | Y5: 0 | Z5: 0 | AA5: 0 | AB5: 0 | AC5: 0 | AD5: 17 | AE5: 0 | AF5: 0 | AG5: 0 | AH5: 0 | AI5: 0 | AJ5: 0 | AK5: 0 | AL5: 0 | AM5: 25 | AN5: 0 | AO5: 0 | AP5: 0
C6: Select your name from the dropdown below | I6: 0 | J6: 8 | K6: 0 | L6: 0 | M6: 0 | N6: 2 | O6: 0 | P6: 0 | Q6: 0 | R6: 0 | S6: 16 | T6: 0 | U6: 0 | V6: 0 | W6: 10 | X6: 0 | Y6: 0 | Z6: 0 | AA6: 0 | AB6: 24 | AC6: 0 | AD6: 0 | AE6: 0 | AF6: 18 | AG6: 0 | AH6: 0 | AI6: 0 | AJ6: 0 | AK6: 32 | AL6: 0 | AM6: 0 | AN6: 0 | AO6: 26 | AP6: 0
C7: to view your seat number. | I7: 0 | J7: 0 | K7: 0 | L7: 0 | M7: 0 | N7: 0 | O7: 0 | P7: 0 | Q7: 0 | R7: 0 | S7: 0 | T7: 0 | U7: 0 | V7: 0 | W7: 0 | X7: 0 | Y7: 0 | Z7: 0 | AA7: 0 | AB7: 0 | AC7: 0 | AD7: 0 | AE7: 0 | AF7: 0 | AG7: 0 | AH7: 0 | AI7: 0 | AJ7: 0 | AK7: 0 | AL7: 0 | AM7: 0 | AN7: 0 | AO7: 0 | AP7: 0
C8: List is in alphabetical order by last name. | I8: 7 | J8: 0 | K8: 0 | L8: 0 | M8: 0 | N8: 0 | O8: 3 | P8: 0 | Q8: 0 | R8: 15 | S8: 0 | T8: 0 | U8: 0 | V8: 0 | W8: 0 | X8: 11 | Y8: 0 | Z8: 0 | AA8: 23 | AB8: 0 | AC8: 0 | AD8: 0 | AE8: 0 | AF8: 0 | AG8: 19 | AH8: 0 | AI8: 0 | AJ8: 31 | AK8: 0 | AL8: 0 | AM8: 0 | AN8: 0 | AO8: 0 | AP8: 27
I9: 0 | J9: 0 | K9: 0 | L9: 0 | M9: 0 | N9: 0 | O9: 0 | P9: 0 | Q9: 0 | R9: 0 | S9: 0 | T9: 0 | U9: 0 | V9: 0 | W9: 0 | X9: 0 | Y9: 0 | Z9: 0 | AA9: 0 | AB9: 0 | AC9: 0 | AD9: 0 | AE9: 0 | AF9: 0 | AG9: 0 | AH9: 0 | AI9: 0 | AJ9: 0 | AK9: 0 | AL9: 0 | AM9: 0 | AN9: 0 | AO9: 0 | AP9: 0
C10: Step 2: | I10: 0 | J10: 6 | K10: 0 | L10: 0 | M10: 0 | N10: 4 | O10: 0 | P10: 0 | Q10: 0 | R10: 0 | S10: 14 | T10: 0 | U10: 0 | V10: 0 | W10: 12 | X10: 0 | Y10: 0 | Z10: 0 | AA10: 0 | AB10: 22 | AC10: 0 | AD10: 0 | AE10: 0 | AF10: 20 | AG10: 0 | AH10: 0 | AI10: 0 | AJ10: 0 | AK10: 30 | AL10: 0 | AM10: 0 | AN10: 0 | AO10: 28 | AP10: 0
C11: Snap a pic of this screen with your phone. | I11: 0 | J11: 0 | K11: 0 | L11: 5 | M11: 0 | N11: 0 | O11: 0 | P11: 0 | Q11: 0 | R11: 0 | S11: 0 | T11: 0 | U11: 13 | V11: 0 | W11: 0 | X11: 0 | Y11: 0 | Z11: 0 | AA11: 0 | AB11: 0 | AC11: 0 | AD11: 21 | AE11: 0 | AF11: 0 | AG11: 0 | AH11: 0 | AI11: 0 | AJ11: 0 | AK11: 0 | AL11: 0 | AM11: 29 | AN11: 0 | AO11: 0 | AP11: 0
I12: 0 | J12: 0 | K12: 0 | L12: 0 | M12: 0 | N12: 0 | O12: 0 | P12: 0 | Q12: 0 | R12: 0 | S12: 0 | T12: 0 | U12: 0 | V12: 0 | W12: 0 | X12: 0 | Y12: 0 | Z12: 0 | AA12: 0 | AB12: 0 | AC12: 0 | AD12: 0 | AE12: 0 | AF12: 0 | AG12: 0 | AH12: 0 | AI12: 0 | AJ12: 0 | AK12: 0 | AL12: 0 | AM12: 0 | AN12: 0 | AO12: 0 | AP12: 0
C13: Step 3: | I13: 0 | J13: 0 | K13: 0 | L13: 0 | M13: 0 | N13: 0 | O13: 0 | P13: 0 | Q13: 0 | R13: 0 | S13: 0 | T13: 0 | U13: 0 | V13: 0 | W13: 0 | X13: 0 | Y13: 0 | Z13: 0 | AA13: 0 | AB13: 0 | AC13: 0 | AD13: 0 | AE13: 0 | AF13: 0 | AG13: 0 | AH13: 0 | AI13: 0 | AJ13: 0 | AK13: 0 | AL13: 0 | AM13: 0 | AN13: 0 | AO13: 0 | AP13: 0
C14: Take your seat & have fun! | I14: 0 | J14: 0 | K14: 0 | L14: 33 | M14: 0 | N14: 0 | O14: 0 | P14: 0 | Q14: 0 | R14: 0 | S14: 0 | T14: 0 | U14: 41 | V14: 0 | W14: 0 | X14: 0 | Y14: 0 | Z14: 0 | AA14: 0 | AB14: 0 | AC14: 0 | AD14: 49 | AE14: 0 | AF14: 0 | AG14: 0 | AH14: 0 | AI14: 0 | AJ14: 0 | AK14: 0 | AL14: 0 | AM14: 57 | AN14: 0 | AO14: 0 | AP14: 0
I15: 0 | J15: 40 | K15: 0 | L15: 0 | M15: 0 | N15: 34 | O15: 0 | P15: 0 | Q15: 0 | R15: 0 | S15: 48 | T15: 0 | U15: 0 | V15: 0 | W15: 42 | X15: 0 | Y15: 0 | Z15: 0 | AA15: 0 | AB15: 56 | AC15: 0 | AD15: 0 | AE15: 0 | AF15: 50 | AG15: 0 | AH15: 0 | AI15: 0 | AJ15: 0 | AK15: 64 | AL15: 0 | AM15: 0 | AN15: 0 | AO15: 58 | AP15: 0
I16: 0 | J16: 0 | K16: 0 | L16: 0 | M16: 0 | N16: 0 | O16: 0 | P16: 0 | Q16: 0 | R16: 0 | S16: 0 | T16: 0 | U16: 0 | V16: 0 | W16: 0 | X16: 0 | Y16: 0 | Z16: 0 | AA16: 0 | AB16: 0 | AC16: 0 | AD16: 0 | AE16: 0 | AF16: 0 | AG16: 0 | AH16: 0 | AI16: 0 | AJ16: 0 | AK16: 0 | AL16: 0 | AM16: 0 | AN16: 0 | AO16: 0 | AP16: 0
I17: 39 | J17: 0 | K17: 0 | L17: 0 | M17: 0 | N17: 0 | O17: 35 | P17: 0 | Q17: 0 | R17: 47 | S17: 0 | T17: 0 | U17: 0 | V17: 0 | W17: 0 | X17: 43 | Y17: 0 | Z17: 0 | AA17: 55 | AB17: 0 | AC17: 0 | AD17: 0 | AE17: 0 | AF17: 0 | AG17: 51 | AH17: 0 | AI17: 0 | AJ17: 63 | AK17: 0 | AL17: 0 | AM17: 0 | AN17: 0 | AO17: 0 | AP17: 59
I18: 0 | J18: 0 | K18: 0 | L18: 0 | M18: 0 | N18: 0 | O18: 0 | P18: 0 | Q18: 0 | R18: 0 | S18: 0 | T18: 0 | U18: 0 | V18: 0 | W18: 0 | X18: 0 | Y18: 0 | Z18: 0 | AA18: 0 | AB18: 0 | AC18: 0 | AD18: 0 | AE18: 0 | AF18: 0 | AG18: 0 | AH18: 0 | AI18: 0 | AJ18: 0 | AK18: 0 | AL18: 0 | AM18: 0 | AN18: 0 | AO18: 0 | AP18: 0
C19: You are seated at: | D19: ="Table # "&'Attendee - Tables Setup'!C5 -> Table # 6 | I19: 0 | J19: 38 | K19: 0 | L19: 0 | M19: 0 | N19: 36 | O19: 0 | P19: 0 | Q19: 0 | R19: 0 | S19: 46 | T19: 0 | U19: 0 | V19: 0 | W19: 44 | X19: 0 | Y19: 0 | Z19: 0 | AA19: 0 | AB19: 54 | AC19: 0 | AD19: 0 | AE19: 0 | AF19: 52 | AG19: 0 | AH19: 0 | AI19: 0 | AJ19: 0 | AK19: 62 | AL19: 0 | AM19: 0 | AN19: 0 | AO19: 60 | AP19: 0
I20: 0 | J20: 0 | K20: 0 | L20: 37 | M20: 0 | N20: 0 | O20: 0 | P20: 0 | Q20: 0 | R20: 0 | S20: 0 | T20: 0 | U20: 45 | V20: 0 | W20: 0 | X20: 0 | Y20: 0 | Z20: 0 | AA20: 0 | AB20: 0 | AC20: 0 | AD20: 53 | AE20: 0 | AF20: 0 | AG20: 0 | AH20: 0 | AI20: 0 | AJ20: 0 | AK20: 0 | AL20: 0 | AM20: 61 | AN20: 0 | AO20: 0 | AP20: 0
C21: Group Members | D21: Seat # | I21: 0 | J21: 0 | K21: 0 | L21: 0 | M21: 0 | N21: 0 | O21: 0 | P21: 0 | Q21: 0 | R21: 0 | S21: 0 | T21: 0 | U21: 0 | V21: 0 | W21: 0 | X21: 0 | Y21: 0 | Z21: 0 | AA21: 0 | AB21: 0 | AC21: 0 | AD21: 0 | AE21: 0 | AF21: 0 | AG21: 0 | AH21: 0 | AI21: 0 | AJ21: 0 | AK21: 0 | AL21: 0 | AM21: 0 | AN21: 0 | AO21: 0 | AP21: 0
C22: {=_xlfn._xlws.FILTER(tblNameList[Full Name],tblNameList[Group]='Attendee - Tables Setup'!C6)} -> Enrica Withull | D22: {=_xlfn._xlws.FILTER(tblNameList[Seat No.],tblNameList[Group]='Attendee - Tables Setup'!C6)} -> 43 | I22: 0 | J22: 0 | K22: 0 | L22: 0 | M22: 0 | N22: 0 | O22: 0 | P22: 0 | Q22: 0 | R22: 0 | S22: 0 | T22: 0 | U22: 0 | V22: 0 | W22: 0 | X22: 0 | Y22: 0 | Z22: 0 | AA22: 0 | AB22: 0 | AC22: 0 | AD22: 0 | AE22: 0 | AF22: 0 | AG22: 0 | AH22: 0 | AI22: 0 | AJ22: 0 | AK22: 0 | AL22: 0 | AM22: 0 | AN22: 0 | AO22: 0 | AP22: 0
C23: Felicio Isaksen | D23: 44 | I23: 0 | J23: 0 | K23: 0 | L23: 65 | M23: 0 | N23: 0 | O23: 0 | P23: 0 | Q23: 0 | R23: 0 | S23: 0 | T23: 0 | U23: 73 | V23: 0 | W23: 0 | X23: 0 | Y23: 0 | Z23: 0 | AA23: 0 | AB23: 0 | AC23: 0 | AD23: 81 | AE23: 0 | AF23: 0 | AG23: 0 | AH23: 0 | AI23: 0 | AJ23: 0 | AK23: 0 | AL23: 0 | AM23: 89 | AN23: 0 | AO23: 0 | AP23: 0
C24: Del Andretti | D24: 45 | I24: 0 | J24: 72 | K24: 0 | L24: 0 | M24: 0 | N24: 66 | O24: 0 | P24: 0 | Q24: 0 | R24: 0 | S24: 80 | T24: 0 | U24: 0 | V24: 0 | W24: 74 | X24: 0 | Y24: 0 | Z24: 0 | AA24: 0 | AB24: 88 | AC24: 0 | AD24: 0 | AE24: 0 | AF24: 82 | AG24: 0 | AH24: 0 | AI24: 0 | AJ24: 0 | AK24: 96 | AL24: 0 | AM24: 0 | AN24: 0 | AO24: 90 | AP24: 0
C25: Miof Roche | D25: 46 | I25: 0 | J25: 0 | K25: 0 | L25: 0 | M25: 0 | N25: 0 | O25: 0 | P25: 0 | Q25: 0 | R25: 0 | S25: 0 | T25: 0 | U25: 0 | V25: 0 | W25: 0 | X25: 0 | Y25: 0 | Z25: 0 | AA25: 0 | AB25: 0 | AC25: 0 | AD25: 0 | AE25: 0 | AF25: 0 | AG25: 0 | AH25: 0 | AI25: 0 | AJ25: 0 | AK25: 0 | AL25: 0 | AM25: 0 | AN25: 0 | AO25: 0 | AP25: 0
I26: 71 | J26: 0 | K26: 0 | L26: 0 | M26: 0 | N26: 0 | O26: 67 | P26: 0 | Q26: 0 | R26: 79 | S26: 0 | T26: 0 | U26: 0 | V26: 0 | W26: 0 | X26: 75 | Y26: 0 | Z26: 0 | AA26: 87 | AB26: 0 | AC26: 0 | AD26: 0 | AE26: 0 | AF26: 0 | AG26: 83 | AH26: 0 | AI26: 0 | AJ26: 95 | AK26: 0 | AL26: 0 | AM26: 0 | AN26: 0 | AO26: 0 | AP26: 91
I27: 0 | J27: 0 | K27: 0 | L27: 0 | M27: 0 | N27: 0 | O27: 0 | P27: 0 | Q27: 0 | R27: 0 | S27: 0 | T27: 0 | U27: 0 | V27: 0 | W27: 0 | X27: 0 | Y27: 0 | Z27: 0 | AA27: 0 | AB27: 0 | AC27: 0 | AD27: 0 | AE27: 0 | AF27: 0 | AG27: 0 | AH27: 0 | AI27: 0 | AJ27: 0 | AK27: 0 | AL27: 0 | AM27: 0 | AN27: 0 | AO27: 0 | AP27: 0
I28: 0 | J28: 70 | K28: 0 | L28: 0 | M28: 0 | N28: 68 | O28: 0 | P28: 0 | Q28: 0 | R28: 0 | S28: 78 | T28: 0 | U28: 0 | V28: 0 | W28: 76 | X28: 0 | Y28: 0 | Z28: 0 | AA28: 0 | AB28: 86 | AC28: 0 | AD28: 0 | AE28: 0 | AF28: 84 | AG28: 0 | AH28: 0 | AI28: 0 | AJ28: 0 | AK28: 94 | AL28: 0 | AM28: 0 | AN28: 0 | AO28: 92 | AP28: 0
I29: 0 | J29: 0 | K29: 0 | L29: 69 | M29: 0 | N29: 0 | O29: 0 | P29: 0 | Q29: 0 | R29: 0 | S29: 0 | T29: 0 | U29: 77 | V29: 0 | W29: 0 | X29: 0 | Y29: 0 | Z29: 0 | AA29: 0 | AB29: 0 | AC29: 0 | AD29: 85 | AE29: 0 | AF29: 0 | AG29: 0 | AH29: 0 | AI29: 0 | AJ29: 0 | AK29: 0 | AL29: 0 | AM29: 93 | AN29: 0 | AO29: 0 | AP29: 0

Sheet Admin - Groups
A1: Admin - Groups
F3: Seats per row | G3: ='Admin - Seating Chart'!B4 -> 8
F4: Max Rows | G4: =MAX(G9:G48) -> 12
F5: Total seats | G5: =G3*G4 -> 96
A7: Group Order | J7: Sorted List | N7: Full List (including empty seats)
A8: Group Name | B8: Qty | C8: Solver Order | D8: Sorted Groups | E8: Sorted Qty | F8: Running Total | G8: Row # | J8: Group Sorted | K8: Name Sorted | L8: Seat No. | N8: All Seats | O8: Full List | P8: Group | R8: Seating Chart | AB8: Seating Chart - Groups
A9: {=_xlfn._xlws.SORT(_xlfn.UNIQUE(tblNameList[Group]))} -> Group 01 | B9: {=COUNTIF(tblNameList[Group],_xlfn.ANCHORARRAY(A9))} -> 2 | C9: 18 | D9: {=_xlfn.SORTBY(_xlfn.ANCHORARRAY(A9),INDEX(_xlfn.ANCHORARRAY(A9):C9,,3))} -> Group 34 | E9: {=_xlfn.SORTBY(_xlfn.ANCHORARRAY(B9),INDEX(_xlfn.ANCHORARRAY(A9):C9,,3))} -> 3 | F9: =E9 -> 3 | G9: 1 | J9: {=_xlfn.SORTBY(Names_Data_Type[Group],Names_Data_Type[Seat No.])} -> Group 34 | K9: {=_xlfn.SORTBY(Names_Data_Type[Personal Info],_FV(Names_Data_Type[Personal Info],"Seat No.",TRUE))} -> #VALUE! | L9: {=_FV(Names_Data_Type[Personal Info],"Seat No.",TRUE)} -> 1 | N9: {=_xlfn.SEQUENCE(MAX(_xlfn.ANCHORARRAY(L9)))} -> 1 | O9: {=_xlfn.XLOOKUP(_xlfn.ANCHORARRAY(N9),_xlfn.ANCHORARRAY(L9),_xlfn.ANCHORARRAY(K9),"EMPTY")} -> #VALUE! | P9: {=IFERROR(_FV(_xlfn.ANCHORARRAY(O9),"Group"),"EMPTY")} -> Group 34 | R9: {=IFERROR(INDEX(_xlfn.ANCHORARRAY(O9),_xlfn.SEQUENCE(G4,G3)),"Not Needed")} -> #VALUE! | S9: #VALUE! | T9: #VALUE! | U9: #VALUE! | V9: #VALUE! | W9: #VALUE! | X9: #VALUE! | Y9: EMPTY | AB9: {=IFERROR(_FV(_xlfn.ANCHORARRAY(R9),"Group"),"EMPTY")} -> Group 34 | AC9: Group 34 | AD9: Group 34 | AE9: Group 09 | AF9: Group 29 | AG9: Group 29 | AH9: Group 29 | AI9: EMPTY
A10: Group 02 | B10: 1 | C10: 25 | D10: Group 09 | E10: 1 | F10: =IF(F9+E10>$G$3,E10,F9+E10) -> 4 | G10: =IF(F9+E10>$G$3,G9+1,G9) -> 1 | J10: Group 34 | K10: #VALUE! | L10: 2 | N10: 2 | O10: #VALUE! | P10: Group 34 | R10: #VALUE! | S10: #VALUE! | T10: #VALUE! | U10: #VALUE! | V10: #VALUE! | W10: #VALUE! | X10: #VALUE! | Y10: EMPTY | AB10: Group 27 | AC10: Group 27 | AD10: Group 27 | AE10: Group 03 | AF10: Group 24 | AG10: Group 24 | AH10: Group 24 | AI10: EMPTY
A11: Group 03 | B11: 1 | C11: 5 | D11: Group 29 | E11: 3 | F11: =IF(F10+E11>$G$3,E11,F10+E11) -> 7 | G11: =IF(F10+E11>$G$3,G10+1,G10) -> 1 | J11: Group 34 | K11: #VALUE! | L11: 3 | N11: 3 | O11: #VALUE! | P11: Group 34 | R11: #VALUE! | S11: #VALUE! | T11: #VALUE! | U11: #VALUE! | V11: #VALUE! | W11: #VALUE! | X11: #VALUE! | Y11: #VALUE! | AB11: Group 06 | AC11: Group 06 | AD11: Group 06 | AE11: Group 21 | AF11: Group 21 | AG11: Group 21 | AH11: Group 20 | AI11: Group 20
A12: Group 06 | B12: 3 | C12: 7 | D12: Group 27 | E12: 3 | F12: =IF(F11+E12>$G$3,E12,F11+E12) -> 3 | G12: =IF(F11+E12>$G$3,G11+1,G11) -> 2 | J12: Group 09 | K12: #VALUE! | L12: 4 | N12: 4 | O12: #VALUE! | P12: Group 09 | R12: #VALUE! | S12: #VALUE! | T12: #VALUE! | U12: #VALUE! | V12: #VALUE! | W12: #VALUE! | X12: #VALUE! | Y12: #VALUE! | AB12: Group 11 | AC12: Group 12 | AD12: Group 12 | AE12: Group 12 | AF12: Group 33 | AG12: Group 33 | AH12: Group 33 | AI12: Group 33
A13: Group 07 | B13: 4 | C13: 17 | D13: Group 03 | E13: 1 | F13: =IF(F12+E13>$G$3,E13,F12+E13) -> 4 | G13: =IF(F12+E13>$G$3,G12+1,G12) -> 2 | J13: Group 29 | K13: #VALUE! | L13: 5 | N13: 5 | O13: #VALUE! | P13: Group 29 | R13: #VALUE! | S13: #VALUE! | T13: #VALUE! | U13: #VALUE! | V13: #VALUE! | W13: #VALUE! | X13: #VALUE! | Y13: EMPTY | AB13: Group 36 | AC13: Group 36 | AD13: Group 35 | AE13: Group 35 | AF13: Group 35 | AG13: Group 35 | AH13: Group 26 | AI13: EMPTY
A14: Group 08 | B14: 3 | C14: 19 | D14: Group 24 | E14: 3 | F14: =IF(F13+E14>$G$3,E14,F13+E14) -> 7 | G14: =IF(F13+E14>$G$3,G13+1,G13) -> 2 | J14: Group 29 | K14: #VALUE! | L14: 6 | N14: 6 | O14: #VALUE! | P14: Group 29 | R14: #VALUE! | S14: #VALUE! | T14: #VALUE! | U14: #VALUE! | V14: #VALUE! | W14: #VALUE! | X14: #VALUE! | Y14: #VALUE! | AB14: Group 19 | AC14: Group 19 | AD14: Group 07 | AE14: Group 07 | AF14: Group 07 | AG14: Group 07 | AH14: Group 01 | AI14: Group 01
A15: Group 09 | B15: 1 | C15: 2 | D15: Group 06 | E15: 3 | F15: =IF(F14+E15>$G$3,E15,F14+E15) -> 3 | G15: =IF(F14+E15>$G$3,G14+1,G14) -> 3 | J15: Group 29 | K15: #VALUE! | L15: 7 | N15: 7 | O15: #VALUE! | P15: Group 29 | R15: #VALUE! | S15: #VALUE! | T15: #VALUE! | U15: #VALUE! | V15: #VALUE! | W15: #VALUE! | X15: #VALUE! | Y15: EMPTY | AB15: Group 08 | AC15: Group 08 | AD15: Group 08 | AE15: Group 17 | AF15: Group 17 | AG15: Group 17 | AH15: Group 25 | AI15: EMPTY
A16: Group 10 | B16: 4 | C16: 28 | D16: Group 21 | E16: 3 | F16: =IF(F15+E16>$G$3,E16,F15+E16) -> 6 | G16: =IF(F15+E16>$G$3,G15+1,G15) -> 3 | J16: Group 27 | K16: #VALUE! | L16: 9 | N16: 8 | O16: EMPTY | P16: EMPTY | R16: #VALUE! | S16: #VALUE! | T16: #VALUE! | U16: #VALUE! | V16: #VALUE! | W16: #VALUE! | X16: #VALUE! | Y16: #VALUE! | AB16: Group 31 | AC16: Group 31 | AD16: Group 31 | AE16: Group 31 | AF16: Group 16 | AG16: Group 16 | AH16: Group 16 | AI16: Group 16
A17: Group 11 | B17: 1 | C17: 10 | D17: Group 20 | E17: 2 | F17: =IF(F16+E17>$G$3,E17,F16+E17) -> 8 | G17: =IF(F16+E17>$G$3,G16+1,G16) -> 3 | J17: Group 27 | K17: #VALUE! | L17: 10 | N17: 9 | O17: #VALUE! | P17: Group 27 | R17: #VALUE! | S17: #VALUE! | T17: #VALUE! | U17: #VALUE! | V17: #VALUE! | W17: #VALUE! | X17: #VALUE! | Y17: EMPTY | AB17: Group 32 | AC17: Group 32 | AD17: Group 32 | AE17: Group 02 | AF17: Group 14 | AG17: Group 14 | AH17: Group 14 | AI17: EMPTY
A18: Group 12 | B18: 3 | C18: 11 | D18: Group 11 | E18: 1 | F18: =IF(F17+E18>$G$3,E18,F17+E18) -> 1 | G18: =IF(F17+E18>$G$3,G17+1,G17) -> 4 | J18: Group 27 | K18: #VALUE! | L18: 11 | N18: 10 | O18: #VALUE! | P18: Group 27 | R18: #VALUE! | S18: #VALUE! | T18: #VALUE! | U18: #VALUE! | V18: #VALUE! | W18: #VALUE! | X18: #VALUE! | Y18: #VALUE! | AB18: Group 13 | AC18: Group 13 | AD18: Group 13 | AE18: Group 10 | AF18: Group 10 | AG18: Group 10 | AH18: Group 10 | AI18: Group 15
A19: Group 13 | B19: 3 | C19: 27 | D19: Group 12 | E19: 3 | F19: =IF(F18+E19>$G$3,E19,F18+E19) -> 4 | G19: =IF(F18+E19>$G$3,G18+1,G18) -> 4 | J19: Group 03 | K19: #VALUE! | L19: 12 | N19: 11 | O19: #VALUE! | P19: Group 27 | R19: #VALUE! | S19: #VALUE! | T19: #VALUE! | U19: #VALUE! | V19: #VALUE! | W19: #VALUE! | X19: #VALUE! | Y19: #VALUE! | AB19: Group 22 | AC19: Group 22 | AD19: Group 30 | AE19: Group 30 | AF19: Group 38 | AG19: Group 38 | AH19: Group 38 | AI19: Group 38
A20: Group 14 | B20: 3 | C20: 26 | D20: Group 33 | E20: 4 | F20: =IF(F19+E20>$G$3,E20,F19+E20) -> 8 | G20: =IF(F19+E20>$G$3,G19+1,G19) -> 4 | J20: Group 24 | K20: #VALUE! | L20: 13 | N20: 12 | O20: #VALUE! | P20: Group 03 | R20: #VALUE! | S20: #VALUE! | T20: #VALUE! | U20: #VALUE! | V20: #VALUE! | W20: #VALUE! | X20: #VALUE! | Y20: Not Needed | AB20: Group 23 | AC20: Group 23 | AD20: Group 28 | AE20: Group 39 | AF20: Group 39 | AG20: Group 37 | AH20: Group 37 | AI20: EMPTY
A21: Group 15 | B21: 1 | C21: 29 | D21: Group 36 | E21: 2 | F21: =IF(F20+E21>$G$3,E21,F20+E21) -> 2 | G21: =IF(F20+E21>$G$3,G20+1,G20) -> 5 | J21: Group 24 | K21: #VALUE! | L21: 14 | N21: 13 | O21: #VALUE! | P21: Group 24
A22: Group 16 | B22: 4 | C22: 23 | D22: Group 35 | E22: 4 | F22: =IF(F21+E22>$G$3,E22,F21+E22) -> 6 | G22: =IF(F21+E22>$G$3,G21+1,G21) -> 5 | J22: Group 24 | K22: #VALUE! | L22: 15 | N22: 14 | O22: #VALUE! | P22: Group 24
A23: Group 17 | B23: 3 | C23: 20 | D23: Group 26 | E23: 1 | F23: =IF(F22+E23>$G$3,E23,F22+E23) -> 7 | G23: =IF(F22+E23>$G$3,G22+1,G22) -> 5 | J23: Group 06 | K23: #VALUE! | L23: 17 | N23: 15 | O23: #VALUE! | P23: Group 24
A24: Group 19 | B24: 2 | C24: 16 | D24: Group 19 | E24: 2 | F24: =IF(F23+E24>$G$3,E24,F23+E24) -> 2 | G24: =IF(F23+E24>$G$3,G23+1,G23) -> 6 | J24: Group 06 | K24: #VALUE! | L24: 18 | N24: 16 | O24: EMPTY | P24: EMPTY
A25: Group 20 | B25: 2 | C25: 9 | D25: Group 07 | E25: 4 | F25: =IF(F24+E25>$G$3,E25,F24+E25) -> 6 | G25: =IF(F24+E25>$G$3,G24+1,G24) -> 6 | J25: Group 06 | K25: #VALUE! | L25: 19 | N25: 17 | O25: #VALUE! | P25: Group 06
A26: Group 21 | B26: 3 | C26: 8 | D26: Group 01 | E26: 2 | F26: =IF(F25+E26>$G$3,E26,F25+E26) -> 8 | G26: =IF(F25+E26>$G$3,G25+1,G25) -> 6 | J26: Group 21 | K26: #VALUE! | L26: 20 | N26: 18 | O26: #VALUE! | P26: Group 06
A27: Group 22 | B27: 2 | C27: 30 | D27: Group 08 | E27: 3 | F27: =IF(F26+E27>$G$3,E27,F26+E27) -> 3 | G27: =IF(F26+E27>$G$3,G26+1,G26) -> 7 | J27: Group 21 | K27: #VALUE! | L27: 21 | N27: 19 | O27: #VALUE! | P27: Group 06
A28: Group 23 | B28: 2 | C28: 33 | D28: Group 17 | E28: 3 | F28: =IF(F27+E28>$G$3,E28,F27+E28) -> 6 | G28: =IF(F27+E28>$G$3,G27+1,G27) -> 7 | J28: Group 21 | K28: #VALUE! | L28: 22 | N28: 20 | O28: #VALUE! | P28: Group 21
A29: Group 24 | B29: 3 | C29: 6 | D29: Group 25 | E29: 1 | F29: =IF(F28+E29>$G$3,E29,F28+E29) -> 7 | G29: =IF(F28+E29>$G$3,G28+1,G28) -> 7 | J29: Group 20 | K29: #VALUE! | L29: 23 | N29: 21 | O29: #VALUE! | P29: Group 21
A30: Group 25 | B30: 1 | C30: 21 | D30: Group 31 | E30: 4 | F30: =IF(F29+E30>$G$3,E30,F29+E30) -> 4 | G30: =IF(F29+E30>$G$3,G29+1,G29) -> 8 | J30: Group 20 | K30: #VALUE! | L30: 24 | N30: 22 | O30: #VALUE! | P30: Group 21
A31: Group 26 | B31: 1 | C31: 15 | D31: Group 16 | E31: 4 | F31: =IF(F30+E31>$G$3,E31,F30+E31) -> 8 | G31: =IF(F30+E31>$G$3,G30+1,G30) -> 8 | J31: Group 11 | K31: #VALUE! | L31: 25 | N31: 23 | O31: #VALUE! | P31: Group 20
A32: Group 27 | B32: 3 | C32: 4 | D32: Group 32 | E32: 3 | F32: =IF(F31+E32>$G$3,E32,F31+E32) -> 3 | G32: =IF(F31+E32>$G$3,G31+1,G31) -> 9 | J32: Group 12 | K32: #VALUE! | L32: 26 | N32: 24 | O32: #VALUE! | P32: Group 20
A33: Group 28 | B33: 1 | C33: 34 | D33: Group 02 | E33: 1 | F33: =IF(F32+E33>$G$3,E33,F32+E33) -> 4 | G33: =IF(F32+E33>$G$3,G32+1,G32) -> 9 | J33: Group 12 | K33: #VALUE! | L33: 27 | N33: 25 | O33: #VALUE! | P33: Group 11
A34: Group 29 | B34: 3 | C34: 3 | D34: Group 14 | E34: 3 | F34: =IF(F33+E34>$G$3,E34,F33+E34) -> 7 | G34: =IF(F33+E34>$G$3,G33+1,G33) -> 9 | J34: Group 12 | K34: #VALUE! | L34: 28 | N34: 26 | O34: #VALUE! | P34: Group 12
A35: Group 30 | B35: 2 | C35: 31 | D35: Group 13 | E35: 3 | F35: =IF(F34+E35>$G$3,E35,F34+E35) -> 3 | G35: =IF(F34+E35>$G$3,G34+1,G34) -> 10 | J35: Group 33 | K35: #VALUE! | L35: 29 | N35: 27 | O35: #VALUE! | P35: Group 12
A36: Group 31 | B36: 4 | C36: 22 | D36: Group 10 | E36: 4 | F36: =IF(F35+E36>$G$3,E36,F35+E36) -> 7 | G36: =IF(F35+E36>$G$3,G35+1,G35) -> 10 | J36: Group 33 | K36: #VALUE! | L36: 30 | N36: 28 | O36: #VALUE! | P36: Group 12
... A44: Group 39 | B44: 2 | C44: 35 | D44: Group 37 | E44: 2 | F44: =IF(F43+E44>$G$3,E44,F43+E44) -> 7 | G44: =IF(F43+E44>$G$3,G43+1,G43) -> 12 | J44: Group 35 | K44: #VALUE! | L44: 38 | N44: 36 | O44: #VALUE! | P44: Group 35
J45: Group 26 | K45: #VALUE! | L45: 39 | N45: 37 | O45: #VALUE! | P45: Group 35
J46: Group 19 | K46: #VALUE! | L46: 41 | N46: 38 | O46: #VALUE! | P46: Group 35
J47: Group 19 | K47: #VALUE! | L47: 42 | N47: 39 | O47: #VALUE! | P47: Group 26
J48: Group 07 | K48: #VALUE! | L48: 43 | N48: 40 | O48: EMPTY | P48: EMPTY
J49: Group 07 | K49: #VALUE! | L49: 44 | N49: 41 | O49: #VALUE! | P49: Group 19
...

Sheet Table Arrays
A1: Admin - Table Arrays
U3: Bubble Chart
B4: Table Properties | E4: Row # | F4: Pattern | G4: Seat Order | H4: Table 1 Seat #'s | L4: Table Arrays | U4: All Tables | Y4: Selected Table
B5: Cells per row | C5: 7 | E5: {=_xlfn._xlws.FILTER(tblSeatPatterns[[Row '#]:[Seat Order]],tblSeatPatterns[Seats]='Table Arrays'!C7)} -> 1 | F5: 4 | G5: 1 | H5: {=((INDEX(_xlfn.ANCHORARRAY(E5),,1)-1)*$C$12*($C$9-1)+INDEX(_xlfn.ANCHORARRAY(E5),,2))} -> 4 | L5: Table offset | M5: Row Offset | N5: Row Spacer Offset | O5: Table 1 Start | P5: Seat positions | Q5: Seat order | R5: Seat #'s | S5: Name Data | U5: X | V5: Y | W5: Size | X5: Label | Y5: X Selected | Z5: Y Selected
B6: Cells per col | C6: 7 | E6: 2 | F6: 9 | G6: 8 | H6: 36 | L6: {=ROUNDUP(_xlfn.SEQUENCE(C7*C9*C10)/C7,0)-_xlfn.ANCHORARRAY(M6)} -> 0 | M6: {=(ROUNDUP(_xlfn.SEQUENCE(C7*C10*C9)/(C7*C9),0))} -> 1 | N6: {=(_xlfn.ANCHORARRAY(M6)-1)*((C14*C12)-((C9-1)*C12))} -> 0 | O6: {=INDEX(_xlfn.ANCHORARRAY(H5),MOD(_xlfn.SEQUENCE((C7*C9*C10),,0),C7)+1)} -> 4 | P6: {=((_xlfn.ANCHORARRAY(L6)*C12)+_xlfn.ANCHORARRAY(O6))+_xlfn.ANCHORARRAY(N6)} -> 4 | Q6: {=INDEX(INDEX(_xlfn.ANCHORARRAY(E5),,3),MOD(_xlfn.SEQUENCE(C7*C9*C10,,0),C7)+1)} -> 1 | R6: {=_xlfn.ANCHORARRAY(Q6)+(_xlfn.ANCHORARRAY(L6)*$C$7)+(((_xlfn.ANCHORARRAY(M6)-1)*$C$7))} -> 1 | S6: {=_xlfn.XLOOKUP(_xlfn.ANCHORARRAY(R6),Names_Data_Type[Seat No.],Names_Data_Type[Personal Info],"EMPTY")} -> #VALUE! | U6: {=((MOD(_xlfn.SEQUENCE(C11,,0),C9)+1)-1)*C12} -> 0 | V6: {=(ROUNDUP(_xlfn.SEQUENCE(C11)/C9,0)-1)*C12} -> 0 | W6: {=ROUNDUP(_xlfn.SEQUENCE(C11)/C11,0)} -> 1 | X6: {=_xlfn.SEQUENCE(C11)} -> 1 | Y6: {=IF('Attendee - Tables Setup'!$C$5=_xlfn.ANCHORARRAY(X6),_xlfn.ANCHORARRAY(U6),NA())} -> #N/A | Z6: {=IF('Attendee - Tables Setup'!$C$5=_xlfn.ANCHORARRAY(X6),_xlfn.ANCHORARRAY(V6),NA())} -> #N/A
B7: Seats per table | C7: =rngSeatsPerTable -> 8 | E7: 2 | F7: 13 | G7: 2 | H7: 40 | L7: 0 | M7: 1 | N7: 0 | O7: 36 | P7: 36 | Q7: 8 | R7: 8 | S7: EMPTY | U7: 9 | V7: 0 | W7: 1 | X7: 2 | Y7: #N/A | Z7: #N/A
B8: Spacer | C8: ='Admin - Tables'!B4 -> 2 | E8: 4 | F8: 22 | G8: 7 | H8: 103 | L8: 0 | M8: 1 | N8: 0 | O8: 40 | P8: 40 | Q8: 2 | R8: 2 | S8: #VALUE! | U8: 18 | V8: 0 | W8: 1 | X8: 3 | Y8: #N/A | Z8: #N/A
B9: Tables Width | C9: ='Admin - Tables'!B5 -> 4 | E9: 4 | F9: 28 | G9: 3 | H9: 109 | L9: 0 | M9: 1 | N9: 0 | O9: 103 | P9: 103 | Q9: 7 | R9: 7 | S9: #VALUE! | U9: 27 | V9: 0 | W9: 1 | X9: 4 | Y9: #N/A | Z9: #N/A
B10: Tables Height | C10: ='Admin - Tables'!B6 -> 3 | E10: 6 | F10: 37 | G10: 6 | H10: 172 | L10: 0 | M10: 1 | N10: 0 | O10: 109 | P10: 109 | Q10: 3 | R10: 3 | S10: #VALUE! | U10: 0 | V10: 9 | W10: 1 | X10: 5 | Y10: #N/A | Z10: #N/A
B11: Total Tables | C11: =C9*C10 -> 12 | E11: 6 | F11: 41 | G11: 4 | H11: 176 | L11: 0 | M11: 1 | N11: 0 | O11: 172 | P11: 172 | Q11: 6 | R11: 6 | S11: #VALUE! | U11: 9 | V11: 9 | W11: 1 | X11: 6 | Y11: 9 | Z11: 9
B12: Cell Offset | C12: =C5+C8 -> 9 | E12: 7 | F12: 46 | G12: 5 | H12: 208 | L12: 0 | M12: 1 | N12: 0 | O12: 176 | P12: 176 | Q12: 4 | R12: 4 | S12: #VALUE! | U12: 18 | V12: 9 | W12: 1 | X12: 7 | Y12: #N/A | Z12: #N/A
B13: Total Rows | C13: =(C10*$C$12)-$C$8 -> 25 | L13: 0 | M13: 1 | N13: 0 | O13: 208 | P13: 208 | Q13: 5 | R13: 5 | S13: #VALUE! | U13: 27 | V13: 9 | W13: 1 | X13: 8 | Y13: #N/A | Z13: #N/A
B14: Total Cols | C14: =(C9*$C$12)-$C$8 -> 34 | L14: 1 | M14: 1 | N14: 0 | O14: 4 | P14: 13 | Q14: 1 | R14: 9 | S14: #VALUE! | U14: 0 | V14: 18 | W14: 1 | X14: 9 | Y14: #N/A | Z14: #N/A
L15: 1 | M15: 1 | N15: 0 | O15: 36 | P15: 45 | Q15: 8 | R15: 16 | S15: EMPTY | U15: 9 | V15: 18 | W15: 1 | X15: 10 | Y15: #N/A | Z15: #N/A | AJ15: {=SUMIF(_xlfn.ANCHORARRAY(P6),_xlfn.SEQUENCE(C13,C14),_xlfn.ANCHORARRAY(R6))} -> 0 | AK15: 0 | AL15: 0 | AM15: 1 | AN15: 0 | AO15: 0 | AP15: 0 | AQ15: 0 | AR15: 0 | AS15: 0 | AT15: 0 | AU15: 0 | AV15: 9 | AW15: 0 | AX15: 0 | AY15: 0 | AZ15: 0 | BA15: 0 | BB15: 0 | BC15: 0 | BD15: 0 | BE15: 17 | BF15: 0 | BG15: 0 | BH15: 0 | BI15: 0 | BJ15: 0 | BK15: 0 | BL15: 0 | BM15: 0 | BN15: 25 | BO15: 0 | BP15: 0 | BQ15: 0
L16: 1 | M16: 1 | N16: 0 | O16: 40 | P16: 49 | Q16: 2 | R16: 10 | S16: #VALUE! | U16: 18 | V16: 18 | W16: 1 | X16: 11 | Y16: #N/A | Z16: #N/A | AJ16: 0 | AK16: 8 | AL16: 0 | AM16: 0 | AN16: 0 | AO16: 2 | AP16: 0 | AQ16: 0 | AR16: 0 | AS16: 0 | AT16: 16 | AU16: 0 | AV16: 0 | AW16: 0 | AX16: 10 | AY16: 0 | AZ16: 0 | BA16: 0 | BB16: 0 | BC16: 24 | BD16: 0 | BE16: 0 | BF16: 0 | BG16: 18 | BH16: 0 | BI16: 0 | BJ16: 0 | BK16: 0 | BL16: 32 | BM16: 0 | BN16: 0 | BO16: 0 | BP16: 26 | BQ16: 0
L17: 1 | M17: 1 | N17: 0 | O17: 103 | P17: 112 | Q17: 7 | R17: 15 | S17: #VALUE! | U17: 27 | V17: 18 | W17: 1 | X17: 12 | Y17: #N/A | Z17: #N/A | AJ17: 0 | AK17: 0 | AL17: 0 | AM17: 0 | AN17: 0 | AO17: 0 | AP17: 0 | AQ17: 0 | AR17: 0 | AS17: 0 | AT17: 0 | AU17: 0 | AV17: 0 | AW17: 0 | AX17: 0 | AY17: 0 | AZ17: 0 | BA17: 0 | BB17: 0 | BC17: 0 | BD17: 0 | BE17: 0 | BF17: 0 | BG17: 0 | BH17: 0 | BI17: 0 | BJ17: 0 | BK17: 0 | BL17: 0 | BM17: 0 | BN17: 0 | BO17: 0 | BP17: 0 | BQ17: 0
L18: 1 | M18: 1 | N18: 0 | O18: 109 | P18: 118 | Q18: 3 | R18: 11 | S18: #VALUE! | AJ18: 7 | AK18: 0 | AL18: 0 | AM18: 0 | AN18: 0 | AO18: 0 | AP18: 3 | AQ18: 0 | AR18: 0 | AS18: 15 | AT18: 0 | AU18: 0 | AV18: 0 | AW18: 0 | AX18: 0 | AY18: 11 | AZ18: 0 | BA18: 0 | BB18: 23 | BC18: 0 | BD18: 0 | BE18: 0 | BF18: 0 | BG18: 0 | BH18: 19 | BI18: 0 | BJ18: 0 | BK18: 31 | BL18: 0 | BM18: 0 | BN18: 0 | BO18: 0 | BP18: 0 | BQ18: 27
L19: 1 | M19: 1 | N19: 0 | O19: 172 | P19: 181 | Q19: 6 | R19: 14 | S19: #VALUE! | AJ19: 0 | AK19: 0 | AL19: 0 | AM19: 0 | AN19: 0 | AO19: 0 | AP19: 0 | AQ19: 0 | AR19: 0 | AS19: 0 | AT19: 0 | AU19: 0 | AV19: 0 | AW19: 0 | AX19: 0 | AY19: 0 | AZ19: 0 | BA19: 0 | BB19: 0 | BC19: 0 | BD19: 0 | BE19: 0 | BF19: 0 | BG19: 0 | BH19: 0 | BI19: 0 | BJ19: 0 | BK19: 0 | BL19: 0 | BM19: 0 | BN19: 0 | BO19: 0 | BP19: 0 | BQ19: 0
L20: 1 | M20: 1 | N20: 0 | O20: 176 | P20: 185 | Q20: 4 | R20: 12 | S20: #VALUE! | AJ20: 0 | AK20: 6 | AL20: 0 | AM20: 0 | AN20: 0 | AO20: 4 | AP20: 0 | AQ20: 0 | AR20: 0 | AS20: 0 | AT20: 14 | AU20: 0 | AV20: 0 | AW20: 0 | AX20: 12 | AY20: 0 | AZ20: 0 | BA20: 0 | BB20: 0 | BC20: 22 | BD20: 0 | BE20: 0 | BF20: 0 | BG20: 20 | BH20: 0 | BI20: 0 | BJ20: 0 | BK20: 0 | BL20: 30 | BM20: 0 | BN20: 0 | BO20: 0 | BP20: 28 | BQ20: 0
L21: 1 | M21: 1 | N21: 0 | O21: 208 | P21: 217 | Q21: 5 | R21: 13 | S21: #VALUE! | AJ21: 0 | AK21: 0 | AL21: 0 | AM21: 5 | AN21: 0 | AO21: 0 | AP21: 0 | AQ21: 0 | AR21: 0 | AS21: 0 | AT21: 0 | AU21: 0 | AV21: 13 | AW21: 0 | AX21: 0 | AY21: 0 | AZ21: 0 | BA21: 0 | BB21: 0 | BC21: 0 | BD21: 0 | BE21: 21 | BF21: 0 | BG21: 0 | BH21: 0 | BI21: 0 | BJ21: 0 | BK21: 0 | BL21: 0 | BM21: 0 | BN21: 29 | BO21: 0 | BP21: 0 | BQ21: 0
L22: 2 | M22: 1 | N22: 0 | O22: 4 | P22: 22 | Q22: 1 | R22: 17 | S22: #VALUE! | AJ22: 0 | AK22: 0 | AL22: 0 | AM22: 0 | AN22: 0 | AO22: 0 | AP22: 0 | AQ22: 0 | AR22: 0 | AS22: 0 | AT22: 0 | AU22: 0 | AV22: 0 | AW22: 0 | AX22: 0 | AY22: 0 | AZ22: 0 | BA22: 0 | BB22: 0 | BC22: 0 | BD22: 0 | BE22: 0 | BF22: 0 | BG22: 0 | BH22: 0 | BI22: 0 | BJ22: 0 | BK22: 0 | BL22: 0 | BM22: 0 | BN22: 0 | BO22: 0 | BP22: 0 | BQ22: 0
L23: 2 | M23: 1 | N23: 0 | O23: 36 | P23: 54 | Q23: 8 | R23: 24 | S23: #VALUE! | AJ23: 0 | AK23: 0 | AL23: 0 | AM23: 0 | AN23: 0 | AO23: 0 | AP23: 0 | AQ23: 0 | AR23: 0 | AS23: 0 | AT23: 0 | AU23: 0 | AV23: 0 | AW23: 0 | AX23: 0 | AY23: 0 | AZ23: 0 | BA23: 0 | BB23: 0 | BC23: 0 | BD23: 0 | BE23: 0 | BF23: 0 | BG23: 0 | BH23: 0 | BI23: 0 | BJ23: 0 | BK23: 0 | BL23: 0 | BM23: 0 | BN23: 0 | BO23: 0 | BP23: 0 | BQ23: 0
L24: 2 | M24: 1 | N24: 0 | O24: 40 | P24: 58 | Q24: 2 | R24: 18 | S24: #VALUE! | AJ24: 0 | AK24: 0 | AL24: 0 | AM24: 33 | AN24: 0 | AO24: 0 | AP24: 0 | AQ24: 0 | AR24: 0 | AS24: 0 | AT24: 0 | AU24: 0 | AV24: 41 | AW24: 0 | AX24: 0 | AY24: 0 | AZ24: 0 | BA24: 0 | BB24: 0 | BC24: 0 | BD24: 0 | BE24: 49 | BF24: 0 | BG24: 0 | BH24: 0 | BI24: 0 | BJ24: 0 | BK24: 0 | BL24: 0 | BM24: 0 | BN24: 57 | BO24: 0 | BP24: 0 | BQ24: 0
L25: 2 | M25: 1 | N25: 0 | O25: 103 | P25: 121 | Q25: 7 | R25: 23 | S25: #VALUE! | AJ25: 0 | AK25: 40 | AL25: 0 | AM25: 0 | AN25: 0 | AO25: 34 | AP25: 0 | AQ25: 0 | AR25: 0 | AS25: 0 | AT25: 48 | AU25: 0 | AV25: 0 | AW25: 0 | AX25: 42 | AY25: 0 | AZ25: 0 | BA25: 0 | BB25: 0 | BC25: 56 | BD25: 0 | BE25: 0 | BF25: 0 | BG25: 50 | BH25: 0 | BI25: 0 | BJ25: 0 | BK25: 0 | BL25: 64 | BM25: 0 | BN25: 0 | BO25: 0 | BP25: 58 | BQ25: 0
L26: 2 | M26: 1 | N26: 0 | O26: 109 | P26: 127 | Q26: 3 | R26: 19 | S26: #VALUE! | AJ26: 0 | AK26: 0 | AL26: 0 | AM26: 0 | AN26: 0 | AO26: 0 | AP26: 0 | AQ26: 0 | AR26: 0 | AS26: 0 | AT26: 0 | AU26: 0 | AV26: 0 | AW26: 0 | AX26: 0 | AY26: 0 | AZ26: 0 | BA26: 0 | BB26: 0 | BC26: 0 | BD26: 0 | BE26: 0 | BF26: 0 | BG26: 0 | BH26: 0 | BI26: 0 | BJ26: 0 | BK26: 0 | BL26: 0 | BM26: 0 | BN26: 0 | BO26: 0 | BP26: 0 | BQ26: 0
L27: 2 | M27: 1 | N27: 0 | O27: 172 | P27: 190 | Q27: 6 | R27: 22 | S27: #VALUE! | AJ27: 39 | AK27: 0 | AL27: 0 | AM27: 0 | AN27: 0 | AO27: 0 | AP27: 35 | AQ27: 0 | AR27: 0 | AS27: 47 | AT27: 0 | AU27: 0 | AV27: 0 | AW27: 0 | AX27: 0 | AY27: 43 | AZ27: 0 | BA27: 0 | BB27: 55 | BC27: 0 | BD27: 0 | BE27: 0 | BF27: 0 | BG27: 0 | BH27: 51 | BI27: 0 | BJ27: 0 | BK27: 63 | BL27: 0 | BM27: 0 | BN27: 0 | BO27: 0 | BP27: 0 | BQ27: 59
L28: 2 | M28: 1 | N28: 0 | O28: 176 | P28: 194 | Q28: 4 | R28: 20 | S28: #VALUE! | AJ28: 0 | AK28: 0 | AL28: 0 | AM28: 0 | AN28: 0 | AO28: 0 | AP28: 0 | AQ28: 0 | AR28: 0 | AS28: 0 | AT28: 0 | AU28: 0 | AV28: 0 | AW28: 0 | AX28: 0 | AY28: 0 | AZ28: 0 | BA28: 0 | BB28: 0 | BC28: 0 | BD28: 0 | BE28: 0 | BF28: 0 | BG28: 0 | BH28: 0 | BI28: 0 | BJ28: 0 | BK28: 0 | BL28: 0 | BM28: 0 | BN28: 0 | BO28: 0 | BP28: 0 | BQ28: 0
L29: 2 | M29: 1 | N29: 0 | O29: 208 | P29: 226 | Q29: 5 | R29: 21 | S29: #VALUE! | AJ29: 0 | AK29: 38 | AL29: 0 | AM29: 0 | AN29: 0 | AO29: 36 | AP29: 0 | AQ29: 0 | AR29: 0 | AS29: 0 | AT29: 46 | AU29: 0 | AV29: 0 | AW29: 0 | AX29: 44 | AY29: 0 | AZ29: 0 | BA29: 0 | BB29: 0 | BC29: 54 | BD29: 0 | BE29: 0 | BF29: 0 | BG29: 52 | BH29: 0 | BI29: 0 | BJ29: 0 | BK29: 0 | BL29: 62 | BM29: 0 | BN29: 0 | BO29: 0 | BP29: 60 | BQ29: 0
... L38: 3 | M38: 2 | N38: 279 | O38: 4 | P38: 310 | Q38: 1 | R38: 33 | S38: #VALUE! | AJ38: 0 | AK38: 70 | AL38: 0 | AM38: 0 | AN38: 0 | AO38: 68 | AP38: 0 | AQ38: 0 | AR38: 0 | AS38: 0 | AT38: 78 | AU38: 0 | AV38: 0 | AW38: 0 | AX38: 76 | AY38: 0 | AZ38: 0 | BA38: 0 | BB38: 0 | BC38: 86 | BD38: 0 | BE38: 0 | BF38: 0 | BG38: 84 | BH38: 0 | BI38: 0 | BJ38: 0 | BK38: 0 | BL38: 94 | BM38: 0 | BN38: 0 | BO38: 0 | BP38: 92 | BQ38: 0
L39: 3 | M39: 2 | N39: 279 | O39: 36 | P39: 342 | Q39: 8 | R39: 40 | S39: EMPTY | AJ39: 0 | AK39: 0 | AL39: 0 | AM39: 69 | AN39: 0 | AO39: 0 | AP39: 0 | AQ39: 0 | AR39: 0 | AS39: 0 | AT39: 0 | AU39: 0 | AV39: 77 | AW39: 0 | AX39: 0 | AY39: 0 | AZ39: 0 | BA39: 0 | BB39: 0 | BC39: 0 | BD39: 0 | BE39: 85 | BF39: 0 | BG39: 0 | BH39: 0 | BI39: 0 | BJ39: 0 | BK39: 0 | BL39: 0 | BM39: 0 | BN39: 93 | BO39: 0 | BP39: 0 | BQ39: 0
L40: 3 | M40: 2 | N40: 279 | O40: 40 | P40: 346 | Q40: 2 | R40: 34 | S40: #VALUE!
L41: 3 | M41: 2 | N41: 279 | O41: 103 | P41: 409 | Q41: 7 | R41: 39 | S41: #VALUE!
L42: 3 | M42: 2 | N42: 279 | O42: 109 | P42: 415 | Q42: 3 | R42: 35 | S42: #VALUE!
L43: 3 | M43: 2 | N43: 279 | O43: 172 | P43: 478 | Q43: 6 | R43: 38 | S43: #VALUE!
L44: 3 | M44: 2 | N44: 279 | O44: 176 | P44: 482 | Q44: 4 | R44: 36 | S44: #VALUE!
L45: 3 | M45: 2 | N45: 279 | O45: 208 | P45: 514 | Q45: 5 | R45: 37 | S45: #VALUE!
L46: 4 | M46: 2 | N46: 279 | O46: 4 | P46: 319 | Q46: 1 | R46: 41 | S46: #VALUE!
L47: 4 | M47: 2 | N47: 279 | O47: 36 | P47: 351 | Q47: 8 | R47: 48 | S47: #VALUE!
L48: 4 | M48: 2 | N48: 279 | O48: 40 | P48: 355 | Q48: 2 | R48: 42 | S48: #VALUE!
L49: 4 | M49: 2 | N49: 279 | O49: 103 | P49: 418 | Q49: 7 | R49: 47 | S49: #VALUE!
...

Sheet Attendee - Tables Setup
B2: Index | C2: 2
B3: Name | C3: {=INDEX(_xlfn.ANCHORARRAY(Lists!C2),C2)} -> #VALUE!
B4: Seat | C4: {=_FV(C3,"Seat No.",TRUE)} -> 45
B5: Table | C5: {=_FV(C3,"Row")} -> 6
B6: Group | C6: {=_FV(C3,"Group")} -> Group 07
B7: Event Name | C7: Our Reception

Sheet Lists
A1: Name List Columns | C1: Names | F1: Seating Chart List | G1: Seat | H1: Row
A2: {=TRANSPOSE(tblNameList[#Headers])} -> ID | C2: {=_xlfn.SORTBY(Names_Data_Type[Personal Info],_FV(Names_Data_Type[Personal Info],"Last Name",TRUE))} -> #VALUE! | F2: {=IFERROR(INDEX(_xlfn.SORTBY(Names_Data_Type[Personal Info],INDIRECT('Admin - Seating Chart'!$C$7),'Admin - Seating Chart'!$C$8),_xlfn.SEQUENCE('Admin - Seating Chart'!$B$3)),"")} -> #VALUE! | G2: {=_xlfn.SEQUENCE(ROWS(_xlfn.ANCHORARRAY(F2)))} -> 1 | H2: {=ROUNDDOWN(_xlfn.SEQUENCE('Admin - Seating Chart'!$B$3,,0)/'Admin - Seating Chart'!$B$4+1,0)} -> 1
A3: Full Name | C3: #VALUE! | F3: #VALUE! | G3: 2 | H3: 1
A4: First Name | C4: #VALUE! | F4: #VALUE! | G4: 3 | H4: 1
A5: Last Name | C5: #VALUE! | F5: #VALUE! | G5: 4 | H5: 1
A6: Email | C6: #VALUE! | F6: #VALUE! | G6: 5 | H6: 1
A7: Phone | C7: #VALUE! | F7: #VALUE! | G7: 6 | H7: 1
A8: Gender | C8: #VALUE! | F8: #VALUE! | G8: 7 | H8: 1
A9: Birthdate | C9: #VALUE! | F9: #VALUE! | G9: 8 | H9: 1
A10: Absences | C10: #VALUE! | F10: #VALUE! | G10: 9 | H10: 2
A11: GPA | C11: #VALUE! | F11: #VALUE! | G11: 10 | H11: 2
A12: Group | C12: #VALUE! | F12: #VALUE! | G12: 11 | H12: 2
A13: Group Order | C13: #VALUE! | F13: #VALUE! | G13: 12 | H13: 2
A14: Row | C14: #VALUE! | F14: #VALUE! | G14: 13 | H14: 2
... A16: Seat No. | C16: #VALUE! | F16: #VALUE! | G16: 15 | H16: 2
C17: #VALUE! | F17: #VALUE! | G17: 16 | H17: 2
C18: #VALUE! | F18: #VALUE! | G18: 17 | H18: 3
C19: #VALUE! | F19: #VALUE! | G19: 18 | H19: 3
C20: #VALUE! | F20: #VALUE! | G20: 19 | H20: 3
C21: #VALUE! | F21: #VALUE! | G21: 20 | H21: 3
C22: #VALUE! | F22: #VALUE! | G22: 21 | H22: 3
C23: #VALUE! | F23: #VALUE! | G23: 22 | H23: 3
C24: #VALUE! | F24: #VALUE! | G24: 23 | H24: 3
C25: #VALUE! | F25: #VALUE! | G25: 24 | H25: 3
C26: #VALUE! | F26: #VALUE! | G26: 25 | H26: 4
C27: #VALUE! | F27: #VALUE! | G27: 26 | H27: 4
C28: #VALUE! | F28: #VALUE! | G28: 27 | H28: 4
... C91: #VALUE! | F91: #VALUE! | G91: 90 | H91: 12

Sheet Seat Patterns
A1: Seats | B1: Row # | C1: Pattern | D1: Seat Order
A2: 4 | B2: 2 | C2: 9 | D2: 1
A3: 4 | B3: 2 | C3: 13 | D3: 2
A4: 4 | B4: 6 | C4: 37 | D4: 4
A5: 4 | B5: 6 | C5: 41 | D5: 3
A6: 6 | B6: 1 | C6: 3 | D6: 1
A7: 6 | B7: 1 | C7: 5 | D7: 2
A8: 6 | B8: 4 | C8: 22 | D8: 6
A9: 6 | B9: 4 | C9: 28 | D9: 3
A10: 6 | B10: 6 | C10: 45 | D10: 5
A11: 6 | B11: 6 | C11: 47 | D11: 4
A12: 8 | B12: 1 | C12: 4 | D12: 1
A13: 8 | B13: 2 | C13: 9 | D13: 8
... A41: 12 | B41: 7 | C41: 47 | D41: 6

Sheet Table Patterns
A1: Table Design Patterns
F2: Index
B3: Cells per row | C3: 7 | F3: {=_xlfn.SEQUENCE($C$3,$C$4)} -> 1 | G3: 2 | H3: 3 | I3: 4 | J3: 5 | K3: 6 | L3: 7
B4: Cells per col | C4: 7 | F4: 8 | G4: 9 | H4: 10 | I4: 11 | J4: 12 | K4: 13 | L4: 14
B5: Seats per table | C5: 8 | F5: 15 | G5: 16 | H5: 17 | I5: 18 | J5: 19 | K5: 20 | L5: 21
F6: 22 | G6: 23 | H6: 24 | I6: 25 | J6: 26 | K6: 27 | L6: 28
F7: 29 | G7: 30 | H7: 31 | I7: 32 | J7: 33 | K7: 34 | L7: 35
F8: 36 | G8: 37 | H8: 38 | I8: 39 | J8: 40 | K8: 41 | L8: 42
F9: 43 | G9: 44 | H9: 45 | I9: 46 | J9: 47 | K9: 48 | L9: 49
B10: 8 Person Table
B11: Row # | C11: Pattern | D11: Seat Order
B12: 1 | C12: 4 | D12: 1 | F12: {=SUMIF(C12:C19,_xlfn.ANCHORARRAY($F$3),D12:D19)} -> 0 | G12: 0 | H12: 0 | I12: 1 | J12: 0 | K12: 0 | L12: 0
B13: 2 | C13: 9 | D13: 8 | F13: 0 | G13: 8 | H13: 0 | I13: 0 | J13: 0 | K13: 2 | L13: 0
B14: 2 | C14: 13 | D14: 2 | F14: 0 | G14: 0 | H14: 0 | I14: 0 | J14: 0 | K14: 0 | L14: 0
B15: 4 | C15: 22 | D15: 7 | F15: 7 | G15: 0 | H15: 0 | I15: 0 | J15: 0 | K15: 0 | L15: 3
B16: 4 | C16: 28 | D16: 3 | F16: 0 | G16: 0 | H16: 0 | I16: 0 | J16: 0 | K16: 0 | L16: 0
B17: 6 | C17: 37 | D17: 6 | F17: 0 | G17: 6 | H17: 0 | I17: 0 | J17: 0 | K17: 4 | L17: 0
B18: 6 | C18: 41 | D18: 4 | F18: 0 | G18: 0 | H18: 0 | I18: 5 | J18: 0 | K18: 0 | L18: 0
B19: 7 | C19: 46 | D19: 5
B22: 6 Person Table
B23: Row # | C23: Pattern | D23: Seat Order
B24: 1 | C24: 3 | D24: 1 | F24: {=SUMIF(C24:C29,_xlfn.ANCHORARRAY($F$3),D24:D29)} -> 0 | G24: 0 | H24: 1 | I24: 0 | J24: 2 | K24: 0 | L24: 0
B25: 1 | C25: 5 | D25: 2 | F25: 0 | G25: 0 | H25: 0 | I25: 0 | J25: 0 | K25: 0 | L25: 0
B26: 4 | C26: 22 | D26: 6 | F26: 0 | G26: 0 | H26: 0 | I26: 0 | J26: 0 | K26: 0 | L26: 0
B27: 4 | C27: 28 | D27: 3 | F27: 6 | G27: 0 | H27: 0 | I27: 0 | J27: 0 | K27: 0 | L27: 3
B28: 6 | C28: 45 | D28: 5 | F28: 0 | G28: 0 | H28: 0 | I28: 0 | J28: 0 | K28: 0 | L28: 0
B29: 6 | C29: 47 | D29: 4 | F29: 0 | G29: 0 | H29: 0 | I29: 0 | J29: 0 | K29: 0 | L29: 0
F30: 0 | G30: 0 | H30: 5 | I30: 0 | J30: 4 | K30: 0 | L30: 0
B33: 4 Person Table
B34: Row # | C34: Pattern | D34: Seat Order
B35: 2 | C35: 9 | D35: 1 | F35: {=SUMIF(C35:C38,_xlfn.ANCHORARRAY($F$3),D35:D38)} -> 0 | G35: 0 | H35: 0 | I35: 0 | J35: 0 | K35: 0 | L35: 0
B36: 2 | C36: 13 | D36: 2 | F36: 0 | G36: 1 | H36: 0 | I36: 0 | J36: 0 | K36: 2 | L36: 0
B37: 6 | C37: 37 | D37: 4 | F37: 0 | G37: 0 | H37: 0 | I37: 0 | J37: 0 | K37: 0 | L37: 0
B38: 6 | C38: 41 | D38: 3 | F38: 0 | G38: 0 | H38: 0 | I38: 0 | J38: 0 | K38: 0 | L38: 0
F39: 0 | G39: 0 | H39: 0 | I39: 0 | J39: 0 | K39: 0 | L39: 0
F40: 0 | G40: 4 | H40: 0 | I40: 0 | J40: 0 | K40: 3 | L40: 0
F41: 0 | G41: 0 | H41: 0 | I41: 0 | J41: 0 | K41: 0 | L41: 0
B44: 10 Person Table
B45: Row # | C45: Pattern | D45: Seat Order
B46: 1 | C46: 4 | D46: 1 | F46: {=SUMIF(C46:C55,_xlfn.ANCHORARRAY($F$3),D46:D55)} -> 0 | G46: 0 | H46: 0 | I46: 1 | J46: 0 | K46: 0 | L46: 0
...

Sheet Source
A1: Author: | B1: Jon Acampora
A2: Source: | B2: https://www.excelcampus.com/functions/seating-chart-planner/
