Workbook
Name rngExpenses: 'Named Ranges'!$B$4:$B$15
Name rngPctChange: 'Named Ranges'!$F$3
Name rngSplit: 'Named Ranges'!$F$4
Name Slicer_Customer_Name: #N/A

Sheet Welcome

Sheet TOC
A1: 11222B3
B2: 19 Advanced Excel Shortcuts
B3: 1 | C3: =HYPERLINK('Pivot Table'!A1, "Hide or Filter Out Pivot Items") -> Hide or Filter Out Pivot Items
B4: 2 | C4: =HYPERLINK(Grouping!A1, "Group Rows and Columns") -> Group Rows and Columns
B5: 3 | C5: =HYPERLINK('Visible Cells'!A1, "Select Visible Cells") -> Select Visible Cells
B6: 4 | C6: =HYPERLINK(Navigation!A1, "Show Active Cell") -> Show Active Cell
B7: 5 | C7: =HYPERLINK(Navigation!A1, "Select Corners of Selected Range") -> Select Corners of Selected Range
B8: 6 | C8: =HYPERLINK(Navigation!A1, "Open Go To Window") -> Open Go To Window
B9: 7 | C9: =HYPERLINK('Find Next'!A1, "Find Next Match") -> Find Next Match
B10: 8 | C10: =HYPERLINK('Copying Data'!A1, "Enter Formula/Value in All Selected Cells") -> Enter Formula/Value in All Selected Cells
B11: 9 | C11: =HYPERLINK('Copying Data'!A1, "Fill Down/Right") -> Fill Down/Right
B12: 10 | C12: =HYPERLINK('Formula Text'!A1, "Copy Formula Text From Above") -> Copy Formula Text From Above
B13: 11 | C13: =HYPERLINK('Line Break'!A1, "Enter Line Break in Cell") -> Enter Line Break in Cell
B14: 12 | C14: =HYPERLINK('Cell Styles'!A1, "Modify Cell Style") -> Modify Cell Style
B15: 13 | C15: =HYPERLINK('Column Differences'!A1, "Select Column Differences") -> Select Column Differences
B16: 14 | C16: =HYPERLINK('Formula Dependents'!A1, "Select Precedents/Dependents") -> Select Precedents/Dependents
B17: 15 | C17: =HYPERLINK('Named Ranges'!A1, "Name Manager") -> Name Manager
B18: 16 | C18: =HYPERLINK('Formula Bar'!A1, "Hide Ribbon") -> Hide Ribbon
B19: 17 | C19: =HYPERLINK('Formula Bar'!A1, "Expand/Collapse Formula Bar - Ctrl+Shift+U") -> Expand/Collapse Formula Bar - Ctrl+Shift+U
B20: 18 | C20: =HYPERLINK(Autofit!A1, "Autofit Column Width") -> Autofit Column Width
B21: 19 | C21: =HYPERLINK('Selection Pane'!A1, "Open selection pane") -> Open selection pane
C23: Post & Video:
C24: https://www.excelcampus.com/keyboard-shortcuts/advanced-excel-shortcuts/

Sheet Pivot Table
A3: Category | B3: Sum of Revenue
A4: Baked Goods & Mixes | B4: 19053.6
A5: Beverages | B5: 110577.11
A6: Candy | B6: 17837.25
A7: Canned Meat | B7: 25465.6
A8: Fruit & Veg | B8: 6942
A9: Grains | B9: 2884
A10: Jams, Preserves | B10: 51541
A11: Oil | B11: 13322.4
A12: Pasta | B12: 20176.5
A13: Sauces | B13: 69000
A14: Soups | B14: 16829.6
A15: Grand Total | B15: 353629.06

Sheet Grouping
A1: The ABC Company
A2: Detailed Income Statement
A3: Group: West
A4: Southwest Region
B6: Jan | C6: Feb | D6: Mar | E6: Apr | F6: May | G6: Jun | H6: Jul | I6: Aug | J6: Sep | K6: Oct | L6: Nov | M6: Dec | N6: Q1 | O6: Q2 | P6: Q3 | Q6: Q4 | R6: YTD
A7: Revenue:
A8: A Revenue | B8: 181935 | C8: 245987 | D8: 151307 | E8: 84503 | F8: 214316 | G8: 55659 | H8: 176141 | I8: 177561 | J8: 77100 | K8: 162940 | L8: 184537 | M8: 209476 | N8: =SUM(B8:D8) -> 579229 | O8: =SUM(E8:G8) -> 354478 | P8: =SUM(H8:J8) -> 430802 | Q8: =SUM(K8:M8) -> 556953 | R8: =SUM(B8:M8) -> 1921462
A9: B Revenue | B9: 116701 | C9: 236988 | D9: 239218 | E9: 64445 | F9: 111504 | G9: 133461 | H9: 245566 | I9: 229791 | J9: 90365 | K9: 139923 | L9: 128754 | M9: 201820 | N9: =SUM(B9:D9) -> 592907 | O9: =SUM(E9:G9) -> 309410 | P9: =SUM(H9:J9) -> 565722 | Q9: =SUM(K9:M9) -> 470497 | R9: =SUM(B9:M9) -> 1938536
A10: C Revenue | B10: 153462 | C10: 104040 | D10: 147019 | E10: 137243 | F10: 60928 | G10: 94216 | H10: 130567 | I10: 133992 | J10: 162483 | K10: 165731 | L10: 130116 | M10: 182264 | N10: =SUM(B10:D10) -> 404521 | O10: =SUM(E10:G10) -> 292387 | P10: =SUM(H10:J10) -> 427042 | Q10: =SUM(K10:M10) -> 478111 | R10: =SUM(B10:M10) -> 1602061
A11: Total Revenue | B11: =SUM(B8:B10) -> 452098 | C11: =SUM(C8:C10) -> 587015 | D11: =SUM(D8:D10) -> 537544 | E11: =SUM(E8:E10) -> 286191 | F11: =SUM(F8:F10) -> 386748 | G11: =SUM(G8:G10) -> 283336 | H11: =SUM(H8:H10) -> 552274 | I11: =SUM(I8:I10) -> 541344 | ... R11: =SUM(R8:R10) -> 5462059
A13: Cost of Goods Sold:
A14: A Costs
A15: A1 Costs | B15: 54877 | C15: 64186 | D15: 33146 | E15: 54186 | F15: 25597 | G15: 37586 | H15: 62650 | I15: 50542 | J15: 36624 | K15: 49103 | L15: 43024 | M15: 26156 | N15: =SUM(B15:D15) -> 152209 | O15: =SUM(E15:G15) -> 117369 | P15: =SUM(H15:J15) -> 149816 | Q15: =SUM(K15:M15) -> 118283 | R15: =SUM(B15:M15) -> 537677
A16: A2 Costs | B16: 34513 | C16: 32675 | D16: 45412 | E16: 61204 | F16: 60562 | G16: 44514 | H16: 64880 | I16: 45959 | J16: 36403 | K16: 55828 | L16: 48057 | M16: 29836 | N16: =SUM(B16:D16) -> 112600 | O16: =SUM(E16:G16) -> 166280 | P16: =SUM(H16:J16) -> 147242 | Q16: =SUM(K16:M16) -> 133721 | R16: =SUM(B16:M16) -> 559843
A17: Total A Costs | B17: =SUM(B15:B16) -> 89390 | C17: =SUM(C15:C16) -> 96861 | D17: =SUM(D15:D16) -> 78558 | E17: =SUM(E15:E16) -> 115390 | F17: =SUM(F15:F16) -> 86159 | G17: =SUM(G15:G16) -> 82100 | H17: =SUM(H15:H16) -> 127530 | I17: =SUM(I15:I16) -> 96501 | ... M17: =SUM(M15:M16) -> 55992 | N17: =SUM(B17:D17) -> 264809 | O17: =SUM(E17:G17) -> 283649 | P17: =SUM(H17:J17) -> 297058 | Q17: =SUM(K17:M17) -> 252004 | R17: =SUM(B17:M17) -> 1097520
A18: B Costs | B18: 28883 | C18: 62964 | D18: 56910 | E18: 53012 | F18: 38844 | G18: 27714 | H18: 35362 | I18: 60445 | J18: 48619 | K18: 53144 | L18: 62440 | M18: 26753 | N18: =SUM(B18:D18) -> 148757 | O18: =SUM(E18:G18) -> 119570 | P18: =SUM(H18:J18) -> 144426 | Q18: =SUM(K18:M18) -> 142337 | R18: =SUM(B18:M18) -> 555090
A19: C Costs | B19: 53850 | C19: 53902 | D19: 45950 | E19: 33573 | F19: 25065 | G19: 55689 | H19: 28584 | I19: 44669 | J19: 63099 | K19: 32213 | L19: 60240 | M19: 46916 | N19: =SUM(B19:D19) -> 153702 | O19: =SUM(E19:G19) -> 114327 | P19: =SUM(H19:J19) -> 136352 | Q19: =SUM(K19:M19) -> 139369 | R19: =SUM(B19:M19) -> 543750
A20: Total COGS | B20: =SUM(B17:B19) -> 172123 | C20: =SUM(C17:C19) -> 213727 | D20: =SUM(D17:D19) -> 181418 | E20: =SUM(E17:E19) -> 201975 | F20: =SUM(F17:F19) -> 150068 | G20: =SUM(G17:G19) -> 165503 | H20: =SUM(H17:H19) -> 191476 | I20: =SUM(I17:I19) -> 201615 | ... R20: =SUM(R17:R19) -> 2196360
A22: Total Gross Profit | B22: =B11-B20 -> 279975 | C22: =C11-C20 -> 373288 | D22: =D11-D20 -> 356126 | E22: =E11-E20 -> 84216 | F22: =F11-F20 -> 236680 | G22: =G11-G20 -> 117833 | H22: =H11-H20 -> 360798 | I22: =I11-I20 -> 339729 | ... R22: =R11-R20 -> 3265699
A24: Operating Expenses:
A25: Sales & Marketing | B25: 54964 | C25: 29502 | D25: 37246 | E25: 27591 | F25: 57762 | G25: 54051 | H25: 31610 | I25: 61687 | J25: 53060 | K25: 35915 | L25: 43956 | M25: 64225 | N25: =SUM(B26:D26) -> 117176 | O25: =SUM(E26:G26) -> 147705 | P25: =SUM(H26:J26) -> 142368 | Q25: =SUM(K26:M26) -> 138196 | R25: =SUM(B26:M26) -> 545445
A26: G&A | B26: 50680 | C26: 36096 | D26: 30400 | E26: 60898 | F26: 31929 | G26: 54878 | H26: 47031 | I26: 41026 | J26: 54311 | K26: 36958 | L26: 59639 | M26: 41599 | N26: =SUM(B25:D25) -> 121712 | O26: =SUM(E25:G25) -> 139404 | P26: =SUM(H25:J25) -> 146357 | Q26: =SUM(K25:M25) -> 144096 | R26: =SUM(B25:M25) -> 551569
A27: R&D | B27: 52762 | C27: 41443 | D27: 25189 | E27: 48823 | F27: 32962 | G27: 30985 | H27: 29320 | I27: 56586 | J27: 30542 | K27: 59748 | L27: 41479 | M27: 53827 | N27: =SUM(B27:D27) -> 119394 | O27: =SUM(E27:G27) -> 112770 | P27: =SUM(H27:J27) -> 116448 | Q27: =SUM(K27:M27) -> 155054 | R27: =SUM(B27:M27) -> 503666
A28: Total Operating Expenses | B28: =SUM(B25:B27) -> 158406 | C28: =SUM(C25:C27) -> 107041 | D28: =SUM(D25:D27) -> 92835 | E28: =SUM(E25:E27) -> 137312 | F28: =SUM(F25:F27) -> 122653 | G28: =SUM(G25:G27) -> 139914 | H28: =SUM(H25:H27) -> 107961 | I28: =SUM(I25:I27) -> 159299 | ... R28: =SUM(R25:R27) -> 1600680
A30: Total Net Income | B30: =B22-B28 -> 121569 | C30: =C22-C28 -> 266247 | D30: =D22-D28 -> 263291 | E30: =E22-E28 -> -53096 | F30: =F22-F28 -> 114027 | G30: =G22-G28 -> -22081 | H30: =H22-H28 -> 252837 | I30: =I22-I28 -> 180430 | ... R30: =R22-R28 -> 1665019

Sheet Visible Cells
A1: Trans ID | B1: Date | C1: Customer | D1: Region | E1: Product | F1: Revenue
A2: 10013388 | B2: 41640 | C2: Customer A | D2: South | E2: Product 7 | F2: 9710.77
A3: 10012670 | B3: 41641 | C3: Customer E | D3: West | E3: Product 1 | F3: 2643.85
A4: 10013647 | B4: 41644 | C4: Customer A | D4: West | E4: Product 7 | F4: 2949.55
A5: 10012794 | B5: 41645 | C5: Customer F | D5: West | E5: Product 2 | F5: 3922.78
A6: 10012736 | B6: 41648 | C6: Customer F | D6: South | E6: Product 1 | F6: 7804.19
A7: 10013325 | B7: 41648 | C7: Customer B | D7: North | E7: Product 7 | F7: 2955.25
A8: 10012869 | B8: 41650 | C8: Customer B | D8: North | E8: Product 3 | F8: 671.55
A9: 10013155 | B9: 41650 | C9: Customer B | D9: South | E9: Product 5 | F9: 5654.36
A10: 10013326 | B10: 41650 | C10: Customer A | D10: East | E10: Product 7 | F10: 2980.64
A11: 10013275 | B11: 41651 | C11: Customer F | D11: North | E11: Product 6 | F11: 7820.45
A12: 10013528 | B12: 41652 | C12: Customer D | D12: North | E12: Product 9 | F12: 2386.04
A13: 10012876 | B13: 41653 | C13: Customer C | D13: South | E13: Product 3 | F13: 1625.08
... A16: 10013475 | B16: 41659 | C16: Customer D | D16: West | E16: Product 8 | F16: 7899.72

Sheet Navigation
A1: Trans ID | B1: Date | C1: Customer | D1: Region | E1: Product | F1: Revenue
A2: 10013388 | B2: 41640 | C2: Customer A | D2: South | E2: Product 7 | F2: 9710.77
A3: 10012670 | B3: 41641 | C3: Customer E | D3: West | E3: Product 1 | F3: 2643.85
A4: 10013647 | B4: 41644 | C4: Customer A | D4: West | F4: 2949.55
A5: 10012794 | B5: 41645 | C5: Customer F | D5: West | E5: Product 2 | F5: 3922.78
A6: 10012736 | B6: 41648 | C6: Customer F | D6: South | E6: Product 1 | F6: 7804.19
A7: 10013325 | B7: 41648 | C7: Customer B | D7: North | E7: Product 7 | F7: 2955.25
A8: 10012869 | B8: 41650 | C8: Customer B | D8: North | E8: Product 3 | F8: 671.55
A9: 10013155 | B9: 41650 | C9: Customer B | D9: South | E9: Product 5 | F9: 5654.36
A10: 10013326 | B10: 41650 | C10: Customer A | D10: East | E10: Product 7 | F10: 2980.64
A11: 10013275 | B11: 41651 | C11: Customer F | D11: North | E11: Product 6 | F11: 7820.45
A12: 10013528 | B12: 41652 | C12: Customer D | D12: North | E12: Product 9 | F12: 2386.04
A13: 10012876 | B13: 41653 | C13: Customer C | D13: South | E13: Product 3 | F13: 1625.08
A14: 10013603 | B14: 41653 | C14: Customer A | D14: West | E14: Product 9 | F14: 8976.76
A15: 10012785 | B15: 41654 | C15: Customer B | D15: East | E15: Product 2 | F15: 3394.78
A16: 10013475 | B16: 41659 | C16: Customer D | D16: West | E16: Product 8 | F16: 7899.72
... A34: 10013373 | B34: 41680 | C34: Customer E | D34: South | E34: Product 7 | F34: 8021.68
A35: 10013634 | B35: 41680 | C35: Customer F | D35: North | F35: 1064.07
A36: 10013056 | B36: 41681 | C36: Customer B | D36: North | E36: Product 4 | F36: 6968.37
A37: 10012909 | B37: 41682 | C37: Customer C | D37: South | E37: Product 3 | F37: 4347.53
A38: 10012971 | B38: 41683 | C38: Customer C | D38: East | E38: Product 3 | F38: 9137.49
A39: 10012761 | B39: 41684 | C39: Customer F | D39: South | E39: Product 2 | F39: 645.05
A40: 10013029 | B40: 41684 | C40: Customer C | D40: North | E40: Product 4 | F40: 3915.11
A41: 10012695 | B41: 41686 | C41: Customer C | D41: East | E41: Product 1 | F41: 4941.27
A42: 10012850 | B42: 41687 | C42: Customer F | D42: North | E42: Product 2 | F42: 8806.81
A43: 10013082 | B43: 41687 | C43: Customer A | D43: East | E43: Product 4 | F43: 9302.79
A44: 10013616 | B44: 41687 | C44: Customer A | D44: North | F44: 246.17
A45: 10012726 | B45: 41690 | C45: Customer D | D45: East | E45: Product 1 | F45: 7255.45
A46: 10013279 | B46: 41693 | C46: Customer C | D46: North | E46: Product 6 | F46: 8389.76
A47: 10013621 | B47: 41693 | C47: Customer F | D47: South | F47: 518.32
A48: 10012843 | B48: 41694 | C48: Customer B | D48: North | E48: Product 2 | F48: 8410.98
A49: 10012866 | B49: 41694 | C49: Customer B | D49: North | E49: Product 3 | F49: 563.15
A50: 10013640 | B50: 41694 | C50: Customer E | D50: South | F50: 1201.02
A51: 10012870 | B51: 41695 | C51: Customer F | D51: South | E51: Product 3 | F51: 737.98
A52: 10013099 | B52: 41697 | C52: Customer A | D52: South | E52: Product 5 | F52: 1009.23
A53: 10013273 | B53: 41697 | C53: Customer F | D53: West | E53: Product 6 | F53: 7412.78
A54: 10012771 | B54: 41700 | C54: Customer F | D54: North | E54: Product 2 | F54: 1575.1
A55: 10013080 | B55: 41700 | C55: Customer A | D55: North | E55: Product 4 | F55: 9175.81
A56: 10013023 | B56: 41703 | C56: Customer A | D56: East | E56: Product 4 | F56: 3301.12
A57: 10013346 | B57: 41704 | C57: Customer B | D57: East | E57: Product 7 | F57: 5152.85
...

Sheet Find Next
A1: Trans ID | B1: Date | C1: Customer | D1: Region | E1: Product | F1: Revenue
A2: 10013388 | B2: 41640 | C2: Customer A | D2: South | E2: Product 7 | F2: 9710.77
A3: 10012670 | B3: 41641 | C3: Customer E | D3: West | E3: Product 1 | F3: 2643.85
A4: 10013647 | B4: 41644 | C4: Customer A | D4: West | F4: 2949.55
A5: 10012794 | B5: 41645 | C5: Customer F | D5: West | E5: Product 2 | F5: 3922.78
A6: 10012736 | B6: 41648 | C6: Customer F | D6: South | E6: Product 1 | F6: 7804.19
A7: 10013325 | B7: 41648 | C7: Customer B | D7: North | E7: Product 7 | F7: 2955.25
A8: 10012869 | B8: 41650 | C8: Customer B | D8: North | E8: Product 3 | F8: 671.55
A9: 10013155 | B9: 41650 | C9: Customer B | D9: South | E9: Product 5 | F9: 5654.36
A10: 10013326 | B10: 41650 | C10: Customer A | D10: East | E10: Product 7 | F10: 2980.64
A11: 10013275 | B11: 41651 | C11: Customer F | D11: North | E11: Product 6 | F11: 7820.45
A12: 10013528 | B12: 41652 | C12: Customer D | D12: North | E12: Product 9 | F12: 2386.04
A13: 10012876 | B13: 41653 | C13: Customer C | D13: South | E13: Product 3 | F13: 1625.08
A14: 10013603 | B14: 41653 | C14: Customer A | D14: West | E14: Product 9 | F14: 8976.76
A15: 10012785 | B15: 41654 | C15: Customer B | D15: East | E15: Product 2 | F15: 3394.78
A16: 10013475 | B16: 41659 | C16: Customer D | D16: West | E16: Product 8 | F16: 7899.72
... A34: 10013373 | B34: 41680 | C34: Customer E | D34: South | E34: Product 7 | F34: 8021.68
A35: 10013634 | B35: 41680 | C35: Customer F | D35: North | F35: 1064.07
A36: 10013056 | B36: 41681 | C36: Customer B | D36: North | E36: Product 4 | F36: 6968.37
A37: 10012909 | B37: 41682 | C37: Customer C | D37: South | E37: Product 3 | F37: 4347.53
A38: 10012971 | B38: 41683 | C38: Customer C | D38: East | E38: Product 3 | F38: 9137.49
A39: 10012761 | B39: 41684 | C39: Customer F | D39: South | E39: Product 2 | F39: 645.05
A40: 10013029 | B40: 41684 | C40: Customer C | D40: North | E40: Product 4 | F40: 3915.11
A41: 10012695 | B41: 41686 | C41: Customer C | D41: East | E41: Product 1 | F41: 4941.27
A42: 10012850 | B42: 41687 | C42: Customer F | D42: North | E42: Product 2 | F42: 8806.81
A43: 10013082 | B43: 41687 | C43: Customer A | D43: East | E43: Product 4 | F43: 9302.79
A44: 10013616 | B44: 41687 | C44: Customer A | D44: North | F44: 246.17
A45: 10012726 | B45: 41690 | C45: Customer D | D45: East | E45: Product 1 | F45: 7255.45
A46: 10013279 | B46: 41693 | C46: Customer C | D46: North | E46: Product 6 | F46: 8389.76
A47: 10013621 | B47: 41693 | C47: Customer F | D47: South | F47: 518.32
A48: 10012843 | B48: 41694 | C48: Customer B | D48: North | E48: Product 2 | F48: 8410.98
A49: 10012866 | B49: 41694 | C49: Customer B | D49: North | E49: Product 3 | F49: 563.15
A50: 10013640 | B50: 41694 | C50: Customer E | D50: South | F50: 1201.02
A51: 10012870 | B51: 41695 | C51: Customer F | D51: South | E51: Product 3 | F51: 737.98
A52: 10013099 | B52: 41697 | C52: Customer A | D52: South | E52: Product 5 | F52: 1009.23
A53: 10013273 | B53: 41697 | C53: Customer F | D53: West | E53: Product 6 | F53: 7412.78
A54: 10012771 | B54: 41700 | C54: Customer F | D54: North | E54: Product 2 | F54: 1575.1
A55: 10013080 | B55: 41700 | C55: Customer A | D55: North | E55: Product 4 | F55: 9175.81
A56: 10013023 | B56: 41703 | C56: Customer A | D56: East | E56: Product 4 | F56: 3301.12
A57: 10013346 | B57: 41704 | C57: Customer B | D57: East | E57: Product 7 | F57: 5152.85
...

Sheet Copying Data
A1: Date | B1: Product | C1: Qty | D1: Price | E1: Shipping | F1: Net Total | G1: Total
A2: 41640 | B2: Product 7 | C2: 7 | D2: 5 | E2: 6
A3: 41641 | B3: Product 1 | C3: 6 | D3: 6 | E3: 7
A4: 41644 | B4: Product 7 | C4: 9 | D4: 11 | E4: 9
A5: 41645 | B5: Product 2 | C5: 2 | D5: 15 | E5: 6
A6: 41648 | B6: Product 1 | C6: 4 | D6: 23 | E6: 8
A7: 41648 | B7: Product 7 | C7: 4 | D7: 9 | E7: 6
A8: 41650 | B8: Product 3 | C8: 7 | D8: 8 | E8: 7
A9: 41650 | B9: Product 5 | C9: 1 | D9: 6 | E9: 6
A10: 41650 | B10: Product 7 | C10: 1 | D10: 24 | E10: 6
A11: 41651 | B11: Product 6 | C11: 7 | D11: 6 | E11: 7
A12: 41652 | B12: Product 9 | C12: 10 | D12: 10 | E12: 10
A13: 41653 | B13: Product 3 | C13: 5 | D13: 24 | E13: 7
... A16: 41659 | B16: Product 8 | C16: 5 | D16: 11 | E16: 5

Sheet Formula Text
A1: Month | B1: Expenses
A2: Jan | B2: 5313
A3: Feb | B3: 5993
A4: Mar | B4: 7654
A5: Apr | B5: 5748
A6: May | B6: 7080
A7: Jun | B7: 6098
A8: Jul | B8: 7733
A9: Aug | B9: 5954
A10: Sep | B10: 7932
A11: Oct | B11: 7086
A12: Nov | B12: 6912
A13: Dec | B13: 5903
A14: Total | B14: =SUM(B2:B13) -> 79406

Sheet Line Break
A1: The ABC Company
A2: Detailed Income Statement
A3: Group: West
A4: Southwest Region | D4: 10
B6: Jan | C6: Feb | D6: Mar | E6: Apr | F6: May | G6: Jun | H6: Jul | I6: Aug | J6: Sep | K6: Oct | L6: Nov | M6: Dec | N6: Q1 | O6: Q2 | P6: Q3 | Q6: Q4 | R6: Forecast FY 2019
A7: Revenue:
A8: A Revenue | B8: 18193500 | C8: 24598700 | D8: 15130700 | E8: 8450300 | F8: 21431600 | G8: 5565900 | H8: 17614100 | I8: 17756100 | J8: 7710000 | K8: 16294000 | L8: 18453700 | M8: 20947600 | N8: =SUM(B8:D8) -> 57922900 | O8: =SUM(E8:G8) -> 35447800 | P8: =SUM(H8:J8) -> 43080200 | Q8: =SUM(K8:M8) -> 55695300 | R8: =SUM(B8:M8) -> 192146200
A9: B Revenue | B9: 116701 | C9: 236988 | D9: 239218 | E9: 64445 | F9: 111504 | G9: 133461 | H9: 245566 | I9: 229791 | J9: 90365 | K9: 139923 | L9: 128754 | M9: 201820 | N9: =SUM(B9:D9) -> 592907 | O9: =SUM(E9:G9) -> 309410 | P9: =SUM(H9:J9) -> 565722 | Q9: =SUM(K9:M9) -> 470497 | R9: =SUM(B9:M9) -> 1938536
A10: C Revenue | B10: 153462 | C10: 104040 | D10: 147019 | E10: 137243 | F10: 60928 | G10: 94216 | H10: 130567 | I10: 133992 | J10: 162483 | K10: 165731 | L10: 130116 | M10: 182264 | N10: =SUM(B10:D10) -> 404521 | O10: =SUM(E10:G10) -> 292387 | P10: =SUM(H10:J10) -> 427042 | Q10: =SUM(K10:M10) -> 478111 | R10: =SUM(B10:M10) -> 1602061
A11: Total Revenue | B11: =SUM(B8:B10) -> 18463663 | C11: =SUM(C8:C10) -> 24939728 | D11: =SUM(D8:D10) -> 15516937 | E11: =SUM(E8:E10) -> 8651988 | F11: =SUM(F8:F10) -> 21604032 | G11: =SUM(G8:G10) -> 5793577 | H11: =SUM(H8:H10) -> 17990233 | I11: =SUM(I8:I10) -> 18119883 | ... R11: =SUM(R8:R10) -> 195686797
A13: Cost of Goods Sold:
A14: A Costs
A15: A1 Costs | B15: 54877 | C15: 64186 | D15: 33146 | E15: 54186 | F15: 25597 | G15: 37586 | H15: 62650 | I15: 50542 | J15: 36624 | K15: 49103 | L15: 43024 | M15: 26156 | N15: =SUM(B15:D15) -> 152209 | O15: =SUM(E15:G15) -> 117369 | P15: =SUM(H15:J15) -> 149816 | Q15: =SUM(K15:M15) -> 118283 | R15: =SUM(B15:M15) -> 537677
A16: A2 Costs | B16: 34513 | C16: 32675 | D16: 45412 | E16: 61204 | F16: 60562 | G16: 44514 | H16: 64880 | I16: 45959 | J16: 36403 | K16: 55828 | L16: 48057 | M16: 29836 | N16: =SUM(B16:D16) -> 112600 | O16: =SUM(E16:G16) -> 166280 | P16: =SUM(H16:J16) -> 147242 | Q16: =SUM(K16:M16) -> 133721 | R16: =SUM(B16:M16) -> 559843
A17: Total A Costs | B17: =SUM(B15:B16) -> 89390 | C17: =SUM(C15:C16) -> 96861 | D17: =SUM(D15:D16) -> 78558 | E17: =SUM(E15:E16) -> 115390 | F17: =SUM(F15:F16) -> 86159 | G17: =SUM(G15:G16) -> 82100 | H17: =SUM(H15:H16) -> 127530 | I17: =SUM(I15:I16) -> 96501 | ... M17: =SUM(M15:M16) -> 55992 | N17: =SUM(B17:D17) -> 264809 | O17: =SUM(E17:G17) -> 283649 | P17: =SUM(H17:J17) -> 297058 | Q17: =SUM(K17:M17) -> 252004 | R17: =SUM(B17:M17) -> 1097520
A18: B Costs | B18: 28883 | C18: 62964 | D18: 56910 | E18: 53012 | F18: 38844 | G18: 27714 | H18: 35362 | I18: 60445 | J18: 48619 | K18: 53144 | L18: 62440 | M18: 26753 | N18: =SUM(B18:D18) -> 148757 | O18: =SUM(E18:G18) -> 119570 | P18: =SUM(H18:J18) -> 144426 | Q18: =SUM(K18:M18) -> 142337 | R18: =SUM(B18:M18) -> 555090
A19: C Costs | B19: 53850 | C19: 53902 | D19: 45950 | E19: 33573 | F19: 25065 | G19: 55689 | H19: 28584 | I19: 44669 | J19: 63099 | K19: 32213 | L19: 60240 | M19: 46916 | N19: =SUM(B19:D19) -> 153702 | O19: =SUM(E19:G19) -> 114327 | P19: =SUM(H19:J19) -> 136352 | Q19: =SUM(K19:M19) -> 139369 | R19: =SUM(B19:M19) -> 543750
A20: Total COGS | B20: =SUM(B17:B19) -> 172123 | C20: =SUM(C17:C19) -> 213727 | D20: =SUM(D17:D19) -> 181418 | E20: =SUM(E17:E19) -> 201975 | F20: =SUM(F17:F19) -> 150068 | G20: =SUM(G17:G19) -> 165503 | H20: =SUM(H17:H19) -> 191476 | I20: =SUM(I17:I19) -> 201615 | ... R20: =SUM(R17:R19) -> 2196360
A22: Total Gross Profit | B22: =B11-B20 -> 18291540 | C22: =C11-C20 -> 24726001 | D22: =D11-D20 -> 15335519 | E22: =E11-E20 -> 8450013 | F22: =F11-F20 -> 21453964 | G22: =G11-G20 -> 5628074 | H22: =H11-H20 -> 17798757 | I22: =I11-I20 -> 17918268 | ... R22: =R11-R20 -> 193490437
A24: Operating Expenses:
A25: Sales & Marketing | B25: 54964 | C25: 29502 | D25: 37246 | E25: 27591 | F25: 57762 | G25: 54051 | H25: 31610 | I25: 61687 | J25: 53060 | K25: 35915 | L25: 43956 | M25: 64225 | N25: =SUM(B26:D26) -> 117176 | O25: =SUM(E26:G26) -> 147705 | P25: =SUM(H26:J26) -> 142368 | Q25: =SUM(K26:M26) -> 138196 | R25: =SUM(B26:M26) -> 545445
A26: G&A | B26: 50680 | C26: 36096 | D26: 30400 | E26: 60898 | F26: 31929 | G26: 54878 | H26: 47031 | I26: 41026 | J26: 54311 | K26: 36958 | L26: 59639 | M26: 41599 | N26: =SUM(B25:D25) -> 121712 | O26: =SUM(E25:G25) -> 139404 | P26: =SUM(H25:J25) -> 146357 | Q26: =SUM(K25:M25) -> 144096 | R26: =SUM(B25:M25) -> 551569
A27: R&D | B27: 52762 | C27: 41443 | D27: 25189 | E27: 48823 | F27: 32962 | G27: 30985 | H27: 29320 | I27: 56586 | J27: 30542 | K27: 59748 | L27: 41479 | M27: 53827 | N27: =SUM(B27:D27) -> 119394 | O27: =SUM(E27:G27) -> 112770 | P27: =SUM(H27:J27) -> 116448 | Q27: =SUM(K27:M27) -> 155054 | R27: =SUM(B27:M27) -> 503666
A28: Total Operating Expenses | B28: =SUM(B25:B27) -> 158406 | C28: =SUM(C25:C27) -> 107041 | D28: =SUM(D25:D27) -> 92835 | E28: =SUM(E25:E27) -> 137312 | F28: =SUM(F25:F27) -> 122653 | G28: =SUM(G25:G27) -> 139914 | H28: =SUM(H25:H27) -> 107961 | I28: =SUM(I25:I27) -> 159299 | ... R28: =SUM(R25:R27) -> 1600680
A30: Total Net Income | B30: =B22-B28 -> 18133134 | C30: =C22-C28 -> 24618960 | D30: =D22-D28 -> 15242684 | E30: =E22-E28 -> 8312701 | F30: =F22-F28 -> 21331311 | G30: =G22-G28 -> 5488160 | H30: =H22-H28 -> 17690796 | I30: =I22-I28 -> 17758969 | ... R30: =R22-R28 -> 191889757

Sheet Cell Styles
A1: Cell Styles
A3: Type | B3: Example
A4: Data Input | B4: 1000 | C4: Text | D4: 43466
A5: Number Formats | B5: 1245.5
A6: Custom Format | B6: 0.0525

Sheet Column Differences
A1: ID | B1: First Name | C1: Last Name | D1: Revenue | E1: Rate | F1: Commission
A2: 1 | B2: Garwin | C2: Whaites | D2: 50015 | E2: 0.2 | F2: =D2*E2 -> 10003
A3: 2 | B3: Alasdair | C3: Sperry | D3: 35326 | E3: 0.25 | F3: =D3*E3 -> 8831.5
A4: 2 | B4: Alasdair | C4: Sperry | D4: 36061 | E4: 0.25 | F4: =D4*E4+(D4*0.02) -> 9736.47
A5: 3 | B5: Travis | C5: Fendlow | D5: 12942 | E5: 0.18 | F5: =D5*E5 -> 2329.56
A6: 3 | B6: Travis | C6: Fendlow | D6: 70780 | E6: 0.25 | F6: =D6*E6 -> 17695
A7: 4 | B7: Hank | C7: Block | D7: 39611 | E7: 0.25 | F7: =D7*E7 -> 9902.75
A8: 5 | B8: Hewie | C8: Oslar | D8: 96921 | E8: 0.2 | F8: =D8*E8 -> 19384.2
A9: 6 | B9: Taddeo | C9: McBrady | D9: 42192 | E9: 0.2 | F9: 10000
A10: 7 | B10: Shantee | C10: MacKettrick | D10: 71727 | E10: 0.2 | F10: =D10*E10 -> 14345.4
A11: 8 | B11: Brietta | C11: Munnery | D11: 23623 | E11: 0.2 | F11: =D11*1.25 -> 29528.75
A12: 8 | B12: Brietta | C12: Munnery | D12: 18964 | E12: 0.18 | F12: =D12*E12 -> 3413.52
A13: 9 | B13: Aurthur | C13: Conibere | D13: 65546 | E13: 0.2 | F13: 13000
A14: 10 | B14: Lacee | C14: Sibbs | D14: 90939 | E14: 0.25 | F14: =D14*E14 -> 22734.75
A15: 11 | B15: Galvan | C15: Gormally | D15: 87878 | E15: 0.2 | F15: =D15*E15 -> 17575.6
A16: 12 | B16: Bent | C16: Jennison | D16: 10154 | E16: 0.25 | F16: =D16*E16 -> 2538.5
A17: 13 | B17: Roselia | C17: Dive | D17: 73496 | E17: 0.18 | F17: =D17*E17 -> 13229.28
A18: 14 | B18: Vivianne | C18: Berge | D18: 46857 | E18: 0.25 | F18: =D18*E18 -> 11714.25

Sheet Formula Dependents
A1: Month | B1: Expenses | C1: Adjusted Exp | E1: Change: | F1: 0.85
A2: Jan | B2: 5313 | C2: =B2*$F$3 -> 4781.7 | E2: Adjust +/-: | F2: 0.05
A3: Feb | B3: 5993 | C3: =B3*$F$3 -> 5393.7 | E3: Total Change: | F3: =SUM(F1:F2) -> 0.9
A4: Mar | B4: 7654 | C4: =B4*$F$3 -> 6888.6
A5: Apr | B5: 5748 | C5: =B5*$F$3 -> 5173.2
A6: May | B6: 7080 | C6: =B6*$F$3 -> 6372
A7: Jun | B7: 6098 | C7: =B7*$F$3 -> 5488.2
A8: Jul | B8: 7733 | C8: =B8*$F$3 -> 6959.7
A9: Aug | B9: 5954 | C9: =B9*$F$3 -> 5358.6
A10: Sep | B10: 7932 | C10: =B10*$F$3 -> 7138.8
A11: Oct | B11: 7086 | C11: =B11*$F$3 -> 6377.4
A12: Nov | B12: 6912 | C12: =B12*$F$3 -> 6220.8
A13: Dec | B13: 5903 | C13: =B13*$F$3 -> 5312.7
A14: Total | B14: =SUM(B2:B13) -> 79406 | C14: =SUM(C2:C13) -> 71465.4

Sheet Named Ranges
A1: Named Ranges
A3: Month | B3: Expenses | C3: Adjusted Exp | E3: % Change: | F3: 0.9
A4: Jan | B4: 5313 | C4: =B4*rngPctChange -> 4781.7 | E4: Split %:
A5: Feb | B5: 5993 | C5: =B5*rngPctChange -> 5393.7
A6: Mar | B6: 7654 | C6: =B6*rngPctChange -> 6888.6
A7: Apr | B7: 5748 | C7: =B7*rngPctChange -> 5173.2
A8: May | B8: 7080 | C8: =B8*rngPctChange -> 6372
A9: Jun | B9: 6098 | C9: =B9*rngPctChange -> 5488.2
A10: Jul | B10: 7733 | C10: =B10*rngPctChange -> 6959.7
A11: Aug | B11: 5954 | C11: =B11*rngPctChange -> 5358.6
A12: Sep | B12: 7932 | C12: =B12*rngPctChange -> 7138.8
A13: Oct | B13: 7086 | C13: =B13*rngPctChange -> 6377.4
A14: Nov | B14: 6912 | C14: =B14*rngPctChange -> 6220.8
A15: Dec | B15: 5903 | C15: =B15*rngPctChange -> 5312.7
A16: Total | B16: =SUM(rngExpenses) -> 79406 | C16: =SUM(C4:C15) -> 71465.4
A18: Max | B18: =MAX(rngExpenses) -> 7932
A19: Min | B19: =MIN(rngExpenses) -> 5313
A20: Average | B20: =AVERAGE(rngExpenses) -> 6617.1667

Sheet Formula Bar
A1: Issue Tracker Dashboard
A2: 43525 | B2: - | C2: =EOMONTH(A2,0) -> 43555
A3: Start Date | C3: End Date
A6: Issues (Excl. Types 5 & 7) | D6: Bldg 1 | E6: Bldg 2 | F6: Bldg 3 | G6: Bldg 4 | H6: Bldg 5 | I6: Bldg 6 | J6: Total
A7: Low Priority | D7: {=SUM(COUNTIFS(tblLocData[TYPE],{"Type 1","Type 2","Type 3","Type 4","Type 6"},tblLocData[LOCATION],'Formula Bar'!D$6,tblLocData[PRIORITY],"Low",tblLocData[OPENED ON],">="&'Formula Bar'!$A$2,tblLocData[OPENED ON],"<="&'Formula Bar'!$C$2))/SUM(COUNTIFS(tblLocData[TYPE],{"Type 1","Type 2","Type 3","Type 4","Type 6"},tblLocData[LOCATION],'Formula Bar'!D$6,tblLocData[OPENED ON],">="&'Formula Bar'!$A$2,tblLocData[OPENED ON],"<="&'Formula Bar'!$C$2))} -> 0.28571429 | E7: {=SUM(COUNTIFS(tblLocData[TYPE],{"Type 1","Type 2","Type 3","Type 4","Type 6"},tblLocData[LOCATION],'Formula Bar'!E$6,tblLocData[PRIORITY],"Low",tblLocData[OPENED ON],">="&'Formula Bar'!$A$2,tblLocData[OPENED ON],"<="&'Formula Bar'!$C$2))/SUM(COUNTIFS(tblLocData[TYPE],{"Type 1","Type 2","Type 3","Type 4","Type 6"},tblLocData[LOCATION],'Formula Bar'!E$6,tblLocData[OPENED ON],">="&'Formula Bar'!$A$2,tblLocData[OPENED ON],"<="&'Formula Bar'!$C$2))} -> 0.5 | F7: {=SUM(COUNTIFS(tblLocData[TYPE],{"Type 1","Type 2","Type 3","Type 4","Type 6"},tblLocData[LOCATION],'Formula Bar'!F$6,tblLocData[PRIORITY],"Low",tblLocData[OPENED ON],">="&'Formula Bar'!$A$2,tblLocData[OPENED ON],"<="&'Formula Bar'!$C$2))/SUM(COUNTIFS(tblLocData[TYPE],{"Type 1","Type 2","Type 3","Type 4","Type 6"},tblLocData[LOCATION],'Formula Bar'!F$6,tblLocData[OPENED ON],">="&'Formula Bar'!$A$2,tblLocData[OPENED ON],"<="&'Formula Bar'!$C$2))} -> 0.33333333 | G7: {=SUM(COUNTIFS(tblLocData[TYPE],{"Type 1","Type 2","Type 3","Type 4","Type 6"},tblLocData[LOCATION],'Formula Bar'!G$6,tblLocData[PRIORITY],"Low",tblLocData[OPENED ON],">="&'Formula Bar'!$A$2,tblLocData[OPENED ON],"<="&'Formula Bar'!$C$2))/SUM(COUNTIFS(tblLocData[TYPE],{"Type 1","Type 2","Type 3","Type 4","Type 6"},tblLocData[LOCATION],'Formula Bar'!G$6,tblLocData[OPENED ON],">="&'Formula Bar'!$A$2,tblLocData[OPENED ON],"<="&'Formula Bar'!$C$2))} -> 0.25 | H7: {=SUM(COUNTIFS(tblLocData[TYPE],{"Type 1","Type 2","Type 3","Type 4","Type 6"},tblLocData[LOCATION],'Formula Bar'!H$6,tblLocData[PRIORITY],"Low",tblLocData[OPENED ON],">="&'Formula Bar'!$A$2,tblLocData[OPENED ON],"<="&'Formula Bar'!$C$2))/SUM(COUNTIFS(tblLocData[TYPE],{"Type 1","Type 2","Type 3","Type 4","Type 6"},tblLocData[LOCATION],'Formula Bar'!H$6,tblLocData[OPENED ON],">="&'Formula Bar'!$A$2,tblLocData[OPENED ON],"<="&'Formula Bar'!$C$2))} -> 0.5 | I7: {=SUM(COUNTIFS(tblLocData[TYPE],{"Type 1","Type 2","Type 3","Type 4","Type 6"},tblLocData[LOCATION],'Formula Bar'!I$6,tblLocData[PRIORITY],"Low",tblLocData[OPENED ON],">="&'Formula Bar'!$A$2,tblLocData[OPENED ON],"<="&'Formula Bar'!$C$2))/SUM(COUNTIFS(tblLocData[TYPE],{"Type 1","Type 2","Type 3","Type 4","Type 6"},tblLocData[LOCATION],'Formula Bar'!I$6,tblLocData[OPENED ON],">="&'Formula Bar'!$A$2,tblLocData[OPENED ON],"<="&'Formula Bar'!$C$2))} -> 0.5 | J7: {=SUM(COUNTIFS(tblLocData[TYPE],{"Type 1","Type 2","Type 3","Type 4","Type 6"},tblLocData[PRIORITY],"Low",tblLocData[OPENED ON],">="&'Formula Bar'!$A$2,tblLocData[OPENED ON],"<="&'Formula Bar'!$C$2))/SUM(COUNTIFS(tblLocData[TYPE],{"Type 1","Type 2","Type 3","Type 4","Type 6"},tblLocData[OPENED ON],">="&'Formula Bar'!$A$2,tblLocData[OPENED ON],"<="&'Formula Bar'!$C$2))} -> 0.39285714
A8: Medium Priority | D8: {=SUM(COUNTIFS(tblLocData[TYPE],{"Type 1","Type 2","Type 3","Type 4","Type 6"},tblLocData[LOCATION],'Formula Bar'!D$6,tblLocData[PRIORITY],"Medium",tblLocData[OPENED ON],">="&'Formula Bar'!$A$2,tblLocData[OPENED ON],"<="&'Formula Bar'!$C$2))/SUM(COUNTIFS(tblLocData[TYPE],{"Type 1","Type 2","Type 3","Type 4","Type 6"},tblLocData[LOCATION],'Formula Bar'!D$6,tblLocData[OPENED ON],">="&'Formula Bar'!$A$2,tblLocData[OPENED ON],"<="&'Formula Bar'!$C$2))} -> 0.42857143 | E8: {=SUM(COUNTIFS(tblLocData[TYPE],{"Type 1","Type 2","Type 3","Type 4","Type 6"},tblLocData[LOCATION],'Formula Bar'!E$6,tblLocData[PRIORITY],"Medium",tblLocData[OPENED ON],">="&'Formula Bar'!$A$2,tblLocData[OPENED ON],"<="&'Formula Bar'!$C$2))/SUM(COUNTIFS(tblLocData[TYPE],{"Type 1","Type 2","Type 3","Type 4","Type 6"},tblLocData[LOCATION],'Formula Bar'!E$6,tblLocData[OPENED ON],">="&'Formula Bar'!$A$2,tblLocData[OPENED ON],"<="&'Formula Bar'!$C$2))} -> 0.16666667 | F8: {=SUM(COUNTIFS(tblLocData[TYPE],{"Type 1","Type 2","Type 3","Type 4","Type 6"},tblLocData[LOCATION],'Formula Bar'!F$6,tblLocData[PRIORITY],"Medium",tblLocData[OPENED ON],">="&'Formula Bar'!$A$2,tblLocData[OPENED ON],"<="&'Formula Bar'!$C$2))/SUM(COUNTIFS(tblLocData[TYPE],{"Type 1","Type 2","Type 3","Type 4","Type 6"},tblLocData[LOCATION],'Formula Bar'!F$6,tblLocData[OPENED ON],">="&'Formula Bar'!$A$2,tblLocData[OPENED ON],"<="&'Formula Bar'!$C$2))} -> 0.66666667 | G8: {=SUM(COUNTIFS(tblLocData[TYPE],{"Type 1","Type 2","Type 3","Type 4","Type 6"},tblLocData[LOCATION],'Formula Bar'!G$6,tblLocData[PRIORITY],"Medium",tblLocData[OPENED ON],">="&'Formula Bar'!$A$2,tblLocData[OPENED ON],"<="&'Formula Bar'!$C$2))/SUM(COUNTIFS(tblLocData[TYPE],{"Type 1","Type 2","Type 3","Type 4","Type 6"},tblLocData[LOCATION],'Formula Bar'!G$6,tblLocData[OPENED ON],">="&'Formula Bar'!$A$2,tblLocData[OPENED ON],"<="&'Formula Bar'!$C$2))} -> 0.75 | H8: {=SUM(COUNTIFS(tblLocData[TYPE],{"Type 1","Type 2","Type 3","Type 4","Type 6"},tblLocData[LOCATION],'Formula Bar'!H$6,tblLocData[PRIORITY],"Medium",tblLocData[OPENED ON],">="&'Formula Bar'!$A$2,tblLocData[OPENED ON],"<="&'Formula Bar'!$C$2))/SUM(COUNTIFS(tblLocData[TYPE],{"Type 1","Type 2","Type 3","Type 4","Type 6"},tblLocData[LOCATION],'Formula Bar'!H$6,tblLocData[OPENED ON],">="&'Formula Bar'!$A$2,tblLocData[OPENED ON],"<="&'Formula Bar'!$C$2))} -> 0.5 | I8: {=SUM(COUNTIFS(tblLocData[TYPE],{"Type 1","Type 2","Type 3","Type 4","Type 6"},tblLocData[LOCATION],'Formula Bar'!I$6,tblLocData[PRIORITY],"Medium",tblLocData[OPENED ON],">="&'Formula Bar'!$A$2,tblLocData[OPENED ON],"<="&'Formula Bar'!$C$2))/SUM(COUNTIFS(tblLocData[TYPE],{"Type 1","Type 2","Type 3","Type 4","Type 6"},tblLocData[LOCATION],'Formula Bar'!I$6,tblLocData[OPENED ON],">="&'Formula Bar'!$A$2,tblLocData[OPENED ON],"<="&'Formula Bar'!$C$2))} -> 0.25 | J8: {=SUM(COUNTIFS(tblLocData[TYPE],{"Type 1","Type 2","Type 3","Type 4","Type 6"},tblLocData[PRIORITY],"Medium",tblLocData[OPENED ON],">="&'Formula Bar'!$A$2,tblLocData[OPENED ON],"<="&'Formula Bar'!$C$2))/SUM(COUNTIFS(tblLocData[TYPE],{"Type 1","Type 2","Type 3","Type 4","Type 6"},tblLocData[OPENED ON],">="&'Formula Bar'!$A$2,tblLocData[OPENED ON],"<="&'Formula Bar'!$C$2))} -> 0.42857143
A9: High Priority | D9: {=SUM(COUNTIFS(tblLocData[TYPE],{"Type 1","Type 2","Type 3","Type 4","Type 6"},tblLocData[LOCATION],'Formula Bar'!D$6,tblLocData[PRIORITY],"High",tblLocData[OPENED ON],">="&'Formula Bar'!$A$2,tblLocData[OPENED ON],"<="&'Formula Bar'!$C$2))/SUM(COUNTIFS(tblLocData[TYPE],{"Type 1","Type 2","Type 3","Type 4","Type 6"},tblLocData[LOCATION],'Formula Bar'!D$6,tblLocData[OPENED ON],">="&'Formula Bar'!$A$2,tblLocData[OPENED ON],"<="&'Formula Bar'!$C$2))} -> 0.28571429 | E9: {=SUM(COUNTIFS(tblLocData[TYPE],{"Type 1","Type 2","Type 3","Type 4","Type 6"},tblLocData[LOCATION],'Formula Bar'!E$6,tblLocData[PRIORITY],"High",tblLocData[OPENED ON],">="&'Formula Bar'!$A$2,tblLocData[OPENED ON],"<="&'Formula Bar'!$C$2))/SUM(COUNTIFS(tblLocData[TYPE],{"Type 1","Type 2","Type 3","Type 4","Type 6"},tblLocData[LOCATION],'Formula Bar'!E$6,tblLocData[OPENED ON],">="&'Formula Bar'!$A$2,tblLocData[OPENED ON],"<="&'Formula Bar'!$C$2))} -> 0.33333333 | F9: {=SUM(COUNTIFS(tblLocData[TYPE],{"Type 1","Type 2","Type 3","Type 4","Type 6"},tblLocData[LOCATION],'Formula Bar'!F$6,tblLocData[PRIORITY],"High",tblLocData[OPENED ON],">="&'Formula Bar'!$A$2,tblLocData[OPENED ON],"<="&'Formula Bar'!$C$2))/SUM(COUNTIFS(tblLocData[TYPE],{"Type 1","Type 2","Type 3","Type 4","Type 6"},tblLocData[LOCATION],'Formula Bar'!F$6,tblLocData[OPENED ON],">="&'Formula Bar'!$A$2,tblLocData[OPENED ON],"<="&'Formula Bar'!$C$2))} -> 0 | G9: {=SUM(COUNTIFS(tblLocData[TYPE],{"Type 1","Type 2","Type 3","Type 4","Type 6"},tblLocData[LOCATION],'Formula Bar'!G$6,tblLocData[PRIORITY],"High",tblLocData[OPENED ON],">="&'Formula Bar'!$A$2,tblLocData[OPENED ON],"<="&'Formula Bar'!$C$2))/SUM(COUNTIFS(tblLocData[TYPE],{"Type 1","Type 2","Type 3","Type 4","Type 6"},tblLocData[LOCATION],'Formula Bar'!G$6,tblLocData[OPENED ON],">="&'Formula Bar'!$A$2,tblLocData[OPENED ON],"<="&'Formula Bar'!$C$2))} -> 0 | H9: {=SUM(COUNTIFS(tblLocData[TYPE],{"Type 1","Type 2","Type 3","Type 4","Type 6"},tblLocData[LOCATION],'Formula Bar'!H$6,tblLocData[PRIORITY],"High",tblLocData[OPENED ON],">="&'Formula Bar'!$A$2,tblLocData[OPENED ON],"<="&'Formula Bar'!$C$2))/SUM(COUNTIFS(tblLocData[TYPE],{"Type 1","Type 2","Type 3","Type 4","Type 6"},tblLocData[LOCATION],'Formula Bar'!H$6,tblLocData[OPENED ON],">="&'Formula Bar'!$A$2,tblLocData[OPENED ON],"<="&'Formula Bar'!$C$2))} -> 0 | I9: {=SUM(COUNTIFS(tblLocData[TYPE],{"Type 1","Type 2","Type 3","Type 4","Type 6"},tblLocData[LOCATION],'Formula Bar'!I$6,tblLocData[PRIORITY],"High",tblLocData[OPENED ON],">="&'Formula Bar'!$A$2,tblLocData[OPENED ON],"<="&'Formula Bar'!$C$2))/SUM(COUNTIFS(tblLocData[TYPE],{"Type 1","Type 2","Type 3","Type 4","Type 6"},tblLocData[LOCATION],'Formula Bar'!I$6,tblLocData[OPENED ON],">="&'Formula Bar'!$A$2,tblLocData[OPENED ON],"<="&'Formula Bar'!$C$2))} -> 0.25 | J9: {=SUM(COUNTIFS(tblLocData[TYPE],{"Type 1","Type 2","Type 3","Type 4","Type 6"},tblLocData[PRIORITY],"High",tblLocData[OPENED ON],">="&'Formula Bar'!$A$2,tblLocData[OPENED ON],"<="&'Formula Bar'!$C$2))/SUM(COUNTIFS(tblLocData[TYPE],{"Type 1","Type 2","Type 3","Type 4","Type 6"},tblLocData[OPENED ON],">="&'Formula Bar'!$A$2,tblLocData[OPENED ON],"<="&'Formula Bar'!$C$2))} -> 0.17857143
A11: Total Issues | D11: {=SUM(COUNTIFS(tblLocData[TYPE],{"Type 1","Type 2","Type 3","Type 4","Type 6"},tblLocData[LOCATION],'Formula Bar'!D$6,tblLocData[OPENED ON],">="&'Formula Bar'!$A$2,tblLocData[OPENED ON],"<="&'Formula Bar'!$C$2))} -> 7 | E11: {=SUM(COUNTIFS(tblLocData[TYPE],{"Type 1","Type 2","Type 3","Type 4","Type 6"},tblLocData[LOCATION],'Formula Bar'!E$6,tblLocData[OPENED ON],">="&'Formula Bar'!$A$2,tblLocData[OPENED ON],"<="&'Formula Bar'!$C$2))} -> 6 | F11: {=SUM(COUNTIFS(tblLocData[TYPE],{"Type 1","Type 2","Type 3","Type 4","Type 6"},tblLocData[LOCATION],'Formula Bar'!F$6,tblLocData[OPENED ON],">="&'Formula Bar'!$A$2,tblLocData[OPENED ON],"<="&'Formula Bar'!$C$2))} -> 3 | G11: {=SUM(COUNTIFS(tblLocData[TYPE],{"Type 1","Type 2","Type 3","Type 4","Type 6"},tblLocData[LOCATION],'Formula Bar'!G$6,tblLocData[OPENED ON],">="&'Formula Bar'!$A$2,tblLocData[OPENED ON],"<="&'Formula Bar'!$C$2))} -> 4 | H11: {=SUM(COUNTIFS(tblLocData[TYPE],{"Type 1","Type 2","Type 3","Type 4","Type 6"},tblLocData[LOCATION],'Formula Bar'!H$6,tblLocData[OPENED ON],">="&'Formula Bar'!$A$2,tblLocData[OPENED ON],"<="&'Formula Bar'!$C$2))} -> 4 | I11: {=SUM(COUNTIFS(tblLocData[TYPE],{"Type 1","Type 2","Type 3","Type 4","Type 6"},tblLocData[LOCATION],'Formula Bar'!I$6,tblLocData[OPENED ON],">="&'Formula Bar'!$A$2,tblLocData[OPENED ON],"<="&'Formula Bar'!$C$2))} -> 4 | J11: {=SUM(COUNTIFS(tblLocData[TYPE],{"Type 1","Type 2","Type 3","Type 4","Type 6"},tblLocData[OPENED ON],">="&'Formula Bar'!$A$2,tblLocData[OPENED ON],"<="&'Formula Bar'!$C$2))} -> 28
A12: % of Total Issues | D12: =D11/D14 -> 0.7 | E12: =E11/E14 -> 1 | F12: =F11/F14 -> 1 | G12: =G11/G14 -> 1 | H12: =H11/H14 -> 0.8 | I12: =I11/I14 -> 0.66666667 | J12: =J11/J14 -> 0.82352941
A14: All Issues | D14: =COUNTIFS(tblLocData[LOCATION],'Formula Bar'!D$6,tblLocData[OPENED ON],">="&'Formula Bar'!$A$2,tblLocData[OPENED ON],"<="&'Formula Bar'!$C$2) -> 10 | E14: =COUNTIFS(tblLocData[LOCATION],'Formula Bar'!E$6,tblLocData[OPENED ON],">="&'Formula Bar'!$A$2,tblLocData[OPENED ON],"<="&'Formula Bar'!$C$2) -> 6 | F14: =COUNTIFS(tblLocData[LOCATION],'Formula Bar'!F$6,tblLocData[OPENED ON],">="&'Formula Bar'!$A$2,tblLocData[OPENED ON],"<="&'Formula Bar'!$C$2) -> 3 | G14: =COUNTIFS(tblLocData[LOCATION],'Formula Bar'!G$6,tblLocData[OPENED ON],">="&'Formula Bar'!$A$2,tblLocData[OPENED ON],"<="&'Formula Bar'!$C$2) -> 4 | H14: =COUNTIFS(tblLocData[LOCATION],'Formula Bar'!H$6,tblLocData[OPENED ON],">="&'Formula Bar'!$A$2,tblLocData[OPENED ON],"<="&'Formula Bar'!$C$2) -> 5 | I14: =COUNTIFS(tblLocData[LOCATION],'Formula Bar'!I$6,tblLocData[OPENED ON],">="&'Formula Bar'!$A$2,tblLocData[OPENED ON],"<="&'Formula Bar'!$C$2) -> 6 | J14: =COUNTIFS(tblLocData[OPENED ON],">="&'Formula Bar'!$A$2,tblLocData[OPENED ON],"<="&'Formula Bar'!$C$2) -> 34

Sheet Autofit
A1: ID | B1: Date | C1: Email | D1: First Name | E1: Last Name | F1: State | G1: Product | H1: Price | I1: Size | J1: Qty
A2: 1 | B2: 43522 | C2: adows0@hexun.com | D2: Arlinda | E2: Dows | F2: New York | G2: Bamity | H2: 436 | I2: XL | J2: 3
A3: 2 | B3: 43583 | C3: admytryk1@bbb.org | D3: Amos | E3: Dmytryk | F3: California | G3: Opela | H3: 80 | I3: XL | J3: 10
A4: 3 | B4: 43517 | C4: ddumini2@privacy.gov.au | D4: Darin | E4: Dumini | F4: Delaware | G4: Bamity | H4: 331 | I4: 3XL | J4: 8
A5: 4 | B5: 43694 | C5: ablackley3@bizjournals.com | D5: Amabel | E5: Blackley | F5: Florida | G5: Solarbreeze | H5: 242 | I5: S | J5: 3
A6: 5 | B6: 43666 | C6: pstivers4@walmart.com | D6: Patton | E6: Stivers | F6: Virginia | G6: Aerified | H6: 358 | I6: 2XL | J6: 10
A7: 6 | B7: 43717 | C7: tgreenham5@w3.org | D7: Teddi | E7: Greenham | F7: Wisconsin | G7: Stringtough | H7: 39 | I7: L | J7: 1
A8: 7 | B8: 43750 | C8: mpershouse6@ycombinator.com | D8: Milo | E8: Pershouse | F8: Nebraska | G8: Keylex | H8: 218 | I8: 2XL | J8: 2
A9: 8 | B9: 43729 | C9: cbremner7@a8.net | D9: Cass | E9: Bremner | F9: Mississippi | G9: Opela | H9: 419 | I9: XL | J9: 1
A10: 9 | B10: 43495 | C10: ohadlee8@techcrunch.com | D10: Ossie | E10: Hadlee | F10: Pennsylvania | G10: Bytecard | H10: 84 | I10: L | J10: 1
A11: 10 | B11: 43483 | C11: sarthey9@time.com | D11: Susanetta | E11: Arthey | F11: Connecticut | G11: Subin | H11: 111 | I11: L | J11: 2
A12: 11 | B12: 43770 | C12: ebrandsmaa@ezinearticles.com | D12: Emalee | E12: Brandsma | F12: New Mexico | G12: Ventosanzap | H12: 262 | I12: L | J12: 9
A13: 12 | B13: 43573 | C13: afensomeb@va.gov | D13: Alaster | E13: Fensome | F13: Oregon | G13: Job | H13: 492 | I13: XL | J13: 3
... A2001: 2000 | B2001: 43636 | C2001: trostronrr@addtoany.com | D2001: Toby | E2001: Rostron | F2001: California | G2001: Temp | H2001: 491 | I2001: 3XL | J2001: 4

Sheet Selection Pane
A3: Region | B3: Sum of Revenue
A4: North | B4: 141660.34
A5: East | B5: 108275.51
A6: South | B6: 93848.33
A7: West | B7: 91251.98
A8: Grand Total | B8: 435036.16

Sheet Source
A1: Author: | B1: Jon Acampora
A2: Source: | B2: https://www.excelcampus.com/keyboard-shortcuts/advanced-excel-shortcuts/

Sheet New Data
A1: Trans ID | B1: Date | C1: Customer | D1: Region | E1: Product | F1: Revenue
A2: 10012965 | B2: 42972 | C2: Customer D | D2: North | E2: Product 3 | F2: 8680.11
A3: 10012735 | B3: 42974 | C3: Customer D | D3: East | E3: Product 1 | F3: 7767.33
A4: 10012768 | B4: 42976 | C4: Customer E | D4: East | E4: Product 2 | F4: 1283.95
A5: 10013631 | B5: 42977 | C5: Customer C | D5: East | F5: 880.12
A6: 10013513 | B6: 42978 | C6: Customer F | D6: West | E6: Product 9 | F6: 1378.46
A7: 10012927 | B7: 42980 | C7: Customer D | D7: South | E7: Product 3 | F7: 5829.53
A8: 10012721 | B8: 42981 | C8: Customer E | D8: North | E8: Product 1 | F8: 6486.7
A9: 10013397 | B9: 42981 | C9: Customer F | D9: South | E9: Product 8 | F9: 1030.82
A10: 10013497 | B10: 42981 | C10: Customer B | D10: East | E10: Product 8 | F10: 9709.52
A11: 10013243 | B11: 42983 | C11: Customer B | D11: West | E11: Product 6 | F11: 4810.46
A12: 10013355 | B12: 42990 | C12: Customer F | D12: West | E12: Product 7 | F12: 6175.09
A13: 10012823 | B13: 42992 | C13: Customer A | D13: West | E13: Product 2 | F13: 6433.56
A14: 10013429 | B14: 42994 | C14: Customer A | D14: South | E14: Product 8 | F14: 3557.66
A15: 10013298 | B15: 42996 | C15: Customer A | D15: East | E15: Product 7 | F15: 584.41
A16: 10013288 | B16: 43001 | C16: Customer A | D16: West | E16: Product 6 | F16: 9595.29
A17: 10012887 | B17: 43002 | C17: Customer D | D17: West | E17: Product 3 | F17: 2689.23
... A95: 10013198 | B95: 43134 | C95: Customer F | D95: South | E95: Product 6 | F95: 711.33
A96: 10013619 | B96: 43136 | C96: Customer C | D96: North | F96: 463.26
A97: 10013058 | B97: 43139 | C97: Customer C | D97: South | E97: Product 4 | F97: 7348.21
A98: 10013060 | B98: 43142 | C98: Customer F | D98: East | E98: Product 4 | F98: 7365.35
A99: 10012896 | B99: 43144 | C99: Customer C | D99: North | E99: Product 3 | F99: 3618.81
A100: 10013028 | B100: 43145 | C100: Customer E | D100: South | E100: Product 4 | F100: 3738.39
A101: 10012853 | B101: 43149 | C101: Customer C | D101: East | E101: Product 2 | F101: 9062.74
A102: 10012678 | B102: 43152 | C102: Customer E | D102: West | E102: Product 1 | F102: 3441.25
A103: 10012651 | B103: 43156 | C103: Customer C | D103: South | E103: Product 1 | F103: 117.36
A104: 10012912 | B104: 43157 | C104: Customer B | D104: South | E104: Product 3 | F104: 4501.46
A105: 10013282 | B105: 43157 | C105: Customer D | D105: North | E105: Product 6 | F105: 8896.97
A106: 10012751 | B106: 43158 | C106: Customer D | D106: East | E106: Product 1 | F106: 9806.28
A107: 10012819 | B107: 43161 | C107: Customer E | D107: South | E107: Product 2 | F107: 6133.79
A108: 10013383 | B108: 43161 | C108: Customer F | D108: South | E108: Product 7 | F108: 8846.42
... A155: 10013158 | B155: 43233 | C155: Customer B | D155: East | E155: Product 5 | F155: 5707.09
A156: 10013632 | B156: 43242 | C156: Customer D | D156: North | F156: 901.57
A157: 10012744 | B157: 43244 | C157: Customer F | D157: South | E157: Product 1 | F157: 9399.52
A158: 10012969 | B158: 43245 | C158: Customer C | D158: East | E158: Product 3 | F158: 9130.58
A159: 10012957 | B159: 43246 | C159: Customer A | D159: West | E159: Product 3 | F159: 8038.46
A160: 10013290 | B160: 43246 | C160: Customer D | D160: North | E160: Product 6 | F160: 9622.32
A161: 10013347 | B161: 43247 | C161: Customer B | D161: West | E161: Product 7 | F161: 5251.99
A162: 10012701 | B162: 43248 | C162: Customer E | D162: North | E162: Product 1 | F162: 5360.13
A163: 10012814 | B163: 43248 | C163: Customer C | D163: North | E163: Product 2 | F163: 5794.07
...

Sheet Loc Data
A1: # | B1: ISSUE | C1: TYPE | D1: LOCATION | E1: PRIORITY | F1: OPENED ON | G1: OPENED BY | H1: CLOSED ON | I1: CLOSED BY | J1: NOTES
A2: 1 | B2: Issue #1 | C2: Type 2 | D2: Bldg 6 | E2: Medium | F2: 43497 | G2: James | H2: 43500 | I2: James
A3: 2 | B3: Issue #2 | C3: Type 6 | D3: Bldg 3 | E3: Low | F3: 43497 | G3: Kim | H3: 43497 | I3: James
A4: 3 | B4: Issue #3 | C4: Type 5 | D4: Bldg 4 | E4: Low | F4: 43500 | G4: Lilly | H4: 43500 | I4: Lilly
A5: 4 | B5: Issue #4 | C5: Type 3 | D5: Bldg 1 | E5: Medium | F5: 43500 | G5: Lilly | H5: 43501 | I5: Lilly
A6: 5 | B6: Issue #5 | C6: Type 4 | D6: Bldg 6 | E6: Medium | F6: 43500 | G6: James | H6: 43500 | I6: Ted
A7: 6 | B7: Issue #6 | C7: Type 7 | D7: Bldg 5 | E7: Low | F7: 43504 | G7: Ted | H7: 43504 | I7: James
A8: 7 | B8: Issue #7 | C8: Type 5 | D8: Bldg 3 | E8: High | F8: 43504 | G8: Kim | H8: 43509 | I8: James
A9: 8 | B9: Issue #8 | C9: Type 4 | D9: Bldg 3 | E9: Medium | F9: 43504 | G9: Kim | H9: 43507 | I9: James
A10: 9 | B10: Issue #9 | C10: Type 1 | D10: Bldg 5 | E10: Medium | F10: 43504 | G10: Kim | H10: 43507 | I10: Kim
A11: 10 | B11: Issue #10 | C11: Type 6 | D11: Bldg 4 | E11: High | F11: 43508 | G11: Ted | H11: 43508 | I11: Lilly
A12: 11 | B12: Issue #11 | C12: Type 7 | D12: Bldg 6 | E12: Medium | F12: 43508 | G12: Kim | H12: 43509 | I12: Lilly
A13: 12 | B13: Issue #12 | C13: Type 7 | D13: Bldg 2 | E13: High | F13: 43511 | G13: Ted | H13: 43514 | I13: James
... A92: 91 | B92: Issue #91 | C92: Type 4 | D92: Bldg 6 | E92: High | F92: 43685 | G92: Kim | H92: 43687 | I92: Lilly

Sheet Data
A1: Order ID | B1: Order Date | C1: Customer ID | D1: Customer Name | E1: Address | F1: City | G1: State | H1: ZIP/Postal Code | I1: Country/Region | J1: Salesperson | K1: Region | L1: Shipped Date | M1: Shipper Name | N1: Ship Name | O1: Ship Address | P1: Ship City | Q1: Ship State | R1: Ship ZIP/Postal Code | S1: Ship Country/Region | T1: Payment Type | U1: Product Name | V1: Category | W1: Unit Price | X1: Quantity | Y1: Revenue | Z1: Shipping Fee
A2: 1001 | B2: 43127 | C2: 27 | D2: Company AA | E2: 789 27th Street | F2: Las Vegas | G2: NV | H2: 99999 | I2: USA | J2: Mariya Sergienko | K2: West | L2: 43129 | M2: Shipping Company B | N2: Karen Toh | O2: 789 27th Street | P2: Las Vegas | Q2: NV | R2: 99999 | S2: USA | T2: Check | U2: Beer | V2: Beverages | W2: 14 | X2: 49 | Y2: 686 | Z2: 66.542
A3: 1002 | B3: 43127 | C3: 27 | D3: Company AA | E3: 789 27th Street | F3: Las Vegas | G3: NV | H3: 99999 | I3: USA | J3: Mariya Sergienko | K3: West | L3: 43129 | M3: Shipping Company B | N3: Karen Toh | O3: 789 27th Street | P3: Las Vegas | Q3: NV | R3: 99999 | S3: USA | T3: Check | U3: Dried Plums | V3: Dried Fruit & Nuts | W3: 3.5 | X3: 47 | Y3: 164.5 | Z3: 16.6145
A4: 1003 | B4: 43104 | C4: 4 | D4: Company D | E4: 123 4th Street | F4: New York | G4: NY | H4: 99999 | I4: USA | J4: Andrew Cencini | K4: East | L4: 43106 | M4: Shipping Company A | N4: Christina Lee | O4: 123 4th Street | P4: New York | Q4: NY | R4: 99999 | S4: USA | T4: Credit Card | U4: Dried Pears | V4: Dried Fruit & Nuts | W4: 30 | X4: 69 | Y4: 2070 | Z4: 198.72
A5: 1004 | B5: 43104 | C5: 4 | D5: Company D | E5: 123 4th Street | F5: New York | G5: NY | H5: 99999 | I5: USA | J5: Andrew Cencini | K5: East | L5: 43106 | M5: Shipping Company A | N5: Christina Lee | O5: 123 4th Street | P5: New York | Q5: NY | R5: 99999 | S5: USA | T5: Credit Card | U5: Dried Apples | V5: Dried Fruit & Nuts | W5: 53 | X5: 89 | Y5: 4717 | Z5: 448.115
A6: 1005 | B6: 43104 | C6: 4 | D6: Company D | E6: 123 4th Street | F6: New York | G6: NY | H6: 99999 | I6: USA | J6: Andrew Cencini | K6: East | L6: 43106 | M6: Shipping Company A | N6: Christina Lee | O6: 123 4th Street | P6: New York | Q6: NY | R6: 99999 | S6: USA | T6: Credit Card | U6: Dried Plums | V6: Dried Fruit & Nuts | W6: 3.5 | X6: 11 | Y6: 38.5 | Z6: 3.7345
A7: 1006 | B7: 43112 | C7: 12 | D7: Company L | E7: 123 12th Street | F7: Las Vegas | G7: NV | H7: 99999 | I7: USA | J7: Mariya Sergienko | K7: West | L7: 43114 | M7: Shipping Company B | N7: John Edwards | O7: 123 12th Street | P7: Las Vegas | Q7: NV | R7: 99999 | S7: USA | T7: Credit Card | U7: Chai | V7: Beverages | W7: 18 | X7: 81 | Y7: 1458 | Z7: 141.426
A8: 1007 | B8: 43112 | C8: 12 | D8: Company L | E8: 123 12th Street | F8: Las Vegas | G8: NV | H8: 99999 | I8: USA | J8: Mariya Sergienko | K8: West | L8: 43114 | M8: Shipping Company B | N8: John Edwards | O8: 123 12th Street | P8: Las Vegas | Q8: NV | R8: 99999 | S8: USA | T8: Credit Card | U8: Coffee | V8: Beverages | W8: 46 | X8: 44 | Y8: 2024 | Z8: 198.352
A9: 1008 | B9: 43108 | C9: 8 | D9: Company H | E9: 123 8th Street | F9: Portland | G9: OR | H9: 99999 | I9: USA | J9: Nancy Freehafer | K9: North | L9: 43110 | M9: Shipping Company C | N9: Elizabeth Andersen | O9: 123 8th Street | P9: Portland | Q9: OR | R9: 99999 | S9: USA | T9: Credit Card | U9: Chocolate Biscuits Mix | V9: Baked Goods & Mixes | W9: 9.2 | X9: 38 | Y9: 349.6 | Z9: 36.0088
A10: 1009 | B10: 43104 | C10: 4 | D10: Company D | E10: 123 4th Street | F10: New York | G10: NY | H10: 99999 | I10: USA | J10: Andrew Cencini | K10: East | L10: 43106 | M10: Shipping Company C | N10: Christina Lee | O10: 123 4th Street | P10: New York | Q10: NY | R10: 99999 | S10: USA | T10: Check | U10: Chocolate Biscuits Mix | V10: Baked Goods & Mixes | W10: 9.2 | X10: 88 | Y10: 809.6 | Z10: 79.3408
A11: 1010 | B11: 43129 | C11: 29 | D11: Company CC | E11: 789 29th Street | F11: Denver | G11: CO | H11: 99999 | I11: USA | J11: Jan Kotas | K11: West | L11: 43131 | M11: Shipping Company B | N11: Soo Jung Lee | O11: 789 29th Street | P11: Denver | Q11: CO | R11: 99999 | S11: USA | T11: Check | U11: Chocolate | V11: Candy | W11: 12.75 | X11: 94 | Y11: 1198.5 | Z11: 122.247
A12: 1011 | B12: 43103 | C12: 3 | D12: Company C | E12: 123 3rd Street | F12: Los Angelas | G12: CA | H12: 99999 | I12: USA | J12: Mariya Sergienko | K12: West | L12: 43105 | M12: Shipping Company B | N12: Thomas Axerr | O12: 123 3rd Street | P12: Los Angelas | Q12: CA | R12: 99999 | S12: USA | T12: Cash | U12: Clam Chowder | V12: Soups | W12: 9.65 | X12: 91 | Y12: 878.15 | Z12: 92.20575
A13: 1012 | B13: 43106 | C13: 6 | D13: Company F | E13: 123 6th Street | F13: Milwaukee | G13: WI | H13: 99999 | I13: USA | J13: Michael Neipper | K13: North | L13: 43108 | M13: Shipping Company B | N13: Francisco Pérez-Olaeta | O13: 123 6th Street | P13: Milwaukee | Q13: WI | R13: 99999 | S13: USA | T13: Credit Card | U13: Curry Sauce | V13: Sauces | W13: 40 | X13: 32 | Y13: 1280 | Z13: 133.12
... A16: 1015 | B16: 43110 | C16: 10 | D16: Company J | E16: 123 10th Street | F16: Chicago | G16: IL | H16: 99999 | I16: USA | J16: Laura Giussani | K16: East | L16: 43112 | M16: Shipping Company B | N16: Roland Wacker | O16: 123 10th Street | P16: Chicago | Q16: IL | R16: 99999 | S16: USA | T16: Credit Card | U16: Green Tea | V16: Beverages | W16: 2.99 | X16: 90 | Y16: 269.1 | Z16: 27.7173
A17: 1016 | B17: 43107 | C17: 7 | D17: Company G | E17: 123 7th Street | F17: Boise | G17: ID | H17: 99999 | I17: USA | J17: Nancy Freehafer | K17: North | N17: Ming-Yang Xie | O17: 123 7th Street | P17: Boise | Q17: ID | R17: 99999 | S17: USA | U17: Coffee | V17: Beverages | W17: 46 | X17: 24 | Y17: 1104 | Z17: 110.4
A18: 1017 | B18: 43110 | C18: 10 | D18: Company J | E18: 123 10th Street | F18: Chicago | G18: IL | H18: 99999 | I18: USA | J18: Laura Giussani | K18: East | L18: 43112 | M18: Shipping Company A | N18: Roland Wacker | O18: 123 10th Street | P18: Chicago | Q18: IL | R18: 99999 | S18: USA | U18: Boysenberry Spread | V18: Jams, Preserves | W18: 25 | X18: 34 | Y18: 850 | Z18: 80.75
A19: 1018 | B19: 43110 | C19: 10 | D19: Company J | E19: 123 10th Street | F19: Chicago | G19: IL | H19: 99999 | I19: USA | J19: Laura Giussani | K19: East | L19: 43112 | M19: Shipping Company A | N19: Roland Wacker | O19: 123 10th Street | P19: Chicago | Q19: IL | R19: 99999 | S19: USA | U19: Cajun Seasoning | V19: Condiments | W19: 22 | X19: 17 | Y19: 374 | Z19: 35.904
A20: 1019 | B20: 43110 | C20: 10 | D20: Company J | E20: 123 10th Street | F20: Chicago | G20: IL | H20: 99999 | I20: USA | J20: Laura Giussani | K20: East | L20: 43112 | M20: Shipping Company A | N20: Roland Wacker | O20: 123 10th Street | P20: Chicago | Q20: IL | R20: 99999 | S20: USA | U20: Chocolate Biscuits Mix | V20: Baked Goods & Mixes | W20: 9.2 | X20: 44 | Y20: 404.8 | Z20: 42.0992
A21: 1020 | B21: 43111 | C21: 11 | D21: Company K | E21: 123 11th Street | F21: Miami | G21: FL | H21: 99999 | I21: USA | J21: Anne Larsen | K21: South | M21: Shipping Company C | N21: Peter Krschne | O21: 123 11th Street | P21: Miami | Q21: FL | R21: 99999 | S21: USA | U21: Dried Plums | V21: Dried Fruit & Nuts | W21: 3.5 | X21: 81 | Y21: 283.5 | Z21: 27.4995
A22: 1021 | B22: 43111 | C22: 11 | D22: Company K | E22: 123 11th Street | F22: Miami | G22: FL | H22: 99999 | I22: USA | J22: Anne Larsen | K22: South | M22: Shipping Company C | N22: Peter Krschne | O22: 123 11th Street | P22: Miami | Q22: FL | R22: 99999 | S22: USA | U22: Green Tea | V22: Beverages | W22: 2.99 | X22: 49 | Y22: 146.51 | Z22: 15.09053
A23: 1022 | B23: 43101 | C23: 1 | D23: Company A | E23: 123 1st Street | F23: Seattle | G23: WA | H23: 99999 | I23: USA | J23: Nancy Freehafer | K23: North | N23: Anna Bedecs | O23: 123 1st Street | P23: Seattle | Q23: WA | R23: 99999 | S23: USA | U23: Chai | V23: Beverages | W23: 18 | X23: 42 | Y23: 756 | Z23: 75.6
A24: 1023 | B24: 43101 | C24: 1 | D24: Company A | E24: 123 1st Street | F24: Seattle | G24: WA | H24: 99999 | I24: USA | J24: Nancy Freehafer | K24: North | N24: Anna Bedecs | O24: 123 1st Street | P24: Seattle | Q24: WA | R24: 99999 | S24: USA | U24: Coffee | V24: Beverages | W24: 46 | X24: 58 | Y24: 2668 | Z24: 269.468
A25: 1024 | B25: 43101 | C25: 1 | D25: Company A | E25: 123 1st Street | F25: Seattle | G25: WA | H25: 99999 | I25: USA | J25: Nancy Freehafer | K25: North | N25: Anna Bedecs | O25: 123 1st Street | P25: Seattle | Q25: WA | R25: 99999 | S25: USA | U25: Green Tea | V25: Beverages | W25: 2.99 | X25: 67 | Y25: 200.33 | Z25: 20.033
A26: 1025 | B26: 43128 | C26: 28 | D26: Company BB | E26: 789 28th Street | F26: Memphis | G26: TN | H26: 99999 | I26: USA | J26: Anne Larsen | K26: South | L26: 43130 | M26: Shipping Company C | N26: Amritansh Raghav | O26: 789 28th Street | P26: Memphis | Q26: TN | R26: 99999 | S26: USA | T26: Credit Card | U26: Clam Chowder | V26: Soups | W26: 9.65 | X26: 100 | Y26: 965 | Z26: 93.605
A27: 1026 | B27: 43128 | C27: 28 | D27: Company BB | E27: 789 28th Street | F27: Memphis | G27: TN | H27: 99999 | I27: USA | J27: Anne Larsen | K27: South | L27: 43130 | M27: Shipping Company C | N27: Amritansh Raghav | O27: 789 28th Street | P27: Memphis | Q27: TN | R27: 99999 | S27: USA | T27: Credit Card | U27: Crab Meat | V27: Canned Meat | W27: 18.4 | X27: 63 | Y27: 1159.2 | Z27: 114.7608
A28: 1027 | B28: 43109 | C28: 9 | D28: Company I | E28: 123 9th Street | F28: Salt Lake City | G28: UT | H28: 99999 | I28: USA | J28: Robert Zare | K28: West | L28: 43111 | M28: Shipping Company A | N28: Sven Mortensen | O28: 123 9th Street | P28: Salt Lake City | Q28: UT | R28: 99999 | S28: USA | T28: Check | U28: Ravioli | V28: Pasta | W28: 19.5 | X28: 57 | Y28: 1111.5 | Z28: 110.0385
A29: 1028 | B29: 43109 | C29: 9 | D29: Company I | E29: 123 9th Street | F29: Salt Lake City | G29: UT | H29: 99999 | I29: USA | J29: Robert Zare | K29: West | L29: 43111 | M29: Shipping Company A | N29: Sven Mortensen | O29: 123 9th Street | P29: Salt Lake City | Q29: UT | R29: 99999 | S29: USA | T29: Check | U29: Mozzarella | V29: Dairy Products | W29: 34.8 | X29: 81 | Y29: 2818.8 | Z29: 295.974
A30: 1029 | B30: 43106 | C30: 6 | D30: Company F | E30: 123 6th Street | F30: Milwaukee | G30: WI | H30: 99999 | I30: USA | J30: Michael Neipper | K30: North | L30: 43108 | M30: Shipping Company B | N30: Francisco Pérez-Olaeta | O30: 123 6th Street | P30: Milwaukee | Q30: WI | R30: 99999 | S30: USA | T30: Credit Card | U30: Beer | V30: Beverages | W30: 14 | X30: 71 | Y30: 994 | Z30: 95.424
A31: 1030 | B31: 43139 | C31: 8 | D31: Company H | E31: 123 8th Street | F31: Portland | G31: OR | H31: 99999 | I31: USA | J31: Nancy Freehafer | K31: North | L31: 43141 | M31: Shipping Company B | N31: Elizabeth Andersen | O31: 123 8th Street | P31: Portland | Q31: OR | R31: 99999 | S31: USA | T31: Check | U31: Curry Sauce | V31: Sauces | W31: 40 | X31: 32 | Y31: 1280 | Z31: 129.28
A32: 1031 | B32: 43134 | C32: 3 | D32: Company C | E32: 123 3rd Street | F32: Los Angelas | G32: CA | H32: 99999 | I32: USA | J32: Mariya Sergienko | K32: West | L32: 43136 | M32: Shipping Company B | N32: Thomas Axerr | O32: 123 3rd Street | P32: Los Angelas | Q32: CA | R32: 99999 | S32: USA | T32: Cash | U32: Syrup | V32: Condiments | W32: 10 | X32: 63 | Y32: 630 | Z32: 65.52
A33: 1032 | B33: 43134 | C33: 3 | D33: Company C | E33: 123 3rd Street | F33: Los Angelas | G33: CA | H33: 99999 | I33: USA | J33: Mariya Sergienko | K33: West | L33: 43136 | M33: Shipping Company B | N33: Thomas Axerr | O33: 123 3rd Street | P33: Los Angelas | Q33: CA | R33: 99999 | S33: USA | T33: Cash | U33: Curry Sauce | V33: Sauces | W33: 40 | X33: 30 | Y33: 1200 | Z33: 120
A34: 1033 | B34: 43137 | C34: 6 | D34: Company F | E34: 123 6th Street | F34: Milwaukee | G34: WI | H34: 99999 | I34: USA | J34: Michael Neipper | K34: North | L34: 43139 | M34: Shipping Company B | N34: Francisco Pérez-Olaeta | O34: 123 6th Street | P34: Milwaukee | Q34: WI | R34: 99999 | S34: USA | T34: Credit Card | Y34: 0 | Z34: 43
A35: 1034 | B35: 43159 | C35: 28 | D35: Company BB | E35: 789 28th Street | F35: Memphis | G35: TN | H35: 99999 | I35: USA | J35: Anne Larsen | K35: South | L35: 43161 | M35: Shipping Company C | N35: Amritansh Raghav | O35: 789 28th Street | P35: Memphis | Q35: TN | R35: 99999 | S35: USA | T35: Check | Y35: 0 | Z35: 31
A36: 1035 | B36: 43139 | C36: 8 | D36: Company H | E36: 123 8th Street | F36: Portland | G36: OR | H36: 99999 | I36: USA | J36: Nancy Freehafer | K36: North | L36: 43141 | M36: Shipping Company C | N36: Elizabeth Andersen | O36: 123 8th Street | P36: Portland | Q36: OR | R36: 99999 | S36: USA | T36: Check | Y36: 0 | Z36: 46
A37: 1036 | B37: 43141 | C37: 10 | D37: Company J | E37: 123 10th Street | F37: Chicago | G37: IL | H37: 99999 | I37: USA | J37: Laura Giussani | K37: East | L37: 43143 | M37: Shipping Company B | N37: Roland Wacker | O37: 123 10th Street | P37: Chicago | Q37: IL | R37: 99999 | S37: USA | T37: Credit Card | U37: Almonds | V37: Dried Fruit & Nuts | W37: 10 | X37: 47 | Y37: 470 | Z37: 48.88
A38: 1038 | B38: 43141 | C38: 10 | D38: Company J | E38: 123 10th Street | F38: Chicago | G38: IL | H38: 99999 | I38: USA | J38: Laura Giussani | K38: East | M38: Shipping Company A | N38: Roland Wacker | O38: 123 10th Street | P38: Chicago | Q38: IL | R38: 99999 | S38: USA | U38: Dried Plums | V38: Dried Fruit & Nuts | W38: 3.5 | X38: 49 | Y38: 171.5 | Z38: 16.464
