Workbook
Name Line_Up_Names: Roster!$D$16:$D$31
Name lineup_players: Lineup!$Q$3:$Q$20
Name Numbers: OFFSET(Roster!$A$16,0,0,COUNTA(#REF!),1)
Name valuevx: 42.314159

Sheet Roster
A1: Mighty Hawks Team Roster
B3: NAME | D3: POSITION | E3: PHONE | F3: EMAIL | J3: © 2012-2021 Vertex42 LLC
B4: Jack Coachguy | D4: Coach | E4: (000) 123-4567 | F4: username@somwhere.com | J4: Basketball Roster Template
B5: Sue Helper | D5: Assistant Coach | E5: (000) 123-4567 | F5: username@somwhere.com
B6: Blog | D6: Team Manager | E6: (000) 123-4567 | F6: username@somwhere.com
D7: Line Referee
D8: Referee
H9: (image from clipart)
B11: Team # | C11: Colors | D11: Practices | F11: Location | G11: League / Team Website
B12: 32106 | C12: Blue | D12: M, W, F | E12: 5:00 - 5:45 pm | F12: Someplace School | G12: URL of league or team website
A14: Player Roster
A15: # | B15: FIRST Name | C15: LAST Name | D15: LINE UP Name | E15: PHONE | F15: EMAIL | G15: PARENTS GUARDIANS | H15: NOTES
A16: 1 | B16: Joe | C16: Cool | D16: Joe C | E16: (000) 123-4567 | F16: username@somwhere.com | G16: Guy and Gal Soccerparent | H16: Allergic to oranges
A17: 2 | B17: Amy | C17: Swift | D17: Amy S | E17: (000) 123-4567 (000) 765-4321 | F17: bob@doolittle.com amelia@flyinglessons.com | G17: Bob Doolittle Amelia Doolittle
A18: 3
A19: 4
A20: 5
A21: 6
A22: 7
A23: 8
A24: 9
A25: 10
A26: 11
A27: 12
A28: 13
A29: 14
... A31: 16
A33: Game Schedule
A34: # | B34: PLAYING | C34: DATE | D34: HOME / AWAY | E34: TIME (ARRIVE) | F34: LOCATION | G34: SNACK | H34: NOTES
B35: The Giants | C35: 40955 | D35: Home | E35: 9:00am (8:30) | F35: Somewhere Park | G35: Joe Cool

Sheet Lineup
A1: [Team Name] | D1: Home | E1: vs. | I1: Date: | P1: Master List
P2: # | Q2: Player | R2: Qtr 1 | S2: Qtr 2 | T2: Qtr 3 | U2: Qtr 4
F3: Qtr 1 | M3: Qtr 2 | P3: 1 | Q3: Player1 | R3: =IF(Q3="","",INDEX($G$5:$G$22,MATCH($Q3,$F$5:$F$22,0))) -> LG | S3: =IF(R3="","",INDEX($N$5:$N$22,MATCH($Q3,$M$5:$M$22,0))) -> Bench | T3: =IF(S3="","",INDEX($G$37:$G$54,MATCH($Q3,$F$37:$F$54,0))) -> LG | U3: =IF(T3="","",INDEX($N$37:$N$54,MATCH($Q3,$M$37:$M$54,0))) -> Bench
F4: Name | G4: Pos | M4: Name | N4: Pos | P4: 2 | Q4: Player2 | R4: =IF(Q4="","",INDEX($G$5:$G$22,MATCH($Q4,$F$5:$F$22,0))) -> RG | S4: =IF(R4="","",INDEX($N$5:$N$22,MATCH($Q4,$M$5:$M$22,0))) -> Bench | T4: =IF(S4="","",INDEX($G$37:$G$54,MATCH($Q4,$F$37:$F$54,0))) -> RG | U4: =IF(T4="","",INDEX($N$37:$N$54,MATCH($Q4,$M$37:$M$54,0))) -> Bench
F5: Player1 | G5: LG | M5: Player6 | N5: =G5 -> LG | P5: 3 | Q5: Player3 | R5: =IF(Q5="","",INDEX($G$5:$G$22,MATCH($Q5,$F$5:$F$22,0))) -> C | S5: =IF(R5="","",INDEX($N$5:$N$22,MATCH($Q5,$M$5:$M$22,0))) -> Bench | T5: =IF(S5="","",INDEX($G$37:$G$54,MATCH($Q5,$F$37:$F$54,0))) -> C | U5: =IF(T5="","",INDEX($N$37:$N$54,MATCH($Q5,$M$37:$M$54,0))) -> Bench
F6: Player2 | G6: RG | M6: Player7 | N6: =G6 -> RG | P6: 4 | Q6: Player4 | R6: =IF(Q6="","",INDEX($G$5:$G$22,MATCH($Q6,$F$5:$F$22,0))) -> LF | S6: =IF(R6="","",INDEX($N$5:$N$22,MATCH($Q6,$M$5:$M$22,0))) -> Bench | T6: =IF(S6="","",INDEX($G$37:$G$54,MATCH($Q6,$F$37:$F$54,0))) -> LF | U6: =IF(T6="","",INDEX($N$37:$N$54,MATCH($Q6,$M$37:$M$54,0))) -> Bench
F7: Player3 | G7: C | M7: Player8 | N7: =G7 -> C | P7: 5 | Q7: Player5 | R7: =IF(Q7="","",INDEX($G$5:$G$22,MATCH($Q7,$F$5:$F$22,0))) -> RF | S7: =IF(R7="","",INDEX($N$5:$N$22,MATCH($Q7,$M$5:$M$22,0))) -> Bench | T7: =IF(S7="","",INDEX($G$37:$G$54,MATCH($Q7,$F$37:$F$54,0))) -> RF | U7: =IF(T7="","",INDEX($N$37:$N$54,MATCH($Q7,$M$37:$M$54,0))) -> Bench
F8: Player4 | G8: LF | M8: Player9 | N8: =G8 -> LF | P8: 6 | Q8: Player6 | R8: =IF(Q8="","",INDEX($G$5:$G$22,MATCH($Q8,$F$5:$F$22,0))) -> Bench | S8: =IF(R8="","",INDEX($N$5:$N$22,MATCH($Q8,$M$5:$M$22,0))) -> LG | T8: =IF(S8="","",INDEX($G$37:$G$54,MATCH($Q8,$F$37:$F$54,0))) -> Bench | U8: =IF(T8="","",INDEX($N$37:$N$54,MATCH($Q8,$M$37:$M$54,0))) -> LG
F9: Player5 | G9: RF | M9: Player10 | N9: =G9 -> RF | P9: 7 | Q9: Player7 | R9: =IF(Q9="","",INDEX($G$5:$G$22,MATCH($Q9,$F$5:$F$22,0))) -> Bench | S9: =IF(R9="","",INDEX($N$5:$N$22,MATCH($Q9,$M$5:$M$22,0))) -> RG | T9: =IF(S9="","",INDEX($G$37:$G$54,MATCH($Q9,$F$37:$F$54,0))) -> Bench | U9: =IF(T9="","",INDEX($N$37:$N$54,MATCH($Q9,$M$37:$M$54,0))) -> RG
F10: Player6 | G10: Bench | M10: Player1 | N10: =G10 -> Bench | P10: 8 | Q10: Player8 | R10: =IF(Q10="","",INDEX($G$5:$G$22,MATCH($Q10,$F$5:$F$22,0))) -> Bench | S10: =IF(R10="","",INDEX($N$5:$N$22,MATCH($Q10,$M$5:$M$22,0))) -> C | T10: =IF(S10="","",INDEX($G$37:$G$54,MATCH($Q10,$F$37:$F$54,0))) -> Bench | U10: =IF(T10="","",INDEX($N$37:$N$54,MATCH($Q10,$M$37:$M$54,0))) -> C
F11: Player7 | G11: Bench | M11: Player2 | N11: =G11 -> Bench | P11: 9 | Q11: Player9 | R11: =IF(Q11="","",INDEX($G$5:$G$22,MATCH($Q11,$F$5:$F$22,0))) -> Bench | S11: =IF(R11="","",INDEX($N$5:$N$22,MATCH($Q11,$M$5:$M$22,0))) -> LF | T11: =IF(S11="","",INDEX($G$37:$G$54,MATCH($Q11,$F$37:$F$54,0))) -> Bench | U11: =IF(T11="","",INDEX($N$37:$N$54,MATCH($Q11,$M$37:$M$54,0))) -> LF
F12: Player8 | G12: Bench | M12: Player3 | N12: =G12 -> Bench | P12: 10 | Q12: Player10 | R12: =IF(Q12="","",INDEX($G$5:$G$22,MATCH($Q12,$F$5:$F$22,0))) -> Bench | S12: =IF(R12="","",INDEX($N$5:$N$22,MATCH($Q12,$M$5:$M$22,0))) -> RF | T12: =IF(S12="","",INDEX($G$37:$G$54,MATCH($Q12,$F$37:$F$54,0))) -> Bench | U12: =IF(T12="","",INDEX($N$37:$N$54,MATCH($Q12,$M$37:$M$54,0))) -> RF
F13: Player9 | G13: Bench | M13: Player4 | N13: =G13 -> Bench | P13: 11 | Q13: Player11 | R13: =IF(Q13="","",INDEX($G$5:$G$22,MATCH($Q13,$F$5:$F$22,0))) -> Absent | S13: =IF(R13="","",INDEX($N$5:$N$22,MATCH($Q13,$M$5:$M$22,0))) -> Absent | T13: =IF(S13="","",INDEX($G$37:$G$54,MATCH($Q13,$F$37:$F$54,0))) -> Absent | U13: =IF(T13="","",INDEX($N$37:$N$54,MATCH($Q13,$M$37:$M$54,0))) -> Absent
F14: Player10 | G14: Bench | M14: Player5 | N14: =G14 -> Bench | P14: 12 | Q14: Player12 | R14: =IF(Q14="","",INDEX($G$5:$G$22,MATCH($Q14,$F$5:$F$22,0))) -> Absent | S14: =IF(R14="","",INDEX($N$5:$N$22,MATCH($Q14,$M$5:$M$22,0))) -> Absent | T14: =IF(S14="","",INDEX($G$37:$G$54,MATCH($Q14,$F$37:$F$54,0))) -> Absent | U14: =IF(T14="","",INDEX($N$37:$N$54,MATCH($Q14,$M$37:$M$54,0))) -> Absent
F15: Player11 | G15: Absent | M15: Player11 | N15: =G15 -> Absent | R15: =IF(Q15="","",INDEX($G$5:$G$22,MATCH($Q15,$F$5:$F$22,0))) | S15: =IF(R15="","",INDEX($N$5:$N$22,MATCH($Q15,$M$5:$M$22,0))) | T15: =IF(S15="","",INDEX($G$37:$G$54,MATCH($Q15,$F$37:$F$54,0))) | U15: =IF(T15="","",INDEX($N$37:$N$54,MATCH($Q15,$M$37:$M$54,0)))
F16: Player12 | G16: Absent | M16: Player12 | N16: =G16 -> Absent | R16: =IF(Q16="","",INDEX($G$5:$G$22,MATCH($Q16,$F$5:$F$22,0))) | S16: =IF(R16="","",INDEX($N$5:$N$22,MATCH($Q16,$M$5:$M$22,0))) | T16: =IF(S16="","",INDEX($G$37:$G$54,MATCH($Q16,$F$37:$F$54,0))) | U16: =IF(T16="","",INDEX($N$37:$N$54,MATCH($Q16,$M$37:$M$54,0)))
R17: =IF(Q17="","",INDEX($G$5:$G$22,MATCH($Q17,$F$5:$F$22,0))) | S17: =IF(R17="","",INDEX($N$5:$N$22,MATCH($Q17,$M$5:$M$22,0))) | T17: =IF(S17="","",INDEX($G$37:$G$54,MATCH($Q17,$F$37:$F$54,0))) | U17: =IF(T17="","",INDEX($N$37:$N$54,MATCH($Q17,$M$37:$M$54,0)))
R18: =IF(Q18="","",INDEX($G$5:$G$22,MATCH($Q18,$F$5:$F$22,0))) | S18: =IF(R18="","",INDEX($N$5:$N$22,MATCH($Q18,$M$5:$M$22,0))) | T18: =IF(S18="","",INDEX($G$37:$G$54,MATCH($Q18,$F$37:$F$54,0))) | U18: =IF(T18="","",INDEX($N$37:$N$54,MATCH($Q18,$M$37:$M$54,0)))
R19: =IF(Q19="","",INDEX($G$5:$G$22,MATCH($Q19,$F$5:$F$22,0))) | S19: =IF(R19="","",INDEX($N$5:$N$22,MATCH($Q19,$M$5:$M$22,0))) | T19: =IF(S19="","",INDEX($G$37:$G$54,MATCH($Q19,$F$37:$F$54,0))) | U19: =IF(T19="","",INDEX($N$37:$N$54,MATCH($Q19,$M$37:$M$54,0)))
R20: =IF(Q20="","",INDEX($G$5:$G$22,MATCH($Q20,$F$5:$F$22,0))) | S20: =IF(R20="","",INDEX($N$5:$N$22,MATCH($Q20,$M$5:$M$22,0))) | T20: =IF(S20="","",INDEX($G$37:$G$54,MATCH($Q20,$F$37:$F$54,0))) | U20: =IF(T20="","",INDEX($N$37:$N$54,MATCH($Q20,$M$37:$M$54,0)))
F35: Qtr 3 | M35: Qtr 4
F36: Name | G36: Pos | M36: Name | N36: Pos
F37: Player1 | G37: =G5 -> LG | M37: Player6 | N37: =G5 -> LG
F38: Player2 | G38: =G6 -> RG | M38: Player7 | N38: =G6 -> RG
F39: Player3 | G39: =G7 -> C | M39: Player8 | N39: =G7 -> C
F40: Player4 | G40: =G8 -> LF | M40: Player9 | N40: =G8 -> LF
F41: Player5 | G41: =G9 -> RF | M41: Player10 | N41: =G9 -> RF
F42: Player6 | G42: =G10 -> Bench | M42: Player1 | N42: =G10 -> Bench
F43: Player7 | G43: =G11 -> Bench | M43: Player2 | N43: =G11 -> Bench
F44: Player8 | G44: =G12 -> Bench | M44: Player3 | N44: =G12 -> Bench
F45: Player9 | G45: =G13 -> Bench | M45: Player4 | N45: =G13 -> Bench
F46: Player10 | G46: =G14 -> Bench | M46: Player5 | N46: =G14 -> Bench
F47: Player11 | G47: =G15 -> Absent | M47: Player11 | N47: =G15 -> Absent
F48: Player12 | G48: =G16 -> Absent | M48: Player12 | N48: =G16 -> Absent

Sheet Playing Time
A1: Overall Playing Time
A2: This worksheet helps track overall playing time throughout the season, assuming no substitutions within a quarter.
A3: After each game, copy the Master List lineup table and use Paste Special > Values to fill in the game tables below.
A6: TOTAL QUARTERS PLAYED
B7: Player | D7: QTRs Played | E7: Bench | F7: Absent | H7: Positions
B8: =IF(ISBLANK(Roster!D16)," - ",Roster!D16) -> Joe C | D8: =IF($B8<>" - ",SUMIFS(H$28:H$502,$B$28:$B$502,$B8)," - ") -> 2 | E8: =IF($B8<>" - ",SUMIFS(I$28:I$502,$B$28:$B$502,$B8)," - ") -> 2 | F8: =IF($B8<>" - ",SUMIFS(J$28:J$502,$B$28:$B$502,$B8)," - ") -> 0 | H8: LG
B9: =IF(ISBLANK(Roster!D17)," - ",Roster!D17) -> Amy S | D9: =IF($B9<>" - ",SUMIFS(H$28:H$502,$B$28:$B$502,$B9)," - ") -> 2 | E9: =IF($B9<>" - ",SUMIFS(I$28:I$502,$B$28:$B$502,$B9)," - ") -> 2 | F9: =IF($B9<>" - ",SUMIFS(J$28:J$502,$B$28:$B$502,$B9)," - ") -> 0 | H9: RG
B10: =IF(ISBLANK(Roster!D18)," - ",Roster!D18) -> - | D10: =IF($B10<>" - ",SUMIFS(H$28:H$502,$B$28:$B$502,$B10)," - ") -> - | E10: =IF($B10<>" - ",SUMIFS(I$28:I$502,$B$28:$B$502,$B10)," - ") -> - | F10: =IF($B10<>" - ",SUMIFS(J$28:J$502,$B$28:$B$502,$B10)," - ") -> - | H10: C
B11: =IF(ISBLANK(Roster!D19)," - ",Roster!D19) -> - | D11: =IF($B11<>" - ",SUMIFS(H$28:H$502,$B$28:$B$502,$B11)," - ") -> - | E11: =IF($B11<>" - ",SUMIFS(I$28:I$502,$B$28:$B$502,$B11)," - ") -> - | F11: =IF($B11<>" - ",SUMIFS(J$28:J$502,$B$28:$B$502,$B11)," - ") -> - | H11: LF
B12: =IF(ISBLANK(Roster!D20)," - ",Roster!D20) -> - | D12: =IF($B12<>" - ",SUMIFS(H$28:H$502,$B$28:$B$502,$B12)," - ") -> - | E12: =IF($B12<>" - ",SUMIFS(I$28:I$502,$B$28:$B$502,$B12)," - ") -> - | F12: =IF($B12<>" - ",SUMIFS(J$28:J$502,$B$28:$B$502,$B12)," - ") -> - | H12: RF
B13: =IF(ISBLANK(Roster!D21)," - ",Roster!D21) -> - | D13: =IF($B13<>" - ",SUMIFS(H$28:H$502,$B$28:$B$502,$B13)," - ") -> - | E13: =IF($B13<>" - ",SUMIFS(I$28:I$502,$B$28:$B$502,$B13)," - ") -> - | F13: =IF($B13<>" - ",SUMIFS(J$28:J$502,$B$28:$B$502,$B13)," - ") -> -
B14: =IF(ISBLANK(Roster!D22)," - ",Roster!D22) -> - | D14: =IF($B14<>" - ",SUMIFS(H$28:H$502,$B$28:$B$502,$B14)," - ") -> - | E14: =IF($B14<>" - ",SUMIFS(I$28:I$502,$B$28:$B$502,$B14)," - ") -> - | F14: =IF($B14<>" - ",SUMIFS(J$28:J$502,$B$28:$B$502,$B14)," - ") -> -
B15: =IF(ISBLANK(Roster!D23)," - ",Roster!D23) -> - | D15: =IF($B15<>" - ",SUMIFS(H$28:H$502,$B$28:$B$502,$B15)," - ") -> - | E15: =IF($B15<>" - ",SUMIFS(I$28:I$502,$B$28:$B$502,$B15)," - ") -> - | F15: =IF($B15<>" - ",SUMIFS(J$28:J$502,$B$28:$B$502,$B15)," - ") -> -
B16: =IF(ISBLANK(Roster!D24)," - ",Roster!D24) -> - | D16: =IF($B16<>" - ",SUMIFS(H$28:H$502,$B$28:$B$502,$B16)," - ") -> - | E16: =IF($B16<>" - ",SUMIFS(I$28:I$502,$B$28:$B$502,$B16)," - ") -> - | F16: =IF($B16<>" - ",SUMIFS(J$28:J$502,$B$28:$B$502,$B16)," - ") -> -
B17: =IF(ISBLANK(Roster!D25)," - ",Roster!D25) -> - | D17: =IF($B17<>" - ",SUMIFS(H$28:H$502,$B$28:$B$502,$B17)," - ") -> - | E17: =IF($B17<>" - ",SUMIFS(I$28:I$502,$B$28:$B$502,$B17)," - ") -> - | F17: =IF($B17<>" - ",SUMIFS(J$28:J$502,$B$28:$B$502,$B17)," - ") -> -
B18: =IF(ISBLANK(Roster!D26)," - ",Roster!D26) -> - | D18: =IF($B18<>" - ",SUMIFS(H$28:H$502,$B$28:$B$502,$B18)," - ") -> - | E18: =IF($B18<>" - ",SUMIFS(I$28:I$502,$B$28:$B$502,$B18)," - ") -> - | F18: =IF($B18<>" - ",SUMIFS(J$28:J$502,$B$28:$B$502,$B18)," - ") -> -
B19: =IF(ISBLANK(Roster!D27)," - ",Roster!D27) -> - | D19: =IF($B19<>" - ",SUMIFS(H$28:H$502,$B$28:$B$502,$B19)," - ") -> - | E19: =IF($B19<>" - ",SUMIFS(I$28:I$502,$B$28:$B$502,$B19)," - ") -> - | F19: =IF($B19<>" - ",SUMIFS(J$28:J$502,$B$28:$B$502,$B19)," - ") -> -
B20: =IF(ISBLANK(Roster!D28)," - ",Roster!D28) -> - | D20: =IF($B20<>" - ",SUMIFS(H$28:H$502,$B$28:$B$502,$B20)," - ") -> - | E20: =IF($B20<>" - ",SUMIFS(I$28:I$502,$B$28:$B$502,$B20)," - ") -> - | F20: =IF($B20<>" - ",SUMIFS(J$28:J$502,$B$28:$B$502,$B20)," - ") -> -
B21: =IF(ISBLANK(Roster!D29)," - ",Roster!D29) -> - | D21: =IF($B21<>" - ",SUMIFS(H$28:H$502,$B$28:$B$502,$B21)," - ") -> - | E21: =IF($B21<>" - ",SUMIFS(I$28:I$502,$B$28:$B$502,$B21)," - ") -> - | F21: =IF($B21<>" - ",SUMIFS(J$28:J$502,$B$28:$B$502,$B21)," - ") -> -
B22: =IF(ISBLANK(Roster!D30)," - ",Roster!D30) -> - | D22: =IF($B22<>" - ",SUMIFS(H$28:H$502,$B$28:$B$502,$B22)," - ") -> - | E22: =IF($B22<>" - ",SUMIFS(I$28:I$502,$B$28:$B$502,$B22)," - ") -> - | F22: =IF($B22<>" - ",SUMIFS(J$28:J$502,$B$28:$B$502,$B22)," - ") -> -
B23: =IF(ISBLANK(Roster!D31)," - ",Roster!D31) -> - | D23: =IF($B23<>" - ",SUMIFS(H$28:H$502,$B$28:$B$502,$B23)," - ") -> - | E23: =IF($B23<>" - ",SUMIFS(I$28:I$502,$B$28:$B$502,$B23)," - ") -> - | F23: =IF($B23<>" - ",SUMIFS(J$28:J$502,$B$28:$B$502,$B23)," - ") -> -
B24: =IF(ISBLANK(Roster!D32)," - ",Roster!D32) -> - | D24: =IF($B24<>" - ",SUMIFS(H$28:H$502,$B$28:$B$502,$B24)," - ") -> - | E24: =IF($B24<>" - ",SUMIFS(I$28:I$502,$B$28:$B$502,$B24)," - ") -> - | F24: =IF($B24<>" - ",SUMIFS(J$28:J$502,$B$28:$B$502,$B24)," - ") -> -
B25: =IF(ISBLANK(Roster!D33)," - ",Roster!D33) -> - | D25: =IF($B25<>" - ",SUMIFS(H$28:H$502,$B$28:$B$502,$B25)," - ") -> - | E25: =IF($B25<>" - ",SUMIFS(I$28:I$502,$B$28:$B$502,$B25)," - ") -> - | F25: =IF($B25<>" - ",SUMIFS(J$28:J$502,$B$28:$B$502,$B25)," - ") -> -
A28: GAME 1 | B28: [Date]
B29: Player | C29: Qtr 1 | D29: Qtr 2 | E29: Qtr 3 | F29: Qtr 4 | H29: QTRs Played | I29: Bench | J29: Absent
B30: =$B$8 -> Joe C | C30: LG | D30: Bench | E30: LG | F30: Bench | H30: {=SUM(COUNTIF($C30:$F30,$H$8:$H$12))} -> 2 | I30: =SUM(COUNTIF($C30:$F30,"Bench")) -> 2 | J30: =SUM(COUNTIF($C30:$F30,"Absent")) -> 0
B31: =$B$9 -> Amy S | C31: RG | D31: Bench | E31: RG | F31: Bench | H31: {=SUM(COUNTIF($C31:$F31,$H$8:$H$12))} -> 2 | I31: =SUM(COUNTIF($C31:$F31,"Bench")) -> 2 | J31: =SUM(COUNTIF($C31:$F31,"Absent")) -> 0
B32: =$B$10 -> - | C32: C | D32: Bench | E32: C | F32: Bench | H32: {=SUM(COUNTIF($C32:$F32,$H$8:$H$12))} -> 2 | I32: =SUM(COUNTIF($C32:$F32,"Bench")) -> 2 | J32: =SUM(COUNTIF($C32:$F32,"Absent")) -> 0
B33: =B11 -> - | C33: LF | D33: Bench | E33: LF | F33: Bench | H33: {=SUM(COUNTIF($C33:$F33,$H$8:$H$12))} -> 2 | I33: =SUM(COUNTIF($C33:$F33,"Bench")) -> 2 | J33: =SUM(COUNTIF($C33:$F33,"Absent")) -> 0
B34: =$B$12 -> - | C34: RF | D34: Bench | E34: RF | F34: Bench | H34: {=SUM(COUNTIF($C34:$F34,$H$8:$H$12))} -> 2 | I34: =SUM(COUNTIF($C34:$F34,"Bench")) -> 2 | J34: =SUM(COUNTIF($C34:$F34,"Absent")) -> 0
B35: =$B$13 -> - | C35: Bench | D35: LG | E35: Bench | F35: LG | H35: {=SUM(COUNTIF($C35:$F35,$H$8:$H$12))} -> 2 | I35: =SUM(COUNTIF($C35:$F35,"Bench")) -> 2 | J35: =SUM(COUNTIF($C35:$F35,"Absent")) -> 0
B36: =$B$14 -> - | C36: Bench | D36: RG | E36: Bench | F36: RG | H36: {=SUM(COUNTIF($C36:$F36,$H$8:$H$12))} -> 2 | I36: =SUM(COUNTIF($C36:$F36,"Bench")) -> 2 | J36: =SUM(COUNTIF($C36:$F36,"Absent")) -> 0
B37: =$B$15 -> - | C37: Bench | D37: C | E37: Bench | F37: C | H37: {=SUM(COUNTIF($C37:$F37,$H$8:$H$12))} -> 2 | I37: =SUM(COUNTIF($C37:$F37,"Bench")) -> 2 | J37: =SUM(COUNTIF($C37:$F37,"Absent")) -> 0
B38: =$B$16 -> - | C38: Bench | D38: LF | E38: Bench | F38: LF | H38: {=SUM(COUNTIF($C38:$F38,$H$8:$H$12))} -> 2 | I38: =SUM(COUNTIF($C38:$F38,"Bench")) -> 2 | J38: =SUM(COUNTIF($C38:$F38,"Absent")) -> 0
B39: =$B$17 -> - | C39: Bench | D39: RF | E39: Bench | F39: RF | H39: {=SUM(COUNTIF($C39:$F39,$H$8:$H$12))} -> 2 | I39: =SUM(COUNTIF($C39:$F39,"Bench")) -> 2 | J39: =SUM(COUNTIF($C39:$F39,"Absent")) -> 0
B40: =$B$18 -> - | C40: Absent | D40: Absent | E40: Absent | F40: Absent | H40: {=SUM(COUNTIF($C40:$F40,$H$8:$H$12))} -> 0 | I40: =SUM(COUNTIF($C40:$F40,"Bench")) -> 0 | J40: =SUM(COUNTIF($C40:$F40,"Absent")) -> 4
B41: =$B$19 -> - | C41: Absent | D41: Absent | E41: Absent | F41: Absent | H41: {=SUM(COUNTIF($C41:$F41,$H$8:$H$12))} -> 0 | I41: =SUM(COUNTIF($C41:$F41,"Bench")) -> 0 | J41: =SUM(COUNTIF($C41:$F41,"Absent")) -> 4
B42: =$B$20 -> - | H42: {=SUM(COUNTIF($C42:$F42,$H$8:$H$12))} -> 0 | I42: =SUM(COUNTIF($C42:$F42,"Bench")) -> 0 | J42: =SUM(COUNTIF($C42:$F42,"Absent")) -> 0
B43: =$B$21 -> - | H43: {=SUM(COUNTIF($C43:$F43,$H$8:$H$12))} -> 0 | I43: =SUM(COUNTIF($C43:$F43,"Bench")) -> 0 | J43: =SUM(COUNTIF($C43:$F43,"Absent")) -> 0
B44: =$B$22 -> - | H44: {=SUM(COUNTIF($C44:$F44,$H$8:$H$12))} -> 0 | I44: =SUM(COUNTIF($C44:$F44,"Bench")) -> 0 | J44: =SUM(COUNTIF($C44:$F44,"Absent")) -> 0
B45: =$B$23 -> - | H45: {=SUM(COUNTIF($C45:$F45,$H$8:$H$12))} -> 0 | I45: =SUM(COUNTIF($C45:$F45,"Bench")) -> 0 | J45: =SUM(COUNTIF($C45:$F45,"Absent")) -> 0
B46: =$B$24 -> - | H46: {=SUM(COUNTIF($C46:$F46,$H$8:$H$12))} -> 0 | I46: =SUM(COUNTIF($C46:$F46,"Bench")) -> 0 | J46: =SUM(COUNTIF($C46:$F46,"Absent")) -> 0
B47: =$B$25 -> - | H47: {=SUM(COUNTIF($C47:$F47,$H$8:$H$12))} -> 0 | I47: =SUM(COUNTIF($C47:$F47,"Bench")) -> 0 | J47: =SUM(COUNTIF($C47:$F47,"Absent")) -> 0
A49: GAME 2 | B49: [Date]
B50: Player | C50: Qtr 1 | D50: Qtr 2 | E50: Qtr 3 | F50: Qtr 4 | H50: QTRs Played | I50: Bench | J50: Absent
B51: =$B$8 -> Joe C | H51: {=SUM(COUNTIF($C51:$F51,$H$8:$H$12))} -> 0 | I51: =SUM(COUNTIF($C51:$F51,"Bench")) -> 0 | J51: =SUM(COUNTIF($C51:$F51,"Absent")) -> 0
B52: =$B$9 -> Amy S | H52: {=SUM(COUNTIF($C52:$F52,$H$8:$H$12))} -> 0 | I52: =SUM(COUNTIF($C52:$F52,"Bench")) -> 0 | J52: =SUM(COUNTIF($C52:$F52,"Absent")) -> 0
B53: =$B$10 -> - | H53: {=SUM(COUNTIF($C53:$F53,$H$8:$H$12))} -> 0 | I53: =SUM(COUNTIF($C53:$F53,"Bench")) -> 0 | J53: =SUM(COUNTIF($C53:$F53,"Absent")) -> 0
B54: =B32 -> - | H54: {=SUM(COUNTIF($C54:$F54,$H$8:$H$12))} -> 0 | I54: =SUM(COUNTIF($C54:$F54,"Bench")) -> 0 | J54: =SUM(COUNTIF($C54:$F54,"Absent")) -> 0
B55: =$B$12 -> - | H55: {=SUM(COUNTIF($C55:$F55,$H$8:$H$12))} -> 0 | I55: =SUM(COUNTIF($C55:$F55,"Bench")) -> 0 | J55: =SUM(COUNTIF($C55:$F55,"Absent")) -> 0
B56: =$B$13 -> - | H56: {=SUM(COUNTIF($C56:$F56,$H$8:$H$12))} -> 0 | I56: =SUM(COUNTIF($C56:$F56,"Bench")) -> 0 | J56: =SUM(COUNTIF($C56:$F56,"Absent")) -> 0
B57: =$B$14 -> - | H57: {=SUM(COUNTIF($C57:$F57,$H$8:$H$12))} -> 0 | I57: =SUM(COUNTIF($C57:$F57,"Bench")) -> 0 | J57: =SUM(COUNTIF($C57:$F57,"Absent")) -> 0
B58: =$B$15 -> - | H58: {=SUM(COUNTIF($C58:$F58,$H$8:$H$12))} -> 0 | I58: =SUM(COUNTIF($C58:$F58,"Bench")) -> 0 | J58: =SUM(COUNTIF($C58:$F58,"Absent")) -> 0
B59: =$B$16 -> - | H59: {=SUM(COUNTIF($C59:$F59,$H$8:$H$12))} -> 0 | I59: =SUM(COUNTIF($C59:$F59,"Bench")) -> 0 | J59: =SUM(COUNTIF($C59:$F59,"Absent")) -> 0
B60: =$B$17 -> - | H60: {=SUM(COUNTIF($C60:$F60,$H$8:$H$12))} -> 0 | I60: =SUM(COUNTIF($C60:$F60,"Bench")) -> 0 | J60: =SUM(COUNTIF($C60:$F60,"Absent")) -> 0
B61: =$B$18 -> - | H61: {=SUM(COUNTIF($C61:$F61,$H$8:$H$12))} -> 0 | I61: =SUM(COUNTIF($C61:$F61,"Bench")) -> 0 | J61: =SUM(COUNTIF($C61:$F61,"Absent")) -> 0
B62: =$B$19 -> - | H62: {=SUM(COUNTIF($C62:$F62,$H$8:$H$12))} -> 0 | I62: =SUM(COUNTIF($C62:$F62,"Bench")) -> 0 | J62: =SUM(COUNTIF($C62:$F62,"Absent")) -> 0
B63: =$B$20 -> - | H63: {=SUM(COUNTIF($C63:$F63,$H$8:$H$12))} -> 0 | I63: =SUM(COUNTIF($C63:$F63,"Bench")) -> 0 | J63: =SUM(COUNTIF($C63:$F63,"Absent")) -> 0
B64: =$B$21 -> - | H64: {=SUM(COUNTIF($C64:$F64,$H$8:$H$12))} -> 0 | I64: =SUM(COUNTIF($C64:$F64,"Bench")) -> 0 | J64: =SUM(COUNTIF($C64:$F64,"Absent")) -> 0
B65: =$B$22 -> - | H65: {=SUM(COUNTIF($C65:$F65,$H$8:$H$12))} -> 0 | I65: =SUM(COUNTIF($C65:$F65,"Bench")) -> 0 | J65: =SUM(COUNTIF($C65:$F65,"Absent")) -> 0
B66: =$B$23 -> - | H66: {=SUM(COUNTIF($C66:$F66,$H$8:$H$12))} -> 0 | I66: =SUM(COUNTIF($C66:$F66,"Bench")) -> 0 | J66: =SUM(COUNTIF($C66:$F66,"Absent")) -> 0
B67: =$B$24 -> - | H67: {=SUM(COUNTIF($C67:$F67,$H$8:$H$12))} -> 0 | I67: =SUM(COUNTIF($C67:$F67,"Bench")) -> 0 | J67: =SUM(COUNTIF($C67:$F67,"Absent")) -> 0
B68: =$B$25 -> - | H68: {=SUM(COUNTIF($C68:$F68,$H$8:$H$12))} -> 0 | I68: =SUM(COUNTIF($C68:$F68,"Bench")) -> 0 | J68: =SUM(COUNTIF($C68:$F68,"Absent")) -> 0
A70: GAME 3 | B70: [Date]
B71: Player | C71: Qtr 1 | D71: Qtr 2 | E71: Qtr 3 | F71: Qtr 4 | H71: QTRs Played | I71: Bench | J71: Absent
B72: =$B$8 -> Joe C | H72: {=SUM(COUNTIF($C72:$F72,$H$8:$H$12))} -> 0 | I72: =SUM(COUNTIF($C72:$F72,"Bench")) -> 0 | J72: =SUM(COUNTIF($C72:$F72,"Absent")) -> 0
B73: =$B$9 -> Amy S | H73: {=SUM(COUNTIF($C73:$F73,$H$8:$H$12))} -> 0 | I73: =SUM(COUNTIF($C73:$F73,"Bench")) -> 0 | J73: =SUM(COUNTIF($C73:$F73,"Absent")) -> 0
B74: =$B$10 -> - | H74: {=SUM(COUNTIF($C74:$F74,$H$8:$H$12))} -> 0 | I74: =SUM(COUNTIF($C74:$F74,"Bench")) -> 0 | J74: =SUM(COUNTIF($C74:$F74,"Absent")) -> 0
B75: =B53 -> - | H75: {=SUM(COUNTIF($C75:$F75,$H$8:$H$12))} -> 0 | I75: =SUM(COUNTIF($C75:$F75,"Bench")) -> 0 | J75: =SUM(COUNTIF($C75:$F75,"Absent")) -> 0
B76: =$B$12 -> - | H76: {=SUM(COUNTIF($C76:$F76,$H$8:$H$12))} -> 0 | I76: =SUM(COUNTIF($C76:$F76,"Bench")) -> 0 | J76: =SUM(COUNTIF($C76:$F76,"Absent")) -> 0
B77: =$B$13 -> - | H77: {=SUM(COUNTIF($C77:$F77,$H$8:$H$12))} -> 0 | I77: =SUM(COUNTIF($C77:$F77,"Bench")) -> 0 | J77: =SUM(COUNTIF($C77:$F77,"Absent")) -> 0
B78: =$B$14 -> - | H78: {=SUM(COUNTIF($C78:$F78,$H$8:$H$12))} -> 0 | I78: =SUM(COUNTIF($C78:$F78,"Bench")) -> 0 | J78: =SUM(COUNTIF($C78:$F78,"Absent")) -> 0
B79: =$B$15 -> - | H79: {=SUM(COUNTIF($C79:$F79,$H$8:$H$12))} -> 0 | I79: =SUM(COUNTIF($C79:$F79,"Bench")) -> 0 | J79: =SUM(COUNTIF($C79:$F79,"Absent")) -> 0
B80: =$B$16 -> - | H80: {=SUM(COUNTIF($C80:$F80,$H$8:$H$12))} -> 0 | I80: =SUM(COUNTIF($C80:$F80,"Bench")) -> 0 | J80: =SUM(COUNTIF($C80:$F80,"Absent")) -> 0
B81: =$B$17 -> - | H81: {=SUM(COUNTIF($C81:$F81,$H$8:$H$12))} -> 0 | I81: =SUM(COUNTIF($C81:$F81,"Bench")) -> 0 | J81: =SUM(COUNTIF($C81:$F81,"Absent")) -> 0
B82: =$B$18 -> - | H82: {=SUM(COUNTIF($C82:$F82,$H$8:$H$12))} -> 0 | I82: =SUM(COUNTIF($C82:$F82,"Bench")) -> 0 | J82: =SUM(COUNTIF($C82:$F82,"Absent")) -> 0
B83: =$B$19 -> - | H83: {=SUM(COUNTIF($C83:$F83,$H$8:$H$12))} -> 0 | I83: =SUM(COUNTIF($C83:$F83,"Bench")) -> 0 | J83: =SUM(COUNTIF($C83:$F83,"Absent")) -> 0
B84: =$B$20 -> - | H84: {=SUM(COUNTIF($C84:$F84,$H$8:$H$12))} -> 0 | I84: =SUM(COUNTIF($C84:$F84,"Bench")) -> 0 | J84: =SUM(COUNTIF($C84:$F84,"Absent")) -> 0
B85: =$B$21 -> - | H85: {=SUM(COUNTIF($C85:$F85,$H$8:$H$12))} -> 0 | I85: =SUM(COUNTIF($C85:$F85,"Bench")) -> 0 | J85: =SUM(COUNTIF($C85:$F85,"Absent")) -> 0
B86: =$B$22 -> - | H86: {=SUM(COUNTIF($C86:$F86,$H$8:$H$12))} -> 0 | I86: =SUM(COUNTIF($C86:$F86,"Bench")) -> 0 | J86: =SUM(COUNTIF($C86:$F86,"Absent")) -> 0
B87: =$B$23 -> - | H87: {=SUM(COUNTIF($C87:$F87,$H$8:$H$12))} -> 0 | I87: =SUM(COUNTIF($C87:$F87,"Bench")) -> 0 | J87: =SUM(COUNTIF($C87:$F87,"Absent")) -> 0
B88: =$B$24 -> - | H88: {=SUM(COUNTIF($C88:$F88,$H$8:$H$12))} -> 0 | I88: =SUM(COUNTIF($C88:$F88,"Bench")) -> 0 | J88: =SUM(COUNTIF($C88:$F88,"Absent")) -> 0
B89: =$B$25 -> - | H89: {=SUM(COUNTIF($C89:$F89,$H$8:$H$12))} -> 0 | I89: =SUM(COUNTIF($C89:$F89,"Bench")) -> 0 | J89: =SUM(COUNTIF($C89:$F89,"Absent")) -> 0
A91: GAME 3 | B91: [Date]
B92: Player | C92: Qtr 1 | D92: Qtr 2 | E92: Qtr 3 | F92: Qtr 4 | H92: QTRs Played | I92: Bench | J92: Absent
B93: =$B$8 -> Joe C | H93: {=SUM(COUNTIF($C93:$F93,$H$8:$H$12))} -> 0 | I93: =SUM(COUNTIF($C93:$F93,"Bench")) -> 0 | J93: =SUM(COUNTIF($C93:$F93,"Absent")) -> 0
B94: =$B$9 -> Amy S | H94: {=SUM(COUNTIF($C94:$F94,$H$8:$H$12))} -> 0 | I94: =SUM(COUNTIF($C94:$F94,"Bench")) -> 0 | J94: =SUM(COUNTIF($C94:$F94,"Absent")) -> 0
B95: =$B$10 -> - | H95: {=SUM(COUNTIF($C95:$F95,$H$8:$H$12))} -> 0 | I95: =SUM(COUNTIF($C95:$F95,"Bench")) -> 0 | J95: =SUM(COUNTIF($C95:$F95,"Absent")) -> 0
B96: =B74 -> - | H96: {=SUM(COUNTIF($C96:$F96,$H$8:$H$12))} -> 0 | I96: =SUM(COUNTIF($C96:$F96,"Bench")) -> 0 | J96: =SUM(COUNTIF($C96:$F96,"Absent")) -> 0
B97: =$B$12 -> - | H97: {=SUM(COUNTIF($C97:$F97,$H$8:$H$12))} -> 0 | I97: =SUM(COUNTIF($C97:$F97,"Bench")) -> 0 | J97: =SUM(COUNTIF($C97:$F97,"Absent")) -> 0
B98: =$B$13 -> - | H98: {=SUM(COUNTIF($C98:$F98,$H$8:$H$12))} -> 0 | I98: =SUM(COUNTIF($C98:$F98,"Bench")) -> 0 | J98: =SUM(COUNTIF($C98:$F98,"Absent")) -> 0
B99: =$B$14 -> - | H99: {=SUM(COUNTIF($C99:$F99,$H$8:$H$12))} -> 0 | I99: =SUM(COUNTIF($C99:$F99,"Bench")) -> 0 | J99: =SUM(COUNTIF($C99:$F99,"Absent")) -> 0
B100: =$B$15 -> - | H100: {=SUM(COUNTIF($C100:$F100,$H$8:$H$12))} -> 0 | I100: =SUM(COUNTIF($C100:$F100,"Bench")) -> 0 | J100: =SUM(COUNTIF($C100:$F100,"Absent")) -> 0
B101: =$B$16 -> - | H101: {=SUM(COUNTIF($C101:$F101,$H$8:$H$12))} -> 0 | I101: =SUM(COUNTIF($C101:$F101,"Bench")) -> 0 | J101: =SUM(COUNTIF($C101:$F101,"Absent")) -> 0
B102: =$B$17 -> - | H102: {=SUM(COUNTIF($C102:$F102,$H$8:$H$12))} -> 0 | I102: =SUM(COUNTIF($C102:$F102,"Bench")) -> 0 | J102: =SUM(COUNTIF($C102:$F102,"Absent")) -> 0
B103: =$B$18 -> - | H103: {=SUM(COUNTIF($C103:$F103,$H$8:$H$12))} -> 0 | I103: =SUM(COUNTIF($C103:$F103,"Bench")) -> 0 | J103: =SUM(COUNTIF($C103:$F103,"Absent")) -> 0
B104: =$B$19 -> - | H104: {=SUM(COUNTIF($C104:$F104,$H$8:$H$12))} -> 0 | I104: =SUM(COUNTIF($C104:$F104,"Bench")) -> 0 | J104: =SUM(COUNTIF($C104:$F104,"Absent")) -> 0
B105: =$B$20 -> - | H105: {=SUM(COUNTIF($C105:$F105,$H$8:$H$12))} -> 0 | I105: =SUM(COUNTIF($C105:$F105,"Bench")) -> 0 | J105: =SUM(COUNTIF($C105:$F105,"Absent")) -> 0
B106: =$B$21 -> - | H106: {=SUM(COUNTIF($C106:$F106,$H$8:$H$12))} -> 0 | I106: =SUM(COUNTIF($C106:$F106,"Bench")) -> 0 | J106: =SUM(COUNTIF($C106:$F106,"Absent")) -> 0
B107: =$B$22 -> - | H107: {=SUM(COUNTIF($C107:$F107,$H$8:$H$12))} -> 0 | I107: =SUM(COUNTIF($C107:$F107,"Bench")) -> 0 | J107: =SUM(COUNTIF($C107:$F107,"Absent")) -> 0
...

Sheet Stats Summary
C1: [Enter Team Name]
C2: Player Statistics
R6: [Date] | AC6: [Date] | AN6: [Date]
R7: =$C$1 -> [Enter Team Name] | AA7: [Pts] | AC7: =$C$1 -> [Enter Team Name] | AL7: [Pts] | AN7: =$C$1 -> [Enter Team Name] | AW7: [Pts]
R8: [Opponent] | AA8: [Pts] | AC8: [Opponent] | AL8: [Pts] | AN8: [Opponent] | AW8: [Pts]
C9: SEASON TOTALS
A10: # | B10: Player | C10: FGM | D10: FGA | E10: FG% | F10: 3PM | G10: 3PA | H10: 3P% | I10: FTM | J10: FTA | K10: FT% | L10: R | M10: A | N10: S | O10: B | P10: PTS | R10: =$C$10 -> FGM | S10: =$D$10 -> FGA | T10: =$F$10 -> 3PM | U10: =$G$10 -> 3PA | V10: =$I$10 -> FTM | W10: =$J$10 -> FTA | X10: =$L$10 -> R | Y10: =$M$10 -> A | Z10: =$N$10 -> S | AA10: =$O$10 -> B | AB10: =$P$10 -> PTS | AC10: =$C$10 -> FGM | AD10: =$D$10 -> FGA | AE10: =$F$10 -> 3PM | AF10: =$G$10 -> 3PA | AG10: =$I$10 -> FTM | AH10: =$J$10 -> FTA | AI10: =$L$10 -> R | AJ10: =$M$10 -> A | AK10: =$N$10 -> S | AL10: =$O$10 -> B | AM10: =$P$10 -> PTS | AN10: =$C$10 -> FGM | AO10: =$D$10 -> FGA | AP10: =$F$10 -> 3PM | AQ10: =$G$10 -> 3PA | AR10: =$I$10 -> FTM | AS10: =$J$10 -> FTA | AT10: =$L$10 -> R | AU10: =$M$10 -> A | AV10: =$N$10 -> S | AW10: =$O$10 -> B | AX10: =$P$10 -> PTS
C11: =SUMIF($Q$10:$AY$10,"="&C$10,$Q11:$AY11) -> 0 | D11: =SUMIF($Q$10:$AY$10,"="&D$10,$Q11:$AY11) -> 0 | E11: =IF(D11=0,"-%",C11/D11) -> -% | F11: =SUMIF($Q$10:$AY$10,"="&F$10,$Q11:$AY11) -> 0 | G11: =SUMIF($Q$10:$AY$10,"="&G$10,$Q11:$AY11) -> 0 | H11: =IF(G11=0,"-%",F11/G11) -> -% | I11: =SUMIF($Q$10:$AY$10,"="&I$10,$Q11:$AY11) -> 0 | J11: =SUMIF($Q$10:$AY$10,"="&J$10,$Q11:$AY11) -> 0 | K11: =IF(J11=0,"-%",I11/J11) -> -% | L11: =SUMIF($Q$10:$AY$10,"="&L$10,$Q11:$AY11) -> 0 | M11: =SUMIF($Q$10:$AY$10,"="&M$10,$Q11:$AY11) -> 0 | N11: =SUMIF($Q$10:$AY$10,"="&N$10,$Q11:$AY11) -> 0 | O11: =SUMIF($Q$10:$AY$10,"="&O$10,$Q11:$AY11) -> 0 | P11: =SUMIF($Q$10:$AY$10,"="&P$10,$Q11:$AY11) -> 0
C12: =SUMIF($Q$10:$AY$10,"="&C$10,$Q12:$AY12) -> 0 | D12: =SUMIF($Q$10:$AY$10,"="&D$10,$Q12:$AY12) -> 0 | E12: =IF(D12=0,"-%",C12/D12) -> -% | F12: =SUMIF($Q$10:$AY$10,"="&F$10,$Q12:$AY12) -> 0 | G12: =SUMIF($Q$10:$AY$10,"="&G$10,$Q12:$AY12) -> 0 | H12: =IF(G12=0,"-%",F12/G12) -> -% | I12: =SUMIF($Q$10:$AY$10,"="&I$10,$Q12:$AY12) -> 0 | J12: =SUMIF($Q$10:$AY$10,"="&J$10,$Q12:$AY12) -> 0 | K12: =IF(J12=0,"-%",I12/J12) -> -% | L12: =SUMIF($Q$10:$AY$10,"="&L$10,$Q12:$AY12) -> 0 | M12: =SUMIF($Q$10:$AY$10,"="&M$10,$Q12:$AY12) -> 0 | N12: =SUMIF($Q$10:$AY$10,"="&N$10,$Q12:$AY12) -> 0 | O12: =SUMIF($Q$10:$AY$10,"="&O$10,$Q12:$AY12) -> 0 | P12: =SUMIF($Q$10:$AY$10,"="&P$10,$Q12:$AY12) -> 0
C13: =SUMIF($Q$10:$AY$10,"="&C$10,$Q13:$AY13) -> 0 | D13: =SUMIF($Q$10:$AY$10,"="&D$10,$Q13:$AY13) -> 0 | E13: =IF(D13=0,"-%",C13/D13) -> -% | F13: =SUMIF($Q$10:$AY$10,"="&F$10,$Q13:$AY13) -> 0 | G13: =SUMIF($Q$10:$AY$10,"="&G$10,$Q13:$AY13) -> 0 | H13: =IF(G13=0,"-%",F13/G13) -> -% | I13: =SUMIF($Q$10:$AY$10,"="&I$10,$Q13:$AY13) -> 0 | J13: =SUMIF($Q$10:$AY$10,"="&J$10,$Q13:$AY13) -> 0 | K13: =IF(J13=0,"-%",I13/J13) -> -% | L13: =SUMIF($Q$10:$AY$10,"="&L$10,$Q13:$AY13) -> 0 | M13: =SUMIF($Q$10:$AY$10,"="&M$10,$Q13:$AY13) -> 0 | N13: =SUMIF($Q$10:$AY$10,"="&N$10,$Q13:$AY13) -> 0 | O13: =SUMIF($Q$10:$AY$10,"="&O$10,$Q13:$AY13) -> 0 | P13: =SUMIF($Q$10:$AY$10,"="&P$10,$Q13:$AY13) -> 0
C14: =SUMIF($Q$10:$AY$10,"="&C$10,$Q14:$AY14) -> 0 | D14: =SUMIF($Q$10:$AY$10,"="&D$10,$Q14:$AY14) -> 0 | E14: =IF(D14=0,"-%",C14/D14) -> -% | F14: =SUMIF($Q$10:$AY$10,"="&F$10,$Q14:$AY14) -> 0 | G14: =SUMIF($Q$10:$AY$10,"="&G$10,$Q14:$AY14) -> 0 | H14: =IF(G14=0,"-%",F14/G14) -> -% | I14: =SUMIF($Q$10:$AY$10,"="&I$10,$Q14:$AY14) -> 0 | J14: =SUMIF($Q$10:$AY$10,"="&J$10,$Q14:$AY14) -> 0 | K14: =IF(J14=0,"-%",I14/J14) -> -% | L14: =SUMIF($Q$10:$AY$10,"="&L$10,$Q14:$AY14) -> 0 | M14: =SUMIF($Q$10:$AY$10,"="&M$10,$Q14:$AY14) -> 0 | N14: =SUMIF($Q$10:$AY$10,"="&N$10,$Q14:$AY14) -> 0 | O14: =SUMIF($Q$10:$AY$10,"="&O$10,$Q14:$AY14) -> 0 | P14: =SUMIF($Q$10:$AY$10,"="&P$10,$Q14:$AY14) -> 0
C15: =SUMIF($Q$10:$AY$10,"="&C$10,$Q15:$AY15) -> 0 | D15: =SUMIF($Q$10:$AY$10,"="&D$10,$Q15:$AY15) -> 0 | E15: =IF(D15=0,"-%",C15/D15) -> -% | F15: =SUMIF($Q$10:$AY$10,"="&F$10,$Q15:$AY15) -> 0 | G15: =SUMIF($Q$10:$AY$10,"="&G$10,$Q15:$AY15) -> 0 | H15: =IF(G15=0,"-%",F15/G15) -> -% | I15: =SUMIF($Q$10:$AY$10,"="&I$10,$Q15:$AY15) -> 0 | J15: =SUMIF($Q$10:$AY$10,"="&J$10,$Q15:$AY15) -> 0 | K15: =IF(J15=0,"-%",I15/J15) -> -% | L15: =SUMIF($Q$10:$AY$10,"="&L$10,$Q15:$AY15) -> 0 | M15: =SUMIF($Q$10:$AY$10,"="&M$10,$Q15:$AY15) -> 0 | N15: =SUMIF($Q$10:$AY$10,"="&N$10,$Q15:$AY15) -> 0 | O15: =SUMIF($Q$10:$AY$10,"="&O$10,$Q15:$AY15) -> 0 | P15: =SUMIF($Q$10:$AY$10,"="&P$10,$Q15:$AY15) -> 0
C16: =SUMIF($Q$10:$AY$10,"="&C$10,$Q16:$AY16) -> 0 | D16: =SUMIF($Q$10:$AY$10,"="&D$10,$Q16:$AY16) -> 0 | E16: =IF(D16=0,"-%",C16/D16) -> -% | F16: =SUMIF($Q$10:$AY$10,"="&F$10,$Q16:$AY16) -> 0 | G16: =SUMIF($Q$10:$AY$10,"="&G$10,$Q16:$AY16) -> 0 | H16: =IF(G16=0,"-%",F16/G16) -> -% | I16: =SUMIF($Q$10:$AY$10,"="&I$10,$Q16:$AY16) -> 0 | J16: =SUMIF($Q$10:$AY$10,"="&J$10,$Q16:$AY16) -> 0 | K16: =IF(J16=0,"-%",I16/J16) -> -% | L16: =SUMIF($Q$10:$AY$10,"="&L$10,$Q16:$AY16) -> 0 | M16: =SUMIF($Q$10:$AY$10,"="&M$10,$Q16:$AY16) -> 0 | N16: =SUMIF($Q$10:$AY$10,"="&N$10,$Q16:$AY16) -> 0 | O16: =SUMIF($Q$10:$AY$10,"="&O$10,$Q16:$AY16) -> 0 | P16: =SUMIF($Q$10:$AY$10,"="&P$10,$Q16:$AY16) -> 0
C17: =SUMIF($Q$10:$AY$10,"="&C$10,$Q17:$AY17) -> 0 | D17: =SUMIF($Q$10:$AY$10,"="&D$10,$Q17:$AY17) -> 0 | E17: =IF(D17=0,"-%",C17/D17) -> -% | F17: =SUMIF($Q$10:$AY$10,"="&F$10,$Q17:$AY17) -> 0 | G17: =SUMIF($Q$10:$AY$10,"="&G$10,$Q17:$AY17) -> 0 | H17: =IF(G17=0,"-%",F17/G17) -> -% | I17: =SUMIF($Q$10:$AY$10,"="&I$10,$Q17:$AY17) -> 0 | J17: =SUMIF($Q$10:$AY$10,"="&J$10,$Q17:$AY17) -> 0 | K17: =IF(J17=0,"-%",I17/J17) -> -% | L17: =SUMIF($Q$10:$AY$10,"="&L$10,$Q17:$AY17) -> 0 | M17: =SUMIF($Q$10:$AY$10,"="&M$10,$Q17:$AY17) -> 0 | N17: =SUMIF($Q$10:$AY$10,"="&N$10,$Q17:$AY17) -> 0 | O17: =SUMIF($Q$10:$AY$10,"="&O$10,$Q17:$AY17) -> 0 | P17: =SUMIF($Q$10:$AY$10,"="&P$10,$Q17:$AY17) -> 0
C18: =SUMIF($Q$10:$AY$10,"="&C$10,$Q18:$AY18) -> 0 | D18: =SUMIF($Q$10:$AY$10,"="&D$10,$Q18:$AY18) -> 0 | E18: =IF(D18=0,"-%",C18/D18) -> -% | F18: =SUMIF($Q$10:$AY$10,"="&F$10,$Q18:$AY18) -> 0 | G18: =SUMIF($Q$10:$AY$10,"="&G$10,$Q18:$AY18) -> 0 | H18: =IF(G18=0,"-%",F18/G18) -> -% | I18: =SUMIF($Q$10:$AY$10,"="&I$10,$Q18:$AY18) -> 0 | J18: =SUMIF($Q$10:$AY$10,"="&J$10,$Q18:$AY18) -> 0 | K18: =IF(J18=0,"-%",I18/J18) -> -% | L18: =SUMIF($Q$10:$AY$10,"="&L$10,$Q18:$AY18) -> 0 | M18: =SUMIF($Q$10:$AY$10,"="&M$10,$Q18:$AY18) -> 0 | N18: =SUMIF($Q$10:$AY$10,"="&N$10,$Q18:$AY18) -> 0 | O18: =SUMIF($Q$10:$AY$10,"="&O$10,$Q18:$AY18) -> 0 | P18: =SUMIF($Q$10:$AY$10,"="&P$10,$Q18:$AY18) -> 0
C19: =SUMIF($Q$10:$AY$10,"="&C$10,$Q19:$AY19) -> 0 | D19: =SUMIF($Q$10:$AY$10,"="&D$10,$Q19:$AY19) -> 0 | E19: =IF(D19=0,"-%",C19/D19) -> -% | F19: =SUMIF($Q$10:$AY$10,"="&F$10,$Q19:$AY19) -> 0 | G19: =SUMIF($Q$10:$AY$10,"="&G$10,$Q19:$AY19) -> 0 | H19: =IF(G19=0,"-%",F19/G19) -> -% | I19: =SUMIF($Q$10:$AY$10,"="&I$10,$Q19:$AY19) -> 0 | J19: =SUMIF($Q$10:$AY$10,"="&J$10,$Q19:$AY19) -> 0 | K19: =IF(J19=0,"-%",I19/J19) -> -% | L19: =SUMIF($Q$10:$AY$10,"="&L$10,$Q19:$AY19) -> 0 | M19: =SUMIF($Q$10:$AY$10,"="&M$10,$Q19:$AY19) -> 0 | N19: =SUMIF($Q$10:$AY$10,"="&N$10,$Q19:$AY19) -> 0 | O19: =SUMIF($Q$10:$AY$10,"="&O$10,$Q19:$AY19) -> 0 | P19: =SUMIF($Q$10:$AY$10,"="&P$10,$Q19:$AY19) -> 0
C20: =SUMIF($Q$10:$AY$10,"="&C$10,$Q20:$AY20) -> 0 | D20: =SUMIF($Q$10:$AY$10,"="&D$10,$Q20:$AY20) -> 0 | E20: =IF(D20=0,"-%",C20/D20) -> -% | F20: =SUMIF($Q$10:$AY$10,"="&F$10,$Q20:$AY20) -> 0 | G20: =SUMIF($Q$10:$AY$10,"="&G$10,$Q20:$AY20) -> 0 | H20: =IF(G20=0,"-%",F20/G20) -> -% | I20: =SUMIF($Q$10:$AY$10,"="&I$10,$Q20:$AY20) -> 0 | J20: =SUMIF($Q$10:$AY$10,"="&J$10,$Q20:$AY20) -> 0 | K20: =IF(J20=0,"-%",I20/J20) -> -% | L20: =SUMIF($Q$10:$AY$10,"="&L$10,$Q20:$AY20) -> 0 | M20: =SUMIF($Q$10:$AY$10,"="&M$10,$Q20:$AY20) -> 0 | N20: =SUMIF($Q$10:$AY$10,"="&N$10,$Q20:$AY20) -> 0 | O20: =SUMIF($Q$10:$AY$10,"="&O$10,$Q20:$AY20) -> 0 | P20: =SUMIF($Q$10:$AY$10,"="&P$10,$Q20:$AY20) -> 0
C21: =SUMIF($Q$10:$AY$10,"="&C$10,$Q21:$AY21) -> 0 | D21: =SUMIF($Q$10:$AY$10,"="&D$10,$Q21:$AY21) -> 0 | E21: =IF(D21=0,"-%",C21/D21) -> -% | F21: =SUMIF($Q$10:$AY$10,"="&F$10,$Q21:$AY21) -> 0 | G21: =SUMIF($Q$10:$AY$10,"="&G$10,$Q21:$AY21) -> 0 | H21: =IF(G21=0,"-%",F21/G21) -> -% | I21: =SUMIF($Q$10:$AY$10,"="&I$10,$Q21:$AY21) -> 0 | J21: =SUMIF($Q$10:$AY$10,"="&J$10,$Q21:$AY21) -> 0 | K21: =IF(J21=0,"-%",I21/J21) -> -% | L21: =SUMIF($Q$10:$AY$10,"="&L$10,$Q21:$AY21) -> 0 | M21: =SUMIF($Q$10:$AY$10,"="&M$10,$Q21:$AY21) -> 0 | N21: =SUMIF($Q$10:$AY$10,"="&N$10,$Q21:$AY21) -> 0 | O21: =SUMIF($Q$10:$AY$10,"="&O$10,$Q21:$AY21) -> 0 | P21: =SUMIF($Q$10:$AY$10,"="&P$10,$Q21:$AY21) -> 0
C22: =SUMIF($Q$10:$AY$10,"="&C$10,$Q22:$AY22) -> 0 | D22: =SUMIF($Q$10:$AY$10,"="&D$10,$Q22:$AY22) -> 0 | E22: =IF(D22=0,"-%",C22/D22) -> -% | F22: =SUMIF($Q$10:$AY$10,"="&F$10,$Q22:$AY22) -> 0 | G22: =SUMIF($Q$10:$AY$10,"="&G$10,$Q22:$AY22) -> 0 | H22: =IF(G22=0,"-%",F22/G22) -> -% | I22: =SUMIF($Q$10:$AY$10,"="&I$10,$Q22:$AY22) -> 0 | J22: =SUMIF($Q$10:$AY$10,"="&J$10,$Q22:$AY22) -> 0 | K22: =IF(J22=0,"-%",I22/J22) -> -% | L22: =SUMIF($Q$10:$AY$10,"="&L$10,$Q22:$AY22) -> 0 | M22: =SUMIF($Q$10:$AY$10,"="&M$10,$Q22:$AY22) -> 0 | N22: =SUMIF($Q$10:$AY$10,"="&N$10,$Q22:$AY22) -> 0 | O22: =SUMIF($Q$10:$AY$10,"="&O$10,$Q22:$AY22) -> 0 | P22: =SUMIF($Q$10:$AY$10,"="&P$10,$Q22:$AY22) -> 0
... C28: =SUMIF($Q$10:$AY$10,"="&C$10,$Q28:$AY28) -> 0 | D28: =SUMIF($Q$10:$AY$10,"="&D$10,$Q28:$AY28) -> 0 | E28: =IF(D28=0,"-%",C28/D28) -> -% | F28: =SUMIF($Q$10:$AY$10,"="&F$10,$Q28:$AY28) -> 0 | G28: =SUMIF($Q$10:$AY$10,"="&G$10,$Q28:$AY28) -> 0 | H28: =IF(G28=0,"-%",F28/G28) -> -% | I28: =SUMIF($Q$10:$AY$10,"="&I$10,$Q28:$AY28) -> 0 | J28: =SUMIF($Q$10:$AY$10,"="&J$10,$Q28:$AY28) -> 0 | K28: =IF(J28=0,"-%",I28/J28) -> -% | L28: =SUMIF($Q$10:$AY$10,"="&L$10,$Q28:$AY28) -> 0 | M28: =SUMIF($Q$10:$AY$10,"="&M$10,$Q28:$AY28) -> 0 | N28: =SUMIF($Q$10:$AY$10,"="&N$10,$Q28:$AY28) -> 0 | O28: =SUMIF($Q$10:$AY$10,"="&O$10,$Q28:$AY28) -> 0 | P28: =SUMIF($Q$10:$AY$10,"="&P$10,$Q28:$AY28) -> 0

Sheet Stats Worksheet
D1: ='Stats Summary'!$C$1 -> [Enter Team Name]
D2: Game Statistics
C4: Date: | N4: Halftime Score | T4: Final Score
C5: Opponent: | M5: Us: | S5: Us:
C6: Team #: | M6: Them: | S6: Them:
C8: Team Fouls | I8: Bonus | L8: Double | S8: Time Outs
A9: 1st Half | C9: 1 | D9: 2 | E9: 3 | F9: 4 | G9: 5 | H9: 6 | I9: 7 | J9: 8 | K9: 9 | L9: 10 | M9: + | S9: 1 | T9: 2 | U9: 3
A10: 2nd Half | C10: 1 | D10: 2 | E10: 3 | F10: 4 | G10: 5 | H10: 6 | I10: 7 | J10: 8 | K10: 9 | L10: 10 | M10: + | S10: :30 | T10: :30
A12: # | B12: Player | G12: Fouls | J12: Field Goals | N12: 3 Pts | R12: Free Throws | V12: Rebounds | X12: Assists | Z12: Steals | AB12: Blocks | AD12: Pts
J13: Made | L13: Att | N13: Made | P13: Att | R13: Made | T13: Att
G14: 1 | H14: 2 | I14: 3
G15: 4 | H15: 5 | I15: 6
G16: 1 | H16: 2 | I16: 3
G17: 4 | H17: 5 | I17: 6
G18: 1 | H18: 2 | I18: 3
G19: 4 | H19: 5 | I19: 6
G20: 1 | H20: 2 | I20: 3
G21: 4 | H21: 5 | I21: 6
G22: 1 | H22: 2 | I22: 3
G23: 4 | H23: 5 | I23: 6
G24: 1 | H24: 2 | I24: 3
G25: 4 | H25: 5 | I25: 6
... G37: 4 | H37: 5 | I37: 6
A38: Totals
A40: Running Score | L40: Shot Chart
A41: 1 | B41: =A41+1 -> 2 | C41: =B41+1 -> 3 | D41: =C41+1 -> 4 | E41: =D41+1 -> 5 | F41: =E41+1 -> 6 | G41: =F41+1 -> 7 | H41: =G41+1 -> 8 | I41: =H41+1 -> 9 | J41: =I41+1 -> 10
A42: =J41+1 -> 11 | B42: =A42+1 -> 12 | C42: =B42+1 -> 13 | D42: =C42+1 -> 14 | E42: =D42+1 -> 15 | F42: =E42+1 -> 16 | G42: =F42+1 -> 17 | H42: =G42+1 -> 18 | I42: =H42+1 -> 19 | J42: =I42+1 -> 20
A43: =J42+1 -> 21 | B43: =A43+1 -> 22 | C43: =B43+1 -> 23 | D43: =C43+1 -> 24 | E43: =D43+1 -> 25 | F43: =E43+1 -> 26 | G43: =F43+1 -> 27 | H43: =G43+1 -> 28 | I43: =H43+1 -> 29 | J43: =I43+1 -> 30
A44: =J43+1 -> 31 | B44: =A44+1 -> 32 | C44: =B44+1 -> 33 | D44: =C44+1 -> 34 | E44: =D44+1 -> 35 | F44: =E44+1 -> 36 | G44: =F44+1 -> 37 | H44: =G44+1 -> 38 | I44: =H44+1 -> 39 | J44: =I44+1 -> 40
A45: =J44+1 -> 41 | B45: =A45+1 -> 42 | C45: =B45+1 -> 43 | D45: =C45+1 -> 44 | E45: =D45+1 -> 45 | F45: =E45+1 -> 46 | G45: =F45+1 -> 47 | H45: =G45+1 -> 48 | I45: =H45+1 -> 49 | J45: =I45+1 -> 50
A46: =J45+1 -> 51 | B46: =A46+1 -> 52 | C46: =B46+1 -> 53 | D46: =C46+1 -> 54 | E46: =D46+1 -> 55 | F46: =E46+1 -> 56 | G46: =F46+1 -> 57 | H46: =G46+1 -> 58 | I46: =H46+1 -> 59 | J46: =I46+1 -> 60
A47: =J46+1 -> 61 | B47: =A47+1 -> 62 | C47: =B47+1 -> 63 | D47: =C47+1 -> 64 | E47: =D47+1 -> 65 | F47: =E47+1 -> 66 | G47: =F47+1 -> 67 | H47: =G47+1 -> 68 | I47: =H47+1 -> 69 | J47: =I47+1 -> 70
A48: =J47+1 -> 71 | B48: =A48+1 -> 72 | C48: =B48+1 -> 73 | D48: =C48+1 -> 74 | E48: =D48+1 -> 75 | F48: =E48+1 -> 76 | G48: =F48+1 -> 77 | H48: =G48+1 -> 78 | I48: =H48+1 -> 79 | J48: =I48+1 -> 80
A49: =J48+1 -> 81 | B49: =A49+1 -> 82 | C49: =B49+1 -> 83 | D49: =C49+1 -> 84 | E49: =D49+1 -> 85 | F49: =E49+1 -> 86 | G49: =F49+1 -> 87 | H49: =G49+1 -> 88 | I49: =H49+1 -> 89 | J49: =I49+1 -> 90
A50: =J49+1 -> 91 | B50: =A50+1 -> 92 | C50: =B50+1 -> 93 | D50: =C50+1 -> 94 | E50: =D50+1 -> 95 | F50: =E50+1 -> 96 | G50: =F50+1 -> 97 | H50: =G50+1 -> 98 | I50: =H50+1 -> 99 | J50: =I50+1 -> 100

Sheet ©
B1: Basketball Team Roster Template
B3: By Vertex42.com
B4: https://www.vertex42.com/ExcelTemplates/basketball-roster.html
B6: © 2012-2021 Vertex42 LLC
B8: This spreadsheet, including all worksheets and associated content is a copyrighted work under the United States and other copyright laws.
B10: Do not submit copies or modifications of this template to any website or online template gallery.
B12: Please review the following license agreement to learn how you may or may not use this template. Thank you.
B14: License Agreement
B15: https://www.vertex42.com/licensing/EULA_privateuse.html
B17: Do not delete this worksheet
