Workbook

Sheet Data
B1: Info | F1: Full Data
B2: Games | C2: 6 | F2: {="Player "&_xlfn.SEQUENCE(C7)} -> Player 1 | G2: {=TRANSPOSE(IF(_xlfn.SEQUENCE(IF(MOD($C$6,$C$7)>0,($C$6/$C$7)+1,$C$6/$C$7),$C$7)>$C$6,"",_xlfn.SEQUENCE(IF(MOD($C$6,$C$7)>0,($C$6/$C$7)+1,$C$6/$C$7),$C$7)))} -> 1 | H2: 13 | I2: 25 | J2: 37 | K2: 49 | L2: 61 | M2: 73 | N2: 85 | O2: 97 | P2: 109 | Q2: 121 | R2: 133 | S2: 145 | T2: 157 | U2: 169 | V2: 181 | W2: 193 | X2: 205 | Y2: 217 | Z2: 229 | AA2: 241 | AB2: 253 | AC2: 265
B3: Periods per game | C3: 9 | F3: Player 2 | G3: 2 | H3: 14 | I3: 26 | J3: 38 | K3: 50 | L3: 62 | M3: 74 | N3: 86 | O3: 98 | P3: 110 | Q3: 122 | R3: 134 | S3: 146 | T3: 158 | U3: 170 | V3: 182 | W3: 194 | X3: 206 | Y3: 218 | Z3: 230 | AA3: 242 | AB3: 254 | AC3: 266
B4: Slots per period | C4: 5 | F4: Player 3 | G4: 3 | H4: 15 | I4: 27 | J4: 39 | K4: 51 | L4: 63 | M4: 75 | N4: 87 | O4: 99 | P4: 111 | Q4: 123 | R4: 135 | S4: 147 | T4: 159 | U4: 171 | V4: 183 | W4: 195 | X4: 207 | Y4: 219 | Z4: 231 | AA4: 243 | AB4: 255 | AC4: 267
B5: Slots per game | C5: =C4*C3 -> 45 | F5: Player 4 | G5: 4 | H5: 16 | I5: 28 | J5: 40 | K5: 52 | L5: 64 | M5: 76 | N5: 88 | O5: 100 | P5: 112 | Q5: 124 | R5: 136 | S5: 148 | T5: 160 | U5: 172 | V5: 184 | W5: 196 | X5: 208 | Y5: 220 | Z5: 232 | AA5: 244 | AB5: 256 | AC5: 268
B6: Slots per season | C6: =C5*C2 -> 270 | F6: Player 5 | G6: 5 | H6: 17 | I6: 29 | J6: 41 | K6: 53 | L6: 65 | M6: 77 | N6: 89 | O6: 101 | P6: 113 | Q6: 125 | R6: 137 | S6: 149 | T6: 161 | U6: 173 | V6: 185 | W6: 197 | X6: 209 | Y6: 221 | Z6: 233 | AA6: 245 | AB6: 257 | AC6: 269
B7: Players | C7: 12 | F7: Player 6 | G7: 6 | H7: 18 | I7: 30 | J7: 42 | K7: 54 | L7: 66 | M7: 78 | N7: 90 | O7: 102 | P7: 114 | Q7: 126 | R7: 138 | S7: 150 | T7: 162 | U7: 174 | V7: 186 | W7: 198 | X7: 210 | Y7: 222 | Z7: 234 | AA7: 246 | AB7: 258 | AC7: 270
B8: Periods per player per game | C8: =ROUNDDOWN(C5/C7,0) -> 3 | F8: Player 7 | G8: 7 | H8: 19 | I8: 31 | J8: 43 | K8: 55 | L8: 67 | M8: 79 | N8: 91 | O8: 103 | P8: 115 | Q8: 127 | R8: 139 | S8: 151 | T8: 163 | U8: 175 | V8: 187 | W8: 199 | X8: 211 | Y8: 223 | Z8: 235 | AA8: 247 | AB8: 259
B9: Players with extra period | C9: =MOD(C5,C7) -> 9 | F9: Player 8 | G9: 8 | H9: 20 | I9: 32 | J9: 44 | K9: 56 | L9: 68 | M9: 80 | N9: 92 | O9: 104 | P9: 116 | Q9: 128 | R9: 140 | S9: 152 | T9: 164 | U9: 176 | V9: 188 | W9: 200 | X9: 212 | Y9: 224 | Z9: 236 | AA9: 248 | AB9: 260
B10: Periods per player per season | C10: =ROUNDDOWN(PRODUCT(C2:C4)/C7,0) -> 22 | F10: Player 9 | G10: 9 | H10: 21 | I10: 33 | J10: 45 | K10: 57 | L10: 69 | M10: 81 | N10: 93 | O10: 105 | P10: 117 | Q10: 129 | R10: 141 | S10: 153 | T10: 165 | U10: 177 | V10: 189 | W10: 201 | X10: 213 | Y10: 225 | Z10: 237 | AA10: 249 | AB10: 261
B11: Players with extra period | C11: =MOD(PRODUCT(C2:C4),C7) -> 6 | F11: Player 10 | G11: 10 | H11: 22 | I11: 34 | J11: 46 | K11: 58 | L11: 70 | M11: 82 | N11: 94 | O11: 106 | P11: 118 | Q11: 130 | R11: 142 | S11: 154 | T11: 166 | U11: 178 | V11: 190 | W11: 202 | X11: 214 | Y11: 226 | Z11: 238 | AA11: 250 | AB11: 262
F12: Player 11 | G12: 11 | H12: 23 | I12: 35 | J12: 47 | K12: 59 | L12: 71 | M12: 83 | N12: 95 | O12: 107 | P12: 119 | Q12: 131 | R12: 143 | S12: 155 | T12: 167 | U12: 179 | V12: 191 | W12: 203 | X12: 215 | Y12: 227 | Z12: 239 | AA12: 251 | AB12: 263
F13: Player 12 | G13: 12 | H13: 24 | I13: 36 | J13: 48 | K13: 60 | L13: 72 | M13: 84 | N13: 96 | O13: 108 | P13: 120 | Q13: 132 | R13: 144 | S13: 156 | T13: 168 | U13: 180 | V13: 192 | W13: 204 | X13: 216 | Y13: 228 | Z13: 240 | AA13: 252 | AB13: 264

Sheet By Game
A1: Game | B1: 5 | G1: Period 2
A2: Period | B2: Slot | C2: Player | G2: Slot | H2: Player | T2: {=_xlfn._xlws.FILTER(_xlfn.ANCHORARRAY(A3),_xlfn.ANCHORARRAY(A3)<>"")} -> Period 1
A3: {=IF(_xlfn.ANCHORARRAY(B3)=1,"Period "&ROUNDDOWN(_xlfn.SEQUENCE(Data!$C$5,,1,1/Data!$C$4),0),"")} -> Period 1 | B3: {=IF(MOD(_xlfn.SEQUENCE(Data!$C$5),Data!$C$4)=0,Data!$C$4,MOD(_xlfn.SEQUENCE(Data!$C$5),Data!$C$4))} -> 1 | C3: {="Player "&IF(MOD(_xlfn.SEQUENCE(Data!$C$5,1,(B1-1)*Data!$C$5+1),Data!$C$7)=0,Data!$C$7,MOD(_xlfn.SEQUENCE(Data!$C$5,1,(B1-1)*Data!$C$5+1),Data!$C$7))} -> Player 1 | G3: {=_xlfn.SEQUENCE(Data!C4)} -> 1 | H3: {=OFFSET(INDIRECT(ADDRESS(_xlfn.XMATCH(G1,A:A,0),3)),,,Data!C4)} -> Player 6 | T3: Period 2
B4: 2 | C4: Player 2 | G4: 2 | H4: Player 7 | T4: Period 3
B5: 3 | C5: Player 3 | G5: 3 | H5: Player 8 | T5: Period 4
B6: 4 | C6: Player 4 | G6: 4 | H6: Player 9 | T6: Period 5
B7: 5 | C7: Player 5 | G7: 5 | H7: Player 10 | T7: Period 6
A8: Period 2 | B8: 1 | C8: Player 6 | T8: Period 7
B9: 2 | C9: Player 7 | T9: Period 8
B10: 3 | C10: Player 8 | T10: Period 9
B11: 4 | C11: Player 9
B12: 5 | C12: Player 10
A13: Period 3 | B13: 1 | C13: Player 11
B14: 2 | C14: Player 12
B15: 3 | C15: Player 1
B16: 4 | C16: Player 2
B17: 5 | C17: Player 3
A18: Period 4 | B18: 1 | C18: Player 4
B19: 2 | C19: Player 5
B20: 3 | C20: Player 6
B21: 4 | C21: Player 7
B22: 5 | C22: Player 8
A23: Period 5 | B23: 1 | C23: Player 9
B24: 2 | C24: Player 10
B25: 3 | C25: Player 11
B26: 4 | C26: Player 12
B27: 5 | C27: Player 1
A28: Period 6 | B28: 1 | C28: Player 2
B29: 2 | C29: Player 3
B30: 3 | C30: Player 4
B31: 4 | C31: Player 5
B32: 5 | C32: Player 6
A33: Period 7 | B33: 1 | C33: Player 7
B34: 2 | C34: Player 8
B35: 3 | C35: Player 9
B36: 4 | C36: Player 10
B37: 5 | C37: Player 11
A38: Period 8 | B38: 1 | C38: Player 12
B39: 2 | C39: Player 1
B40: 3 | C40: Player 2
...

Sheet By Player
A1: Player 12 | B1: =COUNTA(_xlfn.ANCHORARRAY(A3))&" slots played" -> 22 slots played
A2: Overall Slot | B2: Game | C2: Period | D2: Slot
A3: {=_xlfn._xlws.FILTER(TRANSPOSE(_xlfn._xlws.FILTER(_xlfn.ANCHORARRAY(Data!G2),_xlfn.ANCHORARRAY(Data!F2)=A1)),TRANSPOSE(_xlfn._xlws.FILTER(_xlfn.ANCHORARRAY(Data!G2),_xlfn.ANCHORARRAY(Data!F2)=A1))<>"")} -> 12 | B3: {=ROUNDUP(_xlfn.ANCHORARRAY(A3)/Data!C5,0)} -> 1 | C3: {=IF(MOD(ROUNDUP(_xlfn.ANCHORARRAY(A3)/Data!C4,0),Data!C3)=0,Data!C3,MOD(ROUNDUP(_xlfn.ANCHORARRAY(A3)/Data!C4,0),Data!C3))} -> 3 | D3: {=IF(MOD(_xlfn.ANCHORARRAY(A3),Data!C4)=0,Data!C4,MOD(_xlfn.ANCHORARRAY(A3),Data!C4))} -> 2
A4: 24 | B4: 1 | C4: 5 | D4: 4
A5: 36 | B5: 1 | C5: 8 | D5: 1
A6: 48 | B6: 2 | C6: 1 | D6: 3
A7: 60 | B7: 2 | C7: 3 | D7: 5
A8: 72 | B8: 2 | C8: 6 | D8: 2
A9: 84 | B9: 2 | C9: 8 | D9: 4
A10: 96 | B10: 3 | C10: 2 | D10: 1
A11: 108 | B11: 3 | C11: 4 | D11: 3
A12: 120 | B12: 3 | C12: 6 | D12: 5
A13: 132 | B13: 3 | C13: 9 | D13: 2
A14: 144 | B14: 4 | C14: 2 | D14: 4
A15: 156 | B15: 4 | C15: 5 | D15: 1
... A24: 264 | B24: 6 | C24: 8 | D24: 4

Sheet Roster for Season
A1: Game | B1: Period | C1: Slot | D1: Player | G1: Period | J1: Player | M1: Game
A2: {=IF(_xlfn.ANCHORARRAY(B2)<>"",IF(RIGHT(_xlfn.ANCHORARRAY(B2),1)*1=1,MROUND(_xlfn.SEQUENCE(Data!$C$6,,1,1/Data!$C$5),1),""),"")} -> 1 | B2: {=IF(_xlfn.ANCHORARRAY(C2)=1,IF(MROUND(MOD(_xlfn.SEQUENCE(Data!C6,,,1/Data!C4),Data!C3),1)=0,Data!C3,MROUND(MOD(_xlfn.SEQUENCE(Data!C6,,,1/Data!C4),Data!C3),1)),"")} -> 1 | C2: {=IF(MOD(_xlfn.SEQUENCE(Data!$C$6),Data!$C$4)=0,Data!$C$4,MOD(_xlfn.SEQUENCE(Data!$C$6),Data!$C$4))} -> 1 | D2: {=IF(MOD(_xlfn.SEQUENCE(Data!$C$6,1),Data!$C$7)=0,Data!$C$7,MOD(_xlfn.SEQUENCE(Data!$C$6,1),Data!$C$7))} -> 1 | G2: {=_xlfn._xlws.SORT(_xlfn.UNIQUE(_xlfn._xlws.FILTER(_xlfn.ANCHORARRAY(B2),_xlfn.ANCHORARRAY(B2)<>"")))} -> 1 | H2: {=COUNTIF(_xlfn.ANCHORARRAY(B2),_xlfn.ANCHORARRAY(G2))} -> 6 | J2: {=_xlfn.UNIQUE(_xlfn.ANCHORARRAY(D2))} -> 1 | K2: {=COUNTIF(_xlfn.ANCHORARRAY(D2),_xlfn.ANCHORARRAY(J2))} -> 23 | M2: {=_xlfn._xlws.SORT(_xlfn.UNIQUE(_xlfn._xlws.FILTER(_xlfn.ANCHORARRAY(A2),_xlfn.ANCHORARRAY(A2)<>"")))} -> 1 | N2: {=COUNTIF(_xlfn.ANCHORARRAY(A2),_xlfn.ANCHORARRAY(M2))} -> 1
C3: 2 | D3: 2 | G3: 2 | H3: 6 | J3: 2 | K3: 23 | M3: 2 | N3: 1
C4: 3 | D4: 3 | G4: 3 | H4: 6 | J4: 3 | K4: 23 | M4: 3 | N4: 1
C5: 4 | D5: 4 | G5: 4 | H5: 6 | J5: 4 | K5: 23 | M5: 4 | N5: 1
C6: 5 | D6: 5 | G6: 5 | H6: 6 | J6: 5 | K6: 23 | M6: 5 | N6: 1
B7: 2 | C7: 1 | D7: 6 | G7: 6 | H7: 6 | J7: 6 | K7: 23 | M7: 6 | N7: 1
C8: 2 | D8: 7 | G8: 7 | H8: 6 | J8: 7 | K8: 22
C9: 3 | D9: 8 | G9: 8 | H9: 6 | J9: 8 | K9: 22
C10: 4 | D10: 9 | G10: 9 | H10: 6 | J10: 9 | K10: 22
C11: 5 | D11: 10 | J11: 10 | K11: 22
B12: 3 | C12: 1 | D12: 11 | J12: 11 | K12: 22
C13: 2 | D13: 12 | J13: 12 | K13: 22
C14: 3 | D14: 1
C15: 4 | D15: 2
C16: 5 | D16: 3
B17: 4 | C17: 1 | D17: 4
C18: 2 | D18: 5
C19: 3 | D19: 6
C20: 4 | D20: 7
C21: 5 | D21: 8
B22: 5 | C22: 1 | D22: 9
C23: 2 | D23: 10
C24: 3 | D24: 11
C25: 4 | D25: 12
C26: 5 | D26: 1
B27: 6 | C27: 1 | D27: 2
C28: 2 | D28: 3
C29: 3 | D29: 4
C30: 4 | D30: 5
C31: 5 | D31: 6
B32: 7 | C32: 1 | D32: 7
C33: 2 | D33: 8
C34: 3 | D34: 9
C35: 4 | D35: 10
C36: 5 | D36: 11
B37: 8 | C37: 1 | D37: 12
C38: 2 | D38: 1
C39: 3 | D39: 2
C40: 4 | D40: 3
...
